{"text_format":"1","workbook":"xlsx","n_sheets":17,"sheets":["マクロ","使い方","4月","5月","6月","7月","8月","9月","10月","11月","12月","1月","2月","3月","年間","通年PDF作成用","通年PDF作成用3回以上"],"not_rendered":{"charts":0,"images":2,"macros":0,"external_links":0,"defined_names":4,"comments":0,"pivot_tables":0},"unopened":[],"bounds":{"document_bytes":16777216,"sheet_cells":100000,"rows_first":2000,"rows_last":500,"rows_between":2000,"halvings":0,"cell_chars":16384,"cell_head_chars":4096},"cells_cut":0,"cells_raw":0,"read":"whole","date_system":"1900"}

{"sheet":"マクロ","index":0,"n_rows":8,"n_cols":15,"rows_kept":8,"cut":false,"hidden":true,"merged":[[1,3,5,5],[7,3,11,5],[1,14,7,22]]}
[]
[null,null,null,"CTR+h",null,null,null,null,null,null,null,null,null,null,"１年分の月例報告書をまとめて\n【令和〇\"食堂名\"年間実績報告書】名のＰＤＦファイルにし\n\"P:\\06 個人フォルダ\\岡村\\★★子どもの未来応援コーディネーター\\■■子ども食堂\\★子ども食堂月例報告\\■■■■■■■子ども食堂月例報告【R7年度】\\年間PDFフォルダに保存します"]
[]
[]
[]
[]
[]
[null,null,null,"CTR+U"]

{"sheet":"使い方","index":1,"n_rows":0,"n_cols":0,"rows_kept":0,"cut":false,"hidden":false,"merged":[]}

{"sheet":"4月","index":2,"n_rows":106,"n_cols":22,"rows_kept":106,"cut":false,"hidden":false,"merged":[[83,1,83,14],[83,15,83,19],[84,1,88,14],[84,15,88,19],[72,6,72,8],[79,5,79,9],[79,10,79,12],[80,5,80,9],[80,10,80,12],[80,14,80,16],[80,18,80,19],[74,15,74,17],[74,18,74,19],[75,6,75,9],[75,10,75,12],[75,15,75,19],[76,6,76,9],[76,10,76,12],[76,15,79,19],[82,5,82,19],[81,5,81,9],[81,10,81,12],[81,14,81,16],[81,18,81,19],[58,2,59,3],[62,1,63,1],[62,4,63,4],[65,1,65,14],[65,15,65,19],[60,10,60,12],[61,5,61,9],[62,18,62,19],[63,5,63,9],[60,2,61,3],[62,2,63,3],[50,1,54,14],[50,15,54,19],[46,4,47,4],[46,5,46,9],[46,10,46,12],[46,14,46,16],[46,18,46,19],[47,5,47,9],[47,10,47,12],[47,14,47,16],[47,18,47,19],[46,2,47,3],[28,14,28,16],[38,14,38,18],[39,5,44,5],[44,6,44,9],[42,6,42,9],[44,2,45,3],[28,2,29,3],[43,6,43,9],[49,1,49,14],[49,15,49,19],[31,1,31,14],[31,15,31,19],[32,1,36,14],[39,14,45,14],[39,15,39,19],[40,15,40,17],[40,18,40,19],[41,15,41,19],[42,15,45,19],[41,10,41,12],[39,6,39,9],[37,1,37,19],[38,3,38,5],[38,9,38,12],[66,15,70,19],[76,2,77,3],[80,1,81,1],[80,4,81,4],[77,6,77,9],[77,10,77,12],[78,6,78,9],[78,10,78,12],[74,6,74,9],[71,1,71,19],[0,1,0,4],[0,5,1,19],[3,3,3,19],[7,15,7,19],[26,10,26,12],[27,5,27,9],[27,10,27,12],[28,5,28,9],[28,10,28,12],[21,6,21,9],[21,10,21,12],[21,15,21,19],[22,6,22,9],[22,10,22,12],[22,15,22,17],[22,18,22,19],[25,6,25,9],[25,10,25,12],[24,6,24,9],[24,10,24,12],[12,1,13,1],[23,10,23,12],[15,1,15,14],[15,15,15,19],[4,21,4,26],[4,14,4,18],[5,15,5,19],[6,6,6,9],[6,10,6,12],[6,15,6,17],[6,18,6,19],[21,14,27,14],[24,15,27,19],[11,5,11,9],[11,10,11,12],[12,5,12,9],[12,10,12,12],[12,18,12,19],[13,10,13,12],[13,18,13,19],[13,5,13,9],[23,6,23,9],[5,6,5,9],[5,10,5,12],[16,15,20,19],[16,1,20,14],[24,2,25,3],[23,15,23,19],[4,3,4,5],[5,14,11,14],[8,15,11,19],[12,14,12,16],[13,14,13,16],[7,6,7,9],[7,10,7,12],[8,6,8,9],[8,10,8,12],[9,10,9,12],[10,10,10,12],[4,9,4,12],[10,2,11,3],[12,4,13,4],[8,2,9,3],[12,2,13,3],[2,3,2,6],[4,6,4,8],[74,10,74,12],[26,2,27,3],[26,6,26,9],[5,5,10,5],[9,6,9,9],[10,6,10,9],[48,5,48,19],[44,10,44,12],[42,10,42,12],[45,5,45,9],[45,10,45,12],[28,18,28,19],[29,10,29,12],[29,14,29,16],[29,18,29,19],[39,10,39,12],[40,6,40,9],[40,10,40,12],[29,5,29,9],[30,5,30,19],[41,6,41,9],[2,8,2,19],[78,2,79,3],[80,2,81,3],[72,3,72,5],[72,9,72,12],[72,14,72,18],[73,5,78,5],[105,1,105,19],[89,1,104,19],[56,10,56,12],[57,10,57,12],[56,18,56,19],[61,10,61,12],[62,5,62,9],[62,10,62,12],[62,14,62,16],[63,10,63,12],[63,14,63,16],[63,18,63,19],[64,5,64,19],[73,6,73,9],[73,10,73,12],[73,14,79,14],[73,15,73,19],[66,1,70,14],[43,10,43,12],[38,6,38,8],[55,5,60,5],[55,6,55,9],[55,14,61,14],[32,15,36,19],[42,2,43,3],[46,1,47,1],[14,5,14,19],[21,5,26,5],[55,15,55,19],[56,6,56,9],[56,15,56,17],[57,6,57,9],[57,15,57,19],[58,6,58,9],[58,10,58,12],[58,15,61,19],[59,6,59,9],[59,10,59,12],[60,6,60,9],[55,10,55,12],[28,1,29,1],[28,4,29,4]]}
[null,"（様式第1２号）",null,null,null,"事業実施月の翌月8日までにメール、FAXなどで提出してください。\nEmail：kodosei@city.hirakata.osaka.jp  FAX：072-843-2244"]
[]
[null,null,null,"令和",null,null,null,8,"年度　子どもの居場所づくり推進事業"]
[null,null,null,"月　例　報　告　書"]
[null,null,"（　",4,null,null,"月）- ①　",null,null,"食堂名",null,null,null,"(","食堂名",null,null,null,null,")",null,"←４月に食堂名を入れてください"]
[null,1,null,null,null,"参加人数","幼児",null,null,null,null,null,null,"人","食事","子どもへの準備食数"]
[null,null,null,null,null,null,"小学生",null,null,null,null,null,null,"人",null,null,null,null,"食"]
[null,null,null,null,null,null,"中学生",null,null,null,null,null,null,"人",null,"＜献立＞"]
[null,null,null,null,null,null,"中学校卒業後の\n子ども（※）",null,null,null,null,null,null,"人"]
[null,null,null,null,null,null,"小計",null,null,null,{"$f":"K6+K7+K8+K9","v":0},null,null,"人"]
[null,null,"日",null,null,null,"大人",null,null,null,null,null,null,"人"]
[null,null,null,null,null,"スタッフ数\n（ボランティアも含めて記入）",null,null,null,null,null,null,null,"人"]
[null,"(",null,null,")","参加費収入",null,null,null,null,null,null,null,"人分",null,null,null,"円"]
[null,null,null,null,null,"スタッフ等謝礼金支払い",null,null,null,null,null,null,null,"人分",null,null,null,"円"]
[null,null,null,null,null,"○上記の「参加費収入」と「ｽﾀｯﾌ等謝礼金」の金額は、\n各回の出納帳に記載する金額と一致させてください。"]
[null,"自由記入欄（実施の効果や課題など）",null,null,null,null,null,null,null,null,null,null,null,null,null,"（充実経費の効果）"]
[]
[]
[]
[]
[]
[null,2,null,null,null,"参加人数","幼児",null,null,null,null,null,null,"人","食事","子どもへの準備食数"]
[null,null,null,null,null,null,"小学生",null,null,null,null,null,null,"人",null,null,null,null,"食"]
[null,null,null,null,null,null,"中学生",null,null,null,null,null,null,"人",null,"＜献立＞"]
[null,null,null,null,null,null,"中学校卒業後の\n子ども（※）",null,null,null,null,null,null,"人"]
[null,null,null,null,null,null,"小計",null,null,null,{"$f":"K22+K23+K24+K25","v":0},null,null,"人"]
[null,null,"日",null,null,null,"大人",null,null,null,null,null,null,"人"]
[null,null,null,null,null,"スタッフ数\n（ボランティアも含めて記入）",null,null,null,null,null,null,null,"人"]
[null,"(",null,null,")","参加費収入",null,null,null,null,null,null,null,"人分",null,null,null,"円"]
[null,null,null,null,null,"スタッフ等謝礼金支払い",null,null,null,null,null,null,null,"人分",null,null,null,"円"]
[null,null,null,null,null,"○上記の「参加費収入」と「ｽﾀｯﾌ等謝礼金」の金額は、\n各回の出納帳に記載する金額と一致させてください。"]
[null,"自由記入欄（実施の効果や課題など）",null,null,null,null,null,null,null,null,null,null,null,null,null,"（充実経費の効果）"]
[]
[]
[]
[]
[]
[null,"※中学校卒業後から１８歳に達する日以後の最初の３月３１日までにある子ども。高校生など。"]
[null,null,"（　",{"$f":"D5","v":4},null,null,"月）- ②　",null,null,"食堂名",null,null,null,"(",{"$f":"O5","v":"食堂名"},null,null,null,null,")"]
[null,3,null,null,null,"参加人数","幼児",null,null,null,null,null,null,"人","食事","子どもへの準備食数"]
[null,null,null,null,null,null,"小学生",null,null,null,null,null,null,"人",null,null,null,null,"食"]
[null,null,null,null,null,null,"中学生",null,null,null,null,null,null,"人",null,"＜献立＞"]
[null,null,null,null,null,null,"中学校卒業後の\n子ども（※）",null,null,null,null,null,null,"人"]
[null,null,null,null,null,null,"小計",null,null,null,{"$f":"K40+K41+K42+K43","v":0},null,null,"人"]
[null,null,"日",null,null,null,"大人",null,null,null,null,null,null,"人"]
[null,null,null,null,null,"スタッフ数\n（ボランティアも含めて記入）",null,null,null,null,null,null,null,"人"]
[null,"(",null,null,")","参加費収入",null,null,null,null,null,null,null,"人分",null,null,null,"円"]
[null,null,null,null,null,"スタッフ等謝礼金支払い",null,null,null,null,null,null,null,"人分",null,null,null,"円"]
[null,null,null,null,null,"○上記の「参加費収入」と「ｽﾀｯﾌ等謝礼金」の金額は、\n各回の出納帳に記載する金額と一致させてください。"]
[null,"自由記入欄（実施の効果や課題など）",null,null,null,null,null,null,null,null,null,null,null,null,null,"（充実経費の効果）"]
[]
[]
[]
[]
[]
[null,4,null,null,null,"参加人数","幼児",null,null,null,null,null,null,"人","食事","子どもへの準備食数"]
[null,null,null,null,null,null,"小学生",null,null,null,null,null,null,"人",null,null,null,null,"食"]
[null,null,null,null,null,null,"中学生",null,null,null,null,null,null,"人",null,"＜献立＞"]
[null,null,null,null,null,null,"中学校卒業後の\n子ども（※）",null,null,null,null,null,null,"人"]
[null,null,null,null,null,null,"小計",null,null,null,{"$f":"K56+K57+K58+K59","v":0},null,null,"人"]
[null,null,"日",null,null,null,"大人",null,null,null,null,null,null,"人"]
[null,null,null,null,null,"スタッフ数\n（ボランティアも含めて記入）",null,null,null,null,null,null,null,"人"]
[null,"(",null,null,")","参加費収入",null,null,null,null,null,null,null,"人分",null,null,null,"円"]
[null,null,null,null,null,"スタッフ等謝礼金支払い",null,null,null,null,null,null,null,"人分",null,null,null,"円"]
[null,null,null,null,null,"○上記の「参加費収入」と「ｽﾀｯﾌ等謝礼金」の金額は、\n各回の出納帳に記載する金額と一致させてください。"]
[null,"自由記入欄（実施の効果や課題など）",null,null,null,null,null,null,null,null,null,null,null,null,null,"（充実経費の効果）"]
[]
[]
[]
[]
[]
[null,"※中学校卒業後から１８歳に達する日以後の最初の３月３１日までにある子ども。高校生など。"]
[null,null,"（　",{"$f":"D39","v":4},null,null,"月）- ③　",null,null,"食堂名",null,null,null,"(",{"$f":"O5","v":"食堂名"},null,null,null,null,")"]
[null,5,null,null,null,"参加人数","幼児",null,null,null,null,null,null,"人","食事","子どもへの準備食数"]
[null,null,null,null,null,null,"小学生",null,null,null,null,null,null,"人",null,null,null,null,"食"]
[null,null,null,null,null,null,"中学生",null,null,null,null,null,null,"人",null,"＜献立＞"]
[null,null,null,null,null,null,"中学校卒業後の\n子ども（※）",null,null,null,null,null,null,"人"]
[null,null,null,null,null,null,"小計",null,null,null,{"$f":"K74+K75+K76+K77","v":0},null,null,"人"]
[null,null,"日",null,null,null,"大人",null,null,null,null,null,null,"人"]
[null,null,null,null,null,"スタッフ数\n（ボランティアも含めて記入）",null,null,null,null,null,null,null,"人"]
[null,"(",null,null,")","参加費収入",null,null,null,null,null,null,null,"人分",null,null,null,"円"]
[null,null,null,null,null,"スタッフ等謝礼金支払い",null,null,null,null,null,null,null,"人分",null,null,null,"円"]
[null,null,null,null,null,"○上記の「参加費収入」と「ｽﾀｯﾌ等謝礼金」の金額は、\n各回の出納帳に記載する金額と一致させてください。"]
[null,"自由記入欄（実施の効果や課題など）",null,null,null,null,null,null,null,null,null,null,null,null,null,"（充実経費の効果）"]
[]
[]
[]
[]
[]
[]
[]
[]
[]
[]
[]
[]
[]
[]
[]
[]
[]
[]
[]
[]
[]
[null,"※中学校卒業後から１８歳に達する日以後の最初の３月３１日までにある子ども。高校生など。"]

{"sheet":"5月","index":3,"n_rows":106,"n_cols":20,"rows_kept":106,"cut":false,"hidden":false,"merged":[[80,1,81,1],[80,4,81,4],[83,1,83,14],[83,15,83,19],[84,1,88,14],[84,15,88,19],[50,15,54,19],[58,2,59,3],[62,1,63,1],[62,4,63,4],[65,1,65,14],[65,15,65,19],[66,1,70,14],[66,15,70,19],[76,2,77,3],[64,5,64,19],[72,3,72,5],[72,6,72,8],[72,9,72,12],[72,14,72,18],[71,1,71,19],[81,5,81,9],[81,10,81,12],[81,14,81,16],[24,2,25,3],[28,1,29,1],[28,4,29,4],[23,10,23,12],[24,10,24,12],[21,5,26,5],[21,14,27,14],[21,15,21,19],[22,15,22,17],[22,18,22,19],[21,6,21,9],[21,10,21,12],[22,6,22,9],[22,10,22,12],[23,6,23,9],[23,15,23,19],[24,6,24,9],[24,15,27,19],[28,10,28,12],[28,14,28,16],[28,18,28,19],[27,5,27,9],[27,10,27,12],[29,5,29,9],[12,1,13,1],[12,4,13,4],[15,1,15,14],[15,15,15,19],[16,1,20,14],[16,15,20,19],[11,5,11,9],[11,10,11,12],[12,5,12,9],[12,10,12,12],[14,5,14,19],[12,14,12,16],[12,18,12,19],[13,5,13,9],[13,10,13,12],[13,14,13,16],[13,18,13,19],[4,3,4,5],[4,14,4,18],[5,5,10,5],[5,6,5,9],[5,10,5,12],[5,14,11,14],[5,15,5,19],[6,6,6,9],[6,10,6,12],[6,15,6,17],[6,18,6,19],[7,6,7,9],[7,10,7,12],[8,6,8,9],[8,10,8,12],[8,15,11,19],[9,6,9,9],[10,10,10,12],[9,10,9,12],[8,2,9,3],[10,6,10,9],[44,6,44,9],[44,10,44,12],[46,10,46,12],[59,6,59,9],[59,10,59,12],[60,6,60,9],[60,10,60,12],[45,10,45,12],[47,10,47,12],[45,5,45,9],[46,5,46,9],[47,5,47,9],[50,1,54,14],[48,5,48,19],[46,14,46,16],[46,18,46,19],[47,14,47,16],[47,18,47,19],[46,1,47,1],[46,4,47,4],[0,1,0,4],[0,5,1,19],[2,3,2,6],[2,8,2,19],[3,3,3,19],[4,6,4,8],[7,15,7,19],[4,9,4,12],[49,1,49,14],[49,15,49,19],[25,6,25,9],[26,6,26,9],[26,10,26,12],[25,10,25,12],[40,10,40,12],[40,18,40,19],[39,10,39,12],[30,5,30,19],[31,1,31,14],[31,15,31,19],[32,1,36,14],[32,15,36,19],[42,2,43,3],[28,5,28,9],[29,10,29,12],[29,14,29,16],[29,18,29,19],[26,2,27,3],[58,15,61,19],[38,3,38,5],[38,6,38,8],[38,9,38,12],[38,14,38,18],[39,5,44,5],[39,6,39,9],[39,14,45,14],[39,15,39,19],[40,6,40,9],[40,15,40,17],[41,6,41,9],[41,10,41,12],[41,15,41,19],[42,6,42,9],[42,10,42,12],[42,15,45,19],[43,6,43,9],[43,10,43,12],[37,1,37,19],[62,18,62,19],[63,5,63,9],[63,14,63,16],[63,18,63,19],[55,5,60,5],[55,6,55,9],[55,10,55,12],[55,14,61,14],[55,15,55,19],[56,6,56,9],[56,10,56,12],[56,15,56,17],[56,18,56,19],[57,6,57,9],[57,10,57,12],[57,15,57,19],[58,6,58,9],[58,10,58,12],[63,10,63,12],[61,10,61,12],[62,10,62,12],[61,5,61,9],[62,5,62,9],[62,14,62,16],[74,6,74,9],[74,10,74,12],[74,15,74,17],[74,18,74,19],[75,6,75,9],[75,10,75,12],[75,15,75,19],[76,6,76,9],[76,10,76,12],[76,15,79,19],[77,6,77,9],[77,10,77,12],[78,6,78,9],[78,10,78,12],[105,1,105,19],[10,2,11,3],[12,2,13,3],[28,2,29,3],[44,2,45,3],[46,2,47,3],[60,2,61,3],[62,2,63,3],[78,2,79,3],[80,2,81,3],[89,1,104,19],[82,5,82,19],[79,5,79,9],[79,10,79,12],[80,5,80,9],[80,10,80,12],[80,14,80,16],[80,18,80,19],[81,18,81,19],[73,5,78,5],[73,6,73,9],[73,10,73,12],[73,14,79,14],[73,15,73,19]]}
[null,"（様式第1２号）",null,null,null,"事業実施月の翌月8日までにメール、FAXなどで提出してください。\nEmail：kodosei@city.hirakata.osaka.jp  FAX：072-843-2244"]
[]
[null,null,null,"令和",null,null,null,8,"年度　子どもの居場所づくり推進事業"]
[null,null,null,"月　例　報　告　書"]
[null,null,"（　",5,null,null,"月）- ①　",null,null,"食堂名",null,null,null,"(",{"$f":"'4月'!O5","v":"食堂名"},null,null,null,null,")"]
[null,1,null,null,null,"参加人数","幼児",null,null,null,null,null,null,"人","食事","子どもへの準備食数"]
[null,null,null,null,null,null,"小学生",null,null,null,null,null,null,"人",null,null,null,null,"食"]
[null,null,null,null,null,null,"中学生",null,null,null,null,null,null,"人",null,"＜献立＞"]
[null,null,null,null,null,null,"中学校卒業後の\n子ども（※）",null,null,null,null,null,null,"人"]
[null,null,null,null,null,null,"小計",null,null,null,{"$f":"K6+K7+K8+K9","v":0},null,null,"人"]
[null,null,"日",null,null,null,"大人",null,null,null,null,null,null,"人"]
[null,null,null,null,null,"スタッフ数\n（ボランティアも含めて記入）",null,null,null,null,null,null,null,"人"]
[null,"(",null,null,")","参加費収入",null,null,null,null,null,null,null,"人分",null,null,null,"円"]
[null,null,null,null,null,"スタッフ等謝礼金支払い",null,null,null,null,null,null,null,"人分",null,null,null,"円"]
[null,null,null,null,null,"○上記の「参加費収入」と「ｽﾀｯﾌ等謝礼金」の金額は、\n各回の出納帳に記載する金額と一致させてください。"]
[null,"自由記入欄（実施の効果や課題など）",null,null,null,null,null,null,null,null,null,null,null,null,null,"（充実経費の効果）"]
[]
[]
[]
[]
[]
[null,2,null,null,null,"参加人数","幼児",null,null,null,null,null,null,"人","食事","子どもへの準備食数"]
[null,null,null,null,null,null,"小学生",null,null,null,null,null,null,"人",null,null,null,null,"食"]
[null,null,null,null,null,null,"中学生",null,null,null,null,null,null,"人",null,"＜献立＞"]
[null,null,null,null,null,null,"中学校卒業後の\n子ども（※）",null,null,null,null,null,null,"人"]
[null,null,null,null,null,null,"小計",null,null,null,{"$f":"K22+K23+K24+K25","v":0},null,null,"人"]
[null,null,"日",null,null,null,"大人",null,null,null,null,null,null,"人"]
[null,null,null,null,null,"スタッフ数\n（ボランティアも含めて記入）",null,null,null,null,null,null,null,"人"]
[null,"(",null,null,")","参加費収入",null,null,null,null,null,null,null,"人分",null,null,null,"円"]
[null,null,null,null,null,"スタッフ等謝礼金支払い",null,null,null,null,null,null,null,"人分",null,null,null,"円"]
[null,null,null,null,null,"○上記の「参加費収入」と「ｽﾀｯﾌ等謝礼金」の金額は、\n各回の出納帳に記載する金額と一致させてください。"]
[null,"自由記入欄（実施の効果や課題など）",null,null,null,null,null,null,null,null,null,null,null,null,null,"（充実経費の効果）"]
[]
[]
[]
[]
[]
[null,"※中学校卒業後から１８歳に達する日以後の最初の３月３１日までにある子ども。高校生など。"]
[null,null,"（　",{"$f":"D5","v":5},null,null,"月）- ②　",null,null,"食堂名",null,null,null,"(",{"$f":"O5","v":"食堂名"},null,null,null,null,")"]
[null,3,null,null,null,"参加人数","幼児",null,null,null,null,null,null,"人","食事","子どもへの準備食数"]
[null,null,null,null,null,null,"小学生",null,null,null,null,null,null,"人",null,null,null,null,"食"]
[null,null,null,null,null,null,"中学生",null,null,null,null,null,null,"人",null,"＜献立＞"]
[null,null,null,null,null,null,"中学校卒業後の\n子ども（※）",null,null,null,null,null,null,"人"]
[null,null,null,null,null,null,"小計",null,null,null,{"$f":"K40+K41+K42+K43","v":0},null,null,"人"]
[null,null,"日",null,null,null,"大人",null,null,null,null,null,null,"人"]
[null,null,null,null,null,"スタッフ数\n（ボランティアも含めて記入）",null,null,null,null,null,null,null,"人"]
[null,"(",null,null,")","参加費収入",null,null,null,null,null,null,null,"人分",null,null,null,"円"]
[null,null,null,null,null,"スタッフ等謝礼金支払い",null,null,null,null,null,null,null,"人分",null,null,null,"円"]
[null,null,null,null,null,"○上記の「参加費収入」と「ｽﾀｯﾌ等謝礼金」の金額は、\n各回の出納帳に記載する金額と一致させてください。"]
[null,"自由記入欄（実施の効果や課題など）",null,null,null,null,null,null,null,null,null,null,null,null,null,"（充実経費の効果）"]
[]
[]
[]
[]
[]
[null,4,null,null,null,"参加人数","幼児",null,null,null,null,null,null,"人","食事","子どもへの準備食数"]
[null,null,null,null,null,null,"小学生",null,null,null,null,null,null,"人",null,null,null,null,"食"]
[null,null,null,null,null,null,"中学生",null,null,null,null,null,null,"人",null,"＜献立＞"]
[null,null,null,null,null,null,"中学校卒業後の\n子ども（※）",null,null,null,null,null,null,"人"]
[null,null,null,null,null,null,"小計",null,null,null,{"$f":"K56+K57+K58+K59","v":0},null,null,"人"]
[null,null,"日",null,null,null,"大人",null,null,null,null,null,null,"人"]
[null,null,null,null,null,"スタッフ数\n（ボランティアも含めて記入）",null,null,null,null,null,null,null,"人"]
[null,"(",null,null,")","参加費収入",null,null,null,null,null,null,null,"人分",null,null,null,"円"]
[null,null,null,null,null,"スタッフ等謝礼金支払い",null,null,null,null,null,null,null,"人分",null,null,null,"円"]
[null,null,null,null,null,"○上記の「参加費収入」と「ｽﾀｯﾌ等謝礼金」の金額は、\n各回の出納帳に記載する金額と一致させてください。"]
[null,"自由記入欄（実施の効果や課題など）",null,null,null,null,null,null,null,null,null,null,null,null,null,"（充実経費の効果）"]
[]
[]
[]
[]
[]
[null,"※中学校卒業後から１８歳に達する日以後の最初の３月３１日までにある子ども。高校生など。"]
[null,null,"（　",{"$f":"D39","v":5},null,null,"月）- ③　",null,null,"食堂名",null,null,null,"(",{"$f":"O5","v":"食堂名"},null,null,null,null,")"]
[null,5,null,null,null,"参加人数","幼児",null,null,null,null,null,null,"人","食事","子どもへの準備食数"]
[null,null,null,null,null,null,"小学生",null,null,null,null,null,null,"人",null,null,null,null,"食"]
[null,null,null,null,null,null,"中学生",null,null,null,null,null,null,"人",null,"＜献立＞"]
[null,null,null,null,null,null,"中学校卒業後の\n子ども（※）",null,null,null,null,null,null,"人"]
[null,null,null,null,null,null,"小計",null,null,null,{"$f":"K74+K75+K76+K77","v":0},null,null,"人"]
[null,null,"日",null,null,null,"大人",null,null,null,null,null,null,"人"]
[null,null,null,null,null,"スタッフ数\n（ボランティアも含めて記入）",null,null,null,null,null,null,null,"人"]
[null,"(",null,null,")","参加費収入",null,null,null,null,null,null,null,"人分",null,null,null,"円"]
[null,null,null,null,null,"スタッフ等謝礼金支払い",null,null,null,null,null,null,null,"人分",null,null,null,"円"]
[null,null,null,null,null,"○上記の「参加費収入」と「ｽﾀｯﾌ等謝礼金」の金額は、\n各回の出納帳に記載する金額と一致させてください。"]
[null,"自由記入欄（実施の効果や課題など）",null,null,null,null,null,null,null,null,null,null,null,null,null,"（充実経費の効果）"]
[]
[]
[]
[]
[]
[]
[]
[]
[]
[]
[]
[]
[]
[]
[]
[]
[]
[]
[]
[]
[]
[null,"※中学校卒業後から１８歳に達する日以後の最初の３月３１日までにある子ども。高校生など。"]

{"sheet":"6月","index":4,"n_rows":106,"n_cols":20,"rows_kept":106,"cut":false,"hidden":false,"merged":[[80,1,81,1],[80,4,81,4],[83,1,83,14],[83,15,83,19],[84,1,88,14],[84,15,88,19],[50,15,54,19],[58,2,59,3],[62,1,63,1],[62,4,63,4],[65,1,65,14],[65,15,65,19],[66,1,70,14],[66,15,70,19],[76,2,77,3],[64,5,64,19],[72,3,72,5],[72,6,72,8],[72,9,72,12],[72,14,72,18],[71,1,71,19],[81,5,81,9],[81,10,81,12],[81,14,81,16],[24,2,25,3],[28,1,29,1],[28,4,29,4],[23,10,23,12],[24,10,24,12],[21,5,26,5],[21,14,27,14],[21,15,21,19],[22,15,22,17],[22,18,22,19],[21,6,21,9],[21,10,21,12],[22,6,22,9],[22,10,22,12],[23,6,23,9],[23,15,23,19],[24,6,24,9],[24,15,27,19],[28,10,28,12],[28,14,28,16],[28,18,28,19],[27,5,27,9],[27,10,27,12],[29,5,29,9],[12,1,13,1],[12,4,13,4],[15,1,15,14],[15,15,15,19],[16,1,20,14],[16,15,20,19],[11,5,11,9],[11,10,11,12],[12,5,12,9],[12,10,12,12],[14,5,14,19],[12,14,12,16],[12,18,12,19],[13,5,13,9],[13,10,13,12],[13,14,13,16],[13,18,13,19],[4,3,4,5],[4,14,4,18],[5,5,10,5],[5,6,5,9],[5,10,5,12],[5,14,11,14],[5,15,5,19],[6,6,6,9],[6,10,6,12],[6,15,6,17],[6,18,6,19],[7,6,7,9],[7,10,7,12],[8,6,8,9],[8,10,8,12],[8,15,11,19],[9,6,9,9],[10,10,10,12],[9,10,9,12],[8,2,9,3],[10,6,10,9],[44,6,44,9],[44,10,44,12],[46,10,46,12],[59,6,59,9],[59,10,59,12],[60,6,60,9],[60,10,60,12],[45,10,45,12],[47,10,47,12],[45,5,45,9],[46,5,46,9],[47,5,47,9],[50,1,54,14],[48,5,48,19],[46,14,46,16],[46,18,46,19],[47,14,47,16],[47,18,47,19],[46,1,47,1],[46,4,47,4],[0,1,0,4],[0,5,1,19],[2,3,2,6],[2,8,2,19],[3,3,3,19],[4,6,4,8],[7,15,7,19],[4,9,4,12],[49,1,49,14],[49,15,49,19],[25,6,25,9],[26,6,26,9],[26,10,26,12],[25,10,25,12],[40,10,40,12],[40,18,40,19],[39,10,39,12],[30,5,30,19],[31,1,31,14],[31,15,31,19],[32,1,36,14],[32,15,36,19],[42,2,43,3],[28,5,28,9],[29,10,29,12],[29,14,29,16],[29,18,29,19],[26,2,27,3],[58,15,61,19],[38,3,38,5],[38,6,38,8],[38,9,38,12],[38,14,38,18],[39,5,44,5],[39,6,39,9],[39,14,45,14],[39,15,39,19],[40,6,40,9],[40,15,40,17],[41,6,41,9],[41,10,41,12],[41,15,41,19],[42,6,42,9],[42,10,42,12],[42,15,45,19],[43,6,43,9],[43,10,43,12],[37,1,37,19],[62,18,62,19],[63,5,63,9],[63,14,63,16],[63,18,63,19],[55,5,60,5],[55,6,55,9],[55,10,55,12],[55,14,61,14],[55,15,55,19],[56,6,56,9],[56,10,56,12],[56,15,56,17],[56,18,56,19],[57,6,57,9],[57,10,57,12],[57,15,57,19],[58,6,58,9],[58,10,58,12],[63,10,63,12],[61,10,61,12],[62,10,62,12],[61,5,61,9],[62,5,62,9],[62,14,62,16],[74,6,74,9],[74,10,74,12],[74,15,74,17],[74,18,74,19],[75,6,75,9],[75,10,75,12],[75,15,75,19],[76,6,76,9],[76,10,76,12],[76,15,79,19],[77,6,77,9],[77,10,77,12],[78,6,78,9],[78,10,78,12],[105,1,105,19],[10,2,11,3],[12,2,13,3],[28,2,29,3],[44,2,45,3],[46,2,47,3],[60,2,61,3],[62,2,63,3],[78,2,79,3],[80,2,81,3],[89,1,104,19],[82,5,82,19],[79,5,79,9],[79,10,79,12],[80,5,80,9],[80,10,80,12],[80,14,80,16],[80,18,80,19],[81,18,81,19],[73,5,78,5],[73,6,73,9],[73,10,73,12],[73,14,79,14],[73,15,73,19]]}
[null,"（様式第1２号）",null,null,null,"事業実施月の翌月8日までにメール、FAXなどで提出してください。\nEmail：kodosei@city.hirakata.osaka.jp  FAX：072-843-2244"]
[]
[null,null,null,"令和",null,null,null,8,"年度　子どもの居場所づくり推進事業"]
[null,null,null,"月　例　報　告　書"]
[null,null,"（　",6,null,null,"月）- ①　",null,null,"食堂名",null,null,null,"(",{"$f":"'4月'!O5","v":"食堂名"},null,null,null,null,")"]
[null,1,null,null,null,"参加人数","幼児",null,null,null,null,null,null,"人","食事","子どもへの準備食数"]
[null,null,null,null,null,null,"小学生",null,null,null,null,null,null,"人",null,null,null,null,"食"]
[null,null,null,null,null,null,"中学生",null,null,null,null,null,null,"人",null,"＜献立＞"]
[null,null,null,null,null,null,"中学校卒業後の\n子ども（※）",null,null,null,null,null,null,"人"]
[null,null,null,null,null,null,"小計",null,null,null,{"$f":"K6+K7+K8+K9","v":0},null,null,"人"]
[null,null,"日",null,null,null,"大人",null,null,null,null,null,null,"人"]
[null,null,null,null,null,"スタッフ数\n（ボランティアも含めて記入）",null,null,null,null,null,null,null,"人"]
[null,"(",null,null,")","参加費収入",null,null,null,null,null,null,null,"人分",null,null,null,"円"]
[null,null,null,null,null,"スタッフ等謝礼金支払い",null,null,null,null,null,null,null,"人分",null,null,null,"円"]
[null,null,null,null,null,"○上記の「参加費収入」と「ｽﾀｯﾌ等謝礼金」の金額は、\n各回の出納帳に記載する金額と一致させてください。"]
[null,"自由記入欄（実施の効果や課題など）",null,null,null,null,null,null,null,null,null,null,null,null,null,"（充実経費の効果）"]
[]
[]
[]
[]
[]
[null,2,null,null,null,"参加人数","幼児",null,null,null,null,null,null,"人","食事","子どもへの準備食数"]
[null,null,null,null,null,null,"小学生",null,null,null,null,null,null,"人",null,null,null,null,"食"]
[null,null,null,null,null,null,"中学生",null,null,null,null,null,null,"人",null,"＜献立＞"]
[null,null,null,null,null,null,"中学校卒業後の\n子ども（※）",null,null,null,null,null,null,"人"]
[null,null,null,null,null,null,"小計",null,null,null,{"$f":"K22+K23+K24+K25","v":0},null,null,"人"]
[null,null,"日",null,null,null,"大人",null,null,null,null,null,null,"人"]
[null,null,null,null,null,"スタッフ数\n（ボランティアも含めて記入）",null,null,null,null,null,null,null,"人"]
[null,"(",null,null,")","参加費収入",null,null,null,null,null,null,null,"人分",null,null,null,"円"]
[null,null,null,null,null,"スタッフ等謝礼金支払い",null,null,null,null,null,null,null,"人分",null,null,null,"円"]
[null,null,null,null,null,"○上記の「参加費収入」と「ｽﾀｯﾌ等謝礼金」の金額は、\n各回の出納帳に記載する金額と一致させてください。"]
[null,"自由記入欄（実施の効果や課題など）",null,null,null,null,null,null,null,null,null,null,null,null,null,"（充実経費の効果）"]
[]
[]
[]
[]
[]
[null,"※中学校卒業後から１８歳に達する日以後の最初の３月３１日までにある子ども。高校生など。"]
[null,null,"（　",{"$f":"D5","v":6},null,null,"月）- ②　",null,null,"食堂名",null,null,null,"(",{"$f":"O5","v":"食堂名"},null,null,null,null,")"]
[null,3,null,null,null,"参加人数","幼児",null,null,null,null,null,null,"人","食事","子どもへの準備食数"]
[null,null,null,null,null,null,"小学生",null,null,null,null,null,null,"人",null,null,null,null,"食"]
[null,null,null,null,null,null,"中学生",null,null,null,null,null,null,"人",null,"＜献立＞"]
[null,null,null,null,null,null,"中学校卒業後の\n子ども（※）",null,null,null,null,null,null,"人"]
[null,null,null,null,null,null,"小計",null,null,null,{"$f":"K40+K41+K42+K43","v":0},null,null,"人"]
[null,null,"日",null,null,null,"大人",null,null,null,null,null,null,"人"]
[null,null,null,null,null,"スタッフ数\n（ボランティアも含めて記入）",null,null,null,null,null,null,null,"人"]
[null,"(",null,null,")","参加費収入",null,null,null,null,null,null,null,"人分",null,null,null,"円"]
[null,null,null,null,null,"スタッフ等謝礼金支払い",null,null,null,null,null,null,null,"人分",null,null,null,"円"]
[null,null,null,null,null,"○上記の「参加費収入」と「ｽﾀｯﾌ等謝礼金」の金額は、\n各回の出納帳に記載する金額と一致させてください。"]
[null,"自由記入欄（実施の効果や課題など）",null,null,null,null,null,null,null,null,null,null,null,null,null,"（充実経費の効果）"]
[]
[]
[]
[]
[]
[null,4,null,null,null,"参加人数","幼児",null,null,null,null,null,null,"人","食事","子どもへの準備食数"]
[null,null,null,null,null,null,"小学生",null,null,null,null,null,null,"人",null,null,null,null,"食"]
[null,null,null,null,null,null,"中学生",null,null,null,null,null,null,"人",null,"＜献立＞"]
[null,null,null,null,null,null,"中学校卒業後の\n子ども（※）",null,null,null,null,null,null,"人"]
[null,null,null,null,null,null,"小計",null,null,null,{"$f":"K56+K57+K58+K59","v":0},null,null,"人"]
[null,null,"日",null,null,null,"大人",null,null,null,null,null,null,"人"]
[null,null,null,null,null,"スタッフ数\n（ボランティアも含めて記入）",null,null,null,null,null,null,null,"人"]
[null,"(",null,null,")","参加費収入",null,null,null,null,null,null,null,"人分",null,null,null,"円"]
[null,null,null,null,null,"スタッフ等謝礼金支払い",null,null,null,null,null,null,null,"人分",null,null,null,"円"]
[null,null,null,null,null,"○上記の「参加費収入」と「ｽﾀｯﾌ等謝礼金」の金額は、\n各回の出納帳に記載する金額と一致させてください。"]
[null,"自由記入欄（実施の効果や課題など）",null,null,null,null,null,null,null,null,null,null,null,null,null,"（充実経費の効果）"]
[]
[]
[]
[]
[]
[null,"※中学校卒業後から１８歳に達する日以後の最初の３月３１日までにある子ども。高校生など。"]
[null,null,"（　",{"$f":"D39","v":6},null,null,"月）- ③　",null,null,"食堂名",null,null,null,"(",{"$f":"O5","v":"食堂名"},null,null,null,null,")"]
[null,5,null,null,null,"参加人数","幼児",null,null,null,null,null,null,"人","食事","子どもへの準備食数"]
[null,null,null,null,null,null,"小学生",null,null,null,null,null,null,"人",null,null,null,null,"食"]
[null,null,null,null,null,null,"中学生",null,null,null,null,null,null,"人",null,"＜献立＞"]
[null,null,null,null,null,null,"中学校卒業後の\n子ども（※）",null,null,null,null,null,null,"人"]
[null,null,null,null,null,null,"小計",null,null,null,{"$f":"K74+K75+K76+K77","v":0},null,null,"人"]
[null,null,"日",null,null,null,"大人",null,null,null,null,null,null,"人"]
[null,null,null,null,null,"スタッフ数\n（ボランティアも含めて記入）",null,null,null,null,null,null,null,"人"]
[null,"(",null,null,")","参加費収入",null,null,null,null,null,null,null,"人分",null,null,null,"円"]
[null,null,null,null,null,"スタッフ等謝礼金支払い",null,null,null,null,null,null,null,"人分",null,null,null,"円"]
[null,null,null,null,null,"○上記の「参加費収入」と「ｽﾀｯﾌ等謝礼金」の金額は、\n各回の出納帳に記載する金額と一致させてください。"]
[null,"自由記入欄（実施の効果や課題など）",null,null,null,null,null,null,null,null,null,null,null,null,null,"（充実経費の効果）"]
[]
[]
[]
[]
[]
[]
[]
[]
[]
[]
[]
[]
[]
[]
[]
[]
[]
[]
[]
[]
[]
[null,"※中学校卒業後から１８歳に達する日以後の最初の３月３１日までにある子ども。高校生など。"]

{"sheet":"7月","index":5,"n_rows":106,"n_cols":20,"rows_kept":106,"cut":false,"hidden":false,"merged":[[80,1,81,1],[80,4,81,4],[83,1,83,14],[83,15,83,19],[84,1,88,14],[84,15,88,19],[50,15,54,19],[58,2,59,3],[62,1,63,1],[62,4,63,4],[65,1,65,14],[65,15,65,19],[66,1,70,14],[66,15,70,19],[76,2,77,3],[64,5,64,19],[72,3,72,5],[72,6,72,8],[72,9,72,12],[72,14,72,18],[71,1,71,19],[81,5,81,9],[81,10,81,12],[81,14,81,16],[24,2,25,3],[28,1,29,1],[28,4,29,4],[23,10,23,12],[24,10,24,12],[21,5,26,5],[21,14,27,14],[21,15,21,19],[22,15,22,17],[22,18,22,19],[21,6,21,9],[21,10,21,12],[22,6,22,9],[22,10,22,12],[23,6,23,9],[23,15,23,19],[24,6,24,9],[24,15,27,19],[28,10,28,12],[28,14,28,16],[28,18,28,19],[27,5,27,9],[27,10,27,12],[29,5,29,9],[12,1,13,1],[12,4,13,4],[15,1,15,14],[15,15,15,19],[16,1,20,14],[16,15,20,19],[11,5,11,9],[11,10,11,12],[12,5,12,9],[12,10,12,12],[14,5,14,19],[12,14,12,16],[12,18,12,19],[13,5,13,9],[13,10,13,12],[13,14,13,16],[13,18,13,19],[4,3,4,5],[4,14,4,18],[5,5,10,5],[5,6,5,9],[5,10,5,12],[5,14,11,14],[5,15,5,19],[6,6,6,9],[6,10,6,12],[6,15,6,17],[6,18,6,19],[7,6,7,9],[7,10,7,12],[8,6,8,9],[8,10,8,12],[8,15,11,19],[9,6,9,9],[10,10,10,12],[9,10,9,12],[8,2,9,3],[10,6,10,9],[44,6,44,9],[44,10,44,12],[46,10,46,12],[59,6,59,9],[59,10,59,12],[60,6,60,9],[60,10,60,12],[45,10,45,12],[47,10,47,12],[45,5,45,9],[46,5,46,9],[47,5,47,9],[50,1,54,14],[48,5,48,19],[46,14,46,16],[46,18,46,19],[47,14,47,16],[47,18,47,19],[46,1,47,1],[46,4,47,4],[0,1,0,4],[0,5,1,19],[2,3,2,6],[2,8,2,19],[3,3,3,19],[4,6,4,8],[7,15,7,19],[4,9,4,12],[49,1,49,14],[49,15,49,19],[25,6,25,9],[26,6,26,9],[26,10,26,12],[25,10,25,12],[40,10,40,12],[40,18,40,19],[39,10,39,12],[30,5,30,19],[31,1,31,14],[31,15,31,19],[32,1,36,14],[32,15,36,19],[42,2,43,3],[28,5,28,9],[29,10,29,12],[29,14,29,16],[29,18,29,19],[26,2,27,3],[58,15,61,19],[38,3,38,5],[38,6,38,8],[38,9,38,12],[38,14,38,18],[39,5,44,5],[39,6,39,9],[39,14,45,14],[39,15,39,19],[40,6,40,9],[40,15,40,17],[41,6,41,9],[41,10,41,12],[41,15,41,19],[42,6,42,9],[42,10,42,12],[42,15,45,19],[43,6,43,9],[43,10,43,12],[37,1,37,19],[62,18,62,19],[63,5,63,9],[63,14,63,16],[63,18,63,19],[55,5,60,5],[55,6,55,9],[55,10,55,12],[55,14,61,14],[55,15,55,19],[56,6,56,9],[56,10,56,12],[56,15,56,17],[56,18,56,19],[57,6,57,9],[57,10,57,12],[57,15,57,19],[58,6,58,9],[58,10,58,12],[63,10,63,12],[61,10,61,12],[62,10,62,12],[61,5,61,9],[62,5,62,9],[62,14,62,16],[74,6,74,9],[74,10,74,12],[74,15,74,17],[74,18,74,19],[75,6,75,9],[75,10,75,12],[75,15,75,19],[76,6,76,9],[76,10,76,12],[76,15,79,19],[77,6,77,9],[77,10,77,12],[78,6,78,9],[78,10,78,12],[105,1,105,19],[10,2,11,3],[12,2,13,3],[28,2,29,3],[44,2,45,3],[46,2,47,3],[60,2,61,3],[62,2,63,3],[78,2,79,3],[80,2,81,3],[89,1,104,19],[82,5,82,19],[79,5,79,9],[79,10,79,12],[80,5,80,9],[80,10,80,12],[80,14,80,16],[80,18,80,19],[81,18,81,19],[73,5,78,5],[73,6,73,9],[73,10,73,12],[73,14,79,14],[73,15,73,19]]}
[null,"（様式第1２号）",null,null,null,"事業実施月の翌月8日までにメール、FAXなどで提出してください。\nEmail：kodosei@city.hirakata.osaka.jp  FAX：072-843-2244"]
[]
[null,null,null,"令和",null,null,null,8,"年度　子どもの居場所づくり推進事業"]
[null,null,null,"月　例　報　告　書"]
[null,null,"（　",7,null,null,"月）- ①　",null,null,"食堂名",null,null,null,"(",{"$f":"'4月'!O5","v":"食堂名"},null,null,null,null,")"]
[null,1,null,null,null,"参加人数","幼児",null,null,null,null,null,null,"人","食事","子どもへの準備食数"]
[null,null,null,null,null,null,"小学生",null,null,null,null,null,null,"人",null,null,null,null,"食"]
[null,null,null,null,null,null,"中学生",null,null,null,null,null,null,"人",null,"＜献立＞"]
[null,null,null,null,null,null,"中学校卒業後の\n子ども（※）",null,null,null,null,null,null,"人"]
[null,null,null,null,null,null,"小計",null,null,null,{"$f":"K6+K7+K8+K9","v":0},null,null,"人"]
[null,null,"日",null,null,null,"大人",null,null,null,null,null,null,"人"]
[null,null,null,null,null,"スタッフ数\n（ボランティアも含めて記入）",null,null,null,null,null,null,null,"人"]
[null,"(",null,null,")","参加費収入",null,null,null,null,null,null,null,"人分",null,null,null,"円"]
[null,null,null,null,null,"スタッフ等謝礼金支払い",null,null,null,null,null,null,null,"人分",null,null,null,"円"]
[null,null,null,null,null,"○上記の「参加費収入」と「ｽﾀｯﾌ等謝礼金」の金額は、\n各回の出納帳に記載する金額と一致させてください。"]
[null,"自由記入欄（実施の効果や課題など）",null,null,null,null,null,null,null,null,null,null,null,null,null,"（充実経費の効果）"]
[]
[]
[]
[]
[]
[null,2,null,null,null,"参加人数","幼児",null,null,null,null,null,null,"人","食事","子どもへの準備食数"]
[null,null,null,null,null,null,"小学生",null,null,null,null,null,null,"人",null,null,null,null,"食"]
[null,null,null,null,null,null,"中学生",null,null,null,null,null,null,"人",null,"＜献立＞"]
[null,null,null,null,null,null,"中学校卒業後の\n子ども（※）",null,null,null,null,null,null,"人"]
[null,null,null,null,null,null,"小計",null,null,null,{"$f":"K22+K23+K24+K25","v":0},null,null,"人"]
[null,null,"日",null,null,null,"大人",null,null,null,null,null,null,"人"]
[null,null,null,null,null,"スタッフ数\n（ボランティアも含めて記入）",null,null,null,null,null,null,null,"人"]
[null,"(",null,null,")","参加費収入",null,null,null,null,null,null,null,"人分",null,null,null,"円"]
[null,null,null,null,null,"スタッフ等謝礼金支払い",null,null,null,null,null,null,null,"人分",null,null,null,"円"]
[null,null,null,null,null,"○上記の「参加費収入」と「ｽﾀｯﾌ等謝礼金」の金額は、\n各回の出納帳に記載する金額と一致させてください。"]
[null,"自由記入欄（実施の効果や課題など）",null,null,null,null,null,null,null,null,null,null,null,null,null,"（充実経費の効果）"]
[]
[]
[]
[]
[]
[null,"※中学校卒業後から１８歳に達する日以後の最初の３月３１日までにある子ども。高校生など。"]
[null,null,"（　",{"$f":"D5","v":7},null,null,"月）- ②　",null,null,"食堂名",null,null,null,"(",{"$f":"O5","v":"食堂名"},null,null,null,null,")"]
[null,3,null,null,null,"参加人数","幼児",null,null,null,null,null,null,"人","食事","子どもへの準備食数"]
[null,null,null,null,null,null,"小学生",null,null,null,null,null,null,"人",null,null,null,null,"食"]
[null,null,null,null,null,null,"中学生",null,null,null,null,null,null,"人",null,"＜献立＞"]
[null,null,null,null,null,null,"中学校卒業後の\n子ども（※）",null,null,null,null,null,null,"人"]
[null,null,null,null,null,null,"小計",null,null,null,{"$f":"K40+K41+K42+K43","v":0},null,null,"人"]
[null,null,"日",null,null,null,"大人",null,null,null,null,null,null,"人"]
[null,null,null,null,null,"スタッフ数\n（ボランティアも含めて記入）",null,null,null,null,null,null,null,"人"]
[null,"(",null,null,")","参加費収入",null,null,null,null,null,null,null,"人分",null,null,null,"円"]
[null,null,null,null,null,"スタッフ等謝礼金支払い",null,null,null,null,null,null,null,"人分",null,null,null,"円"]
[null,null,null,null,null,"○上記の「参加費収入」と「ｽﾀｯﾌ等謝礼金」の金額は、\n各回の出納帳に記載する金額と一致させてください。"]
[null,"自由記入欄（実施の効果や課題など）",null,null,null,null,null,null,null,null,null,null,null,null,null,"（充実経費の効果）"]
[]
[]
[]
[]
[]
[null,4,null,null,null,"参加人数","幼児",null,null,null,null,null,null,"人","食事","子どもへの準備食数"]
[null,null,null,null,null,null,"小学生",null,null,null,null,null,null,"人",null,null,null,null,"食"]
[null,null,null,null,null,null,"中学生",null,null,null,null,null,null,"人",null,"＜献立＞"]
[null,null,null,null,null,null,"中学校卒業後の\n子ども（※）",null,null,null,null,null,null,"人"]
[null,null,null,null,null,null,"小計",null,null,null,{"$f":"K56+K57+K58+K59","v":0},null,null,"人"]
[null,null,"日",null,null,null,"大人",null,null,null,null,null,null,"人"]
[null,null,null,null,null,"スタッフ数\n（ボランティアも含めて記入）",null,null,null,null,null,null,null,"人"]
[null,"(",null,null,")","参加費収入",null,null,null,null,null,null,null,"人分",null,null,null,"円"]
[null,null,null,null,null,"スタッフ等謝礼金支払い",null,null,null,null,null,null,null,"人分",null,null,null,"円"]
[null,null,null,null,null,"○上記の「参加費収入」と「ｽﾀｯﾌ等謝礼金」の金額は、\n各回の出納帳に記載する金額と一致させてください。"]
[null,"自由記入欄（実施の効果や課題など）",null,null,null,null,null,null,null,null,null,null,null,null,null,"（充実経費の効果）"]
[]
[]
[]
[]
[]
[null,"※中学校卒業後から１８歳に達する日以後の最初の３月３１日までにある子ども。高校生など。"]
[null,null,"（　",{"$f":"D39","v":7},null,null,"月）- ③　",null,null,"食堂名",null,null,null,"(",{"$f":"O5","v":"食堂名"},null,null,null,null,")"]
[null,5,null,null,null,"参加人数","幼児",null,null,null,null,null,null,"人","食事","子どもへの準備食数"]
[null,null,null,null,null,null,"小学生",null,null,null,null,null,null,"人",null,null,null,null,"食"]
[null,null,null,null,null,null,"中学生",null,null,null,null,null,null,"人",null,"＜献立＞"]
[null,null,null,null,null,null,"中学校卒業後の\n子ども（※）",null,null,null,null,null,null,"人"]
[null,null,null,null,null,null,"小計",null,null,null,{"$f":"K74+K75+K76+K77","v":0},null,null,"人"]
[null,null,"日",null,null,null,"大人",null,null,null,null,null,null,"人"]
[null,null,null,null,null,"スタッフ数\n（ボランティアも含めて記入）",null,null,null,null,null,null,null,"人"]
[null,"(",null,null,")","参加費収入",null,null,null,null,null,null,null,"人分",null,null,null,"円"]
[null,null,null,null,null,"スタッフ等謝礼金支払い",null,null,null,null,null,null,null,"人分",null,null,null,"円"]
[null,null,null,null,null,"○上記の「参加費収入」と「ｽﾀｯﾌ等謝礼金」の金額は、\n各回の出納帳に記載する金額と一致させてください。"]
[null,"自由記入欄（実施の効果や課題など）",null,null,null,null,null,null,null,null,null,null,null,null,null,"（充実経費の効果）"]
[]
[]
[]
[]
[]
[]
[]
[]
[]
[]
[]
[]
[]
[]
[]
[]
[]
[]
[]
[]
[]
[null,"※中学校卒業後から１８歳に達する日以後の最初の３月３１日までにある子ども。高校生など。"]

{"sheet":"8月","index":6,"n_rows":106,"n_cols":20,"rows_kept":106,"cut":false,"hidden":false,"merged":[[80,1,81,1],[80,4,81,4],[83,1,83,14],[83,15,83,19],[84,1,88,14],[84,15,88,19],[50,15,54,19],[58,2,59,3],[62,1,63,1],[62,4,63,4],[65,1,65,14],[65,15,65,19],[66,1,70,14],[66,15,70,19],[76,2,77,3],[64,5,64,19],[72,3,72,5],[72,6,72,8],[72,9,72,12],[72,14,72,18],[71,1,71,19],[81,5,81,9],[81,10,81,12],[81,14,81,16],[24,2,25,3],[28,1,29,1],[28,4,29,4],[23,10,23,12],[24,10,24,12],[21,5,26,5],[21,14,27,14],[21,15,21,19],[22,15,22,17],[22,18,22,19],[21,6,21,9],[21,10,21,12],[22,6,22,9],[22,10,22,12],[23,6,23,9],[23,15,23,19],[24,6,24,9],[24,15,27,19],[28,10,28,12],[28,14,28,16],[28,18,28,19],[27,5,27,9],[27,10,27,12],[29,5,29,9],[12,1,13,1],[12,4,13,4],[15,1,15,14],[15,15,15,19],[16,1,20,14],[16,15,20,19],[11,5,11,9],[11,10,11,12],[12,5,12,9],[12,10,12,12],[14,5,14,19],[12,14,12,16],[12,18,12,19],[13,5,13,9],[13,10,13,12],[13,14,13,16],[13,18,13,19],[4,3,4,5],[4,14,4,18],[5,5,10,5],[5,6,5,9],[5,10,5,12],[5,14,11,14],[5,15,5,19],[6,6,6,9],[6,10,6,12],[6,15,6,17],[6,18,6,19],[7,6,7,9],[7,10,7,12],[8,6,8,9],[8,10,8,12],[8,15,11,19],[9,6,9,9],[10,10,10,12],[9,10,9,12],[8,2,9,3],[10,6,10,9],[44,6,44,9],[44,10,44,12],[46,10,46,12],[59,6,59,9],[59,10,59,12],[60,6,60,9],[60,10,60,12],[45,10,45,12],[47,10,47,12],[45,5,45,9],[46,5,46,9],[47,5,47,9],[50,1,54,14],[48,5,48,19],[46,14,46,16],[46,18,46,19],[47,14,47,16],[47,18,47,19],[46,1,47,1],[46,4,47,4],[0,1,0,4],[0,5,1,19],[2,3,2,6],[2,8,2,19],[3,3,3,19],[4,6,4,8],[7,15,7,19],[4,9,4,12],[49,1,49,14],[49,15,49,19],[25,6,25,9],[26,6,26,9],[26,10,26,12],[25,10,25,12],[40,10,40,12],[40,18,40,19],[39,10,39,12],[30,5,30,19],[31,1,31,14],[31,15,31,19],[32,1,36,14],[32,15,36,19],[42,2,43,3],[28,5,28,9],[29,10,29,12],[29,14,29,16],[29,18,29,19],[26,2,27,3],[58,15,61,19],[38,3,38,5],[38,6,38,8],[38,9,38,12],[38,14,38,18],[39,5,44,5],[39,6,39,9],[39,14,45,14],[39,15,39,19],[40,6,40,9],[40,15,40,17],[41,6,41,9],[41,10,41,12],[41,15,41,19],[42,6,42,9],[42,10,42,12],[42,15,45,19],[43,6,43,9],[43,10,43,12],[37,1,37,19],[62,18,62,19],[63,5,63,9],[63,14,63,16],[63,18,63,19],[55,5,60,5],[55,6,55,9],[55,10,55,12],[55,14,61,14],[55,15,55,19],[56,6,56,9],[56,10,56,12],[56,15,56,17],[56,18,56,19],[57,6,57,9],[57,10,57,12],[57,15,57,19],[58,6,58,9],[58,10,58,12],[63,10,63,12],[61,10,61,12],[62,10,62,12],[61,5,61,9],[62,5,62,9],[62,14,62,16],[74,6,74,9],[74,10,74,12],[74,15,74,17],[74,18,74,19],[75,6,75,9],[75,10,75,12],[75,15,75,19],[76,6,76,9],[76,10,76,12],[76,15,79,19],[77,6,77,9],[77,10,77,12],[78,6,78,9],[78,10,78,12],[105,1,105,19],[10,2,11,3],[12,2,13,3],[28,2,29,3],[44,2,45,3],[46,2,47,3],[60,2,61,3],[62,2,63,3],[78,2,79,3],[80,2,81,3],[89,1,104,19],[82,5,82,19],[79,5,79,9],[79,10,79,12],[80,5,80,9],[80,10,80,12],[80,14,80,16],[80,18,80,19],[81,18,81,19],[73,5,78,5],[73,6,73,9],[73,10,73,12],[73,14,79,14],[73,15,73,19]]}
[null,"（様式第1２号）",null,null,null,"事業実施月の翌月8日までにメール、FAXなどで提出してください。\nEmail：kodosei@city.hirakata.osaka.jp  FAX：072-843-2244"]
[]
[null,null,null,"令和",null,null,null,8,"年度　子どもの居場所づくり推進事業"]
[null,null,null,"月　例　報　告　書"]
[null,null,"（　",8,null,null,"月）- ①　",null,null,"食堂名",null,null,null,"(",{"$f":"'4月'!O5","v":"食堂名"},null,null,null,null,")"]
[null,1,null,null,null,"参加人数","幼児",null,null,null,null,null,null,"人","食事","子どもへの準備食数"]
[null,null,null,null,null,null,"小学生",null,null,null,null,null,null,"人",null,null,null,null,"食"]
[null,null,null,null,null,null,"中学生",null,null,null,null,null,null,"人",null,"＜献立＞"]
[null,null,null,null,null,null,"中学校卒業後の\n子ども（※）",null,null,null,null,null,null,"人"]
[null,null,null,null,null,null,"小計",null,null,null,{"$f":"K6+K7+K8+K9","v":0},null,null,"人"]
[null,null,"日",null,null,null,"大人",null,null,null,null,null,null,"人"]
[null,null,null,null,null,"スタッフ数\n（ボランティアも含めて記入）",null,null,null,null,null,null,null,"人"]
[null,"(",null,null,")","参加費収入",null,null,null,null,null,null,null,"人分",null,null,null,"円"]
[null,null,null,null,null,"スタッフ等謝礼金支払い",null,null,null,null,null,null,null,"人分",null,null,null,"円"]
[null,null,null,null,null,"○上記の「参加費収入」と「ｽﾀｯﾌ等謝礼金」の金額は、\n各回の出納帳に記載する金額と一致させてください。"]
[null,"自由記入欄（実施の効果や課題など）",null,null,null,null,null,null,null,null,null,null,null,null,null,"（充実経費の効果）"]
[]
[]
[]
[]
[]
[null,2,null,null,null,"参加人数","幼児",null,null,null,null,null,null,"人","食事","子どもへの準備食数"]
[null,null,null,null,null,null,"小学生",null,null,null,null,null,null,"人",null,null,null,null,"食"]
[null,null,null,null,null,null,"中学生",null,null,null,null,null,null,"人",null,"＜献立＞"]
[null,null,null,null,null,null,"中学校卒業後の\n子ども（※）",null,null,null,null,null,null,"人"]
[null,null,null,null,null,null,"小計",null,null,null,{"$f":"K22+K23+K24+K25","v":0},null,null,"人"]
[null,null,"日",null,null,null,"大人",null,null,null,null,null,null,"人"]
[null,null,null,null,null,"スタッフ数\n（ボランティアも含めて記入）",null,null,null,null,null,null,null,"人"]
[null,"(",null,null,")","参加費収入",null,null,null,null,null,null,null,"人分",null,null,null,"円"]
[null,null,null,null,null,"スタッフ等謝礼金支払い",null,null,null,null,null,null,null,"人分",null,null,null,"円"]
[null,null,null,null,null,"○上記の「参加費収入」と「ｽﾀｯﾌ等謝礼金」の金額は、\n各回の出納帳に記載する金額と一致させてください。"]
[null,"自由記入欄（実施の効果や課題など）",null,null,null,null,null,null,null,null,null,null,null,null,null,"（充実経費の効果）"]
[]
[]
[]
[]
[]
[null,"※中学校卒業後から１８歳に達する日以後の最初の３月３１日までにある子ども。高校生など。"]
[null,null,"（　",{"$f":"D5","v":8},null,null,"月）- ②　",null,null,"食堂名",null,null,null,"(",{"$f":"O5","v":"食堂名"},null,null,null,null,")"]
[null,3,null,null,null,"参加人数","幼児",null,null,null,null,null,null,"人","食事","子どもへの準備食数"]
[null,null,null,null,null,null,"小学生",null,null,null,null,null,null,"人",null,null,null,null,"食"]
[null,null,null,null,null,null,"中学生",null,null,null,null,null,null,"人",null,"＜献立＞"]
[null,null,null,null,null,null,"中学校卒業後の\n子ども（※）",null,null,null,null,null,null,"人"]
[null,null,null,null,null,null,"小計",null,null,null,{"$f":"K40+K41+K42+K43","v":0},null,null,"人"]
[null,null,"日",null,null,null,"大人",null,null,null,null,null,null,"人"]
[null,null,null,null,null,"スタッフ数\n（ボランティアも含めて記入）",null,null,null,null,null,null,null,"人"]
[null,"(",null,null,")","参加費収入",null,null,null,null,null,null,null,"人分",null,null,null,"円"]
[null,null,null,null,null,"スタッフ等謝礼金支払い",null,null,null,null,null,null,null,"人分",null,null,null,"円"]
[null,null,null,null,null,"○上記の「参加費収入」と「ｽﾀｯﾌ等謝礼金」の金額は、\n各回の出納帳に記載する金額と一致させてください。"]
[null,"自由記入欄（実施の効果や課題など）",null,null,null,null,null,null,null,null,null,null,null,null,null,"（充実経費の効果）"]
[]
[]
[]
[]
[]
[null,4,null,null,null,"参加人数","幼児",null,null,null,null,null,null,"人","食事","子どもへの準備食数"]
[null,null,null,null,null,null,"小学生",null,null,null,null,null,null,"人",null,null,null,null,"食"]
[null,null,null,null,null,null,"中学生",null,null,null,null,null,null,"人",null,"＜献立＞"]
[null,null,null,null,null,null,"中学校卒業後の\n子ども（※）",null,null,null,null,null,null,"人"]
[null,null,null,null,null,null,"小計",null,null,null,{"$f":"K56+K57+K58+K59","v":0},null,null,"人"]
[null,null,"日",null,null,null,"大人",null,null,null,null,null,null,"人"]
[null,null,null,null,null,"スタッフ数\n（ボランティアも含めて記入）",null,null,null,null,null,null,null,"人"]
[null,"(",null,null,")","参加費収入",null,null,null,null,null,null,null,"人分",null,null,null,"円"]
[null,null,null,null,null,"スタッフ等謝礼金支払い",null,null,null,null,null,null,null,"人分",null,null,null,"円"]
[null,null,null,null,null,"○上記の「参加費収入」と「ｽﾀｯﾌ等謝礼金」の金額は、\n各回の出納帳に記載する金額と一致させてください。"]
[null,"自由記入欄（実施の効果や課題など）",null,null,null,null,null,null,null,null,null,null,null,null,null,"（充実経費の効果）"]
[]
[]
[]
[]
[]
[null,"※中学校卒業後から１８歳に達する日以後の最初の３月３１日までにある子ども。高校生など。"]
[null,null,"（　",{"$f":"D39","v":8},null,null,"月）- ③　",null,null,"食堂名",null,null,null,"(",{"$f":"O5","v":"食堂名"},null,null,null,null,")"]
[null,5,null,null,null,"参加人数","幼児",null,null,null,null,null,null,"人","食事","子どもへの準備食数"]
[null,null,null,null,null,null,"小学生",null,null,null,null,null,null,"人",null,null,null,null,"食"]
[null,null,null,null,null,null,"中学生",null,null,null,null,null,null,"人",null,"＜献立＞"]
[null,null,null,null,null,null,"中学校卒業後の\n子ども（※）",null,null,null,null,null,null,"人"]
[null,null,null,null,null,null,"小計",null,null,null,{"$f":"K74+K75+K76+K77","v":0},null,null,"人"]
[null,null,"日",null,null,null,"大人",null,null,null,null,null,null,"人"]
[null,null,null,null,null,"スタッフ数\n（ボランティアも含めて記入）",null,null,null,null,null,null,null,"人"]
[null,"(",null,null,")","参加費収入",null,null,null,null,null,null,null,"人分",null,null,null,"円"]
[null,null,null,null,null,"スタッフ等謝礼金支払い",null,null,null,null,null,null,null,"人分",null,null,null,"円"]
[null,null,null,null,null,"○上記の「参加費収入」と「ｽﾀｯﾌ等謝礼金」の金額は、\n各回の出納帳に記載する金額と一致させてください。"]
[null,"自由記入欄（実施の効果や課題など）",null,null,null,null,null,null,null,null,null,null,null,null,null,"（充実経費の効果）"]
[]
[]
[]
[]
[]
[]
[]
[]
[]
[]
[]
[]
[]
[]
[]
[]
[]
[]
[]
[]
[]
[null,"※中学校卒業後から１８歳に達する日以後の最初の３月３１日までにある子ども。高校生など。"]

{"sheet":"9月","index":7,"n_rows":106,"n_cols":20,"rows_kept":106,"cut":false,"hidden":false,"merged":[[80,1,81,1],[80,4,81,4],[83,1,83,14],[83,15,83,19],[84,1,88,14],[84,15,88,19],[50,15,54,19],[58,2,59,3],[62,1,63,1],[62,4,63,4],[65,1,65,14],[65,15,65,19],[66,1,70,14],[66,15,70,19],[76,2,77,3],[64,5,64,19],[72,3,72,5],[72,6,72,8],[72,9,72,12],[72,14,72,18],[71,1,71,19],[81,5,81,9],[81,10,81,12],[81,14,81,16],[24,2,25,3],[28,1,29,1],[28,4,29,4],[23,10,23,12],[24,10,24,12],[21,5,26,5],[21,14,27,14],[21,15,21,19],[22,15,22,17],[22,18,22,19],[21,6,21,9],[21,10,21,12],[22,6,22,9],[22,10,22,12],[23,6,23,9],[23,15,23,19],[24,6,24,9],[24,15,27,19],[28,10,28,12],[28,14,28,16],[28,18,28,19],[27,5,27,9],[27,10,27,12],[29,5,29,9],[12,1,13,1],[12,4,13,4],[15,1,15,14],[15,15,15,19],[16,1,20,14],[16,15,20,19],[11,5,11,9],[11,10,11,12],[12,5,12,9],[12,10,12,12],[14,5,14,19],[12,14,12,16],[12,18,12,19],[13,5,13,9],[13,10,13,12],[13,14,13,16],[13,18,13,19],[4,3,4,5],[4,14,4,18],[5,5,10,5],[5,6,5,9],[5,10,5,12],[5,14,11,14],[5,15,5,19],[6,6,6,9],[6,10,6,12],[6,15,6,17],[6,18,6,19],[7,6,7,9],[7,10,7,12],[8,6,8,9],[8,10,8,12],[8,15,11,19],[9,6,9,9],[10,10,10,12],[9,10,9,12],[8,2,9,3],[10,6,10,9],[44,6,44,9],[44,10,44,12],[46,10,46,12],[59,6,59,9],[59,10,59,12],[60,6,60,9],[60,10,60,12],[45,10,45,12],[47,10,47,12],[45,5,45,9],[46,5,46,9],[47,5,47,9],[50,1,54,14],[48,5,48,19],[46,14,46,16],[46,18,46,19],[47,14,47,16],[47,18,47,19],[46,1,47,1],[46,4,47,4],[0,1,0,4],[0,5,1,19],[2,3,2,6],[2,8,2,19],[3,3,3,19],[4,6,4,8],[7,15,7,19],[4,9,4,12],[49,1,49,14],[49,15,49,19],[25,6,25,9],[26,6,26,9],[26,10,26,12],[25,10,25,12],[40,10,40,12],[40,18,40,19],[39,10,39,12],[30,5,30,19],[31,1,31,14],[31,15,31,19],[32,1,36,14],[32,15,36,19],[42,2,43,3],[28,5,28,9],[29,10,29,12],[29,14,29,16],[29,18,29,19],[26,2,27,3],[58,15,61,19],[38,3,38,5],[38,6,38,8],[38,9,38,12],[38,14,38,18],[39,5,44,5],[39,6,39,9],[39,14,45,14],[39,15,39,19],[40,6,40,9],[40,15,40,17],[41,6,41,9],[41,10,41,12],[41,15,41,19],[42,6,42,9],[42,10,42,12],[42,15,45,19],[43,6,43,9],[43,10,43,12],[37,1,37,19],[62,18,62,19],[63,5,63,9],[63,14,63,16],[63,18,63,19],[55,5,60,5],[55,6,55,9],[55,10,55,12],[55,14,61,14],[55,15,55,19],[56,6,56,9],[56,10,56,12],[56,15,56,17],[56,18,56,19],[57,6,57,9],[57,10,57,12],[57,15,57,19],[58,6,58,9],[58,10,58,12],[63,10,63,12],[61,10,61,12],[62,10,62,12],[61,5,61,9],[62,5,62,9],[62,14,62,16],[74,6,74,9],[74,10,74,12],[74,15,74,17],[74,18,74,19],[75,6,75,9],[75,10,75,12],[75,15,75,19],[76,6,76,9],[76,10,76,12],[76,15,79,19],[77,6,77,9],[77,10,77,12],[78,6,78,9],[78,10,78,12],[105,1,105,19],[10,2,11,3],[12,2,13,3],[28,2,29,3],[44,2,45,3],[46,2,47,3],[60,2,61,3],[62,2,63,3],[78,2,79,3],[80,2,81,3],[89,1,104,19],[82,5,82,19],[79,5,79,9],[79,10,79,12],[80,5,80,9],[80,10,80,12],[80,14,80,16],[80,18,80,19],[81,18,81,19],[73,5,78,5],[73,6,73,9],[73,10,73,12],[73,14,79,14],[73,15,73,19]]}
[null,"（様式第1２号）",null,null,null,"事業実施月の翌月8日までにメール、FAXなどで提出してください。\nEmail：kodosei@city.hirakata.osaka.jp  FAX：072-843-2244"]
[]
[null,null,null,"令和",null,null,null,8,"年度　子どもの居場所づくり推進事業"]
[null,null,null,"月　例　報　告　書"]
[null,null,"（　",9,null,null,"月）- ①　",null,null,"食堂名",null,null,null,"(",{"$f":"'4月'!O5","v":"食堂名"},null,null,null,null,")"]
[null,1,null,null,null,"参加人数","幼児",null,null,null,null,null,null,"人","食事","子どもへの準備食数"]
[null,null,null,null,null,null,"小学生",null,null,null,null,null,null,"人",null,null,null,null,"食"]
[null,null,null,null,null,null,"中学生",null,null,null,null,null,null,"人",null,"＜献立＞"]
[null,null,null,null,null,null,"中学校卒業後の\n子ども（※）",null,null,null,null,null,null,"人"]
[null,null,null,null,null,null,"小計",null,null,null,{"$f":"K6+K7+K8+K9","v":0},null,null,"人"]
[null,null,"日",null,null,null,"大人",null,null,null,null,null,null,"人"]
[null,null,null,null,null,"スタッフ数\n（ボランティアも含めて記入）",null,null,null,null,null,null,null,"人"]
[null,"(",null,null,")","参加費収入",null,null,null,null,null,null,null,"人分",null,null,null,"円"]
[null,null,null,null,null,"スタッフ等謝礼金支払い",null,null,null,null,null,null,null,"人分",null,null,null,"円"]
[null,null,null,null,null,"○上記の「参加費収入」と「ｽﾀｯﾌ等謝礼金」の金額は、\n各回の出納帳に記載する金額と一致させてください。"]
[null,"自由記入欄（実施の効果や課題など）",null,null,null,null,null,null,null,null,null,null,null,null,null,"（充実経費の効果）"]
[]
[]
[]
[]
[]
[null,2,null,null,null,"参加人数","幼児",null,null,null,null,null,null,"人","食事","子どもへの準備食数"]
[null,null,null,null,null,null,"小学生",null,null,null,null,null,null,"人",null,null,null,null,"食"]
[null,null,null,null,null,null,"中学生",null,null,null,null,null,null,"人",null,"＜献立＞"]
[null,null,null,null,null,null,"中学校卒業後の\n子ども（※）",null,null,null,null,null,null,"人"]
[null,null,null,null,null,null,"小計",null,null,null,{"$f":"K22+K23+K24+K25","v":0},null,null,"人"]
[null,null,"日",null,null,null,"大人",null,null,null,null,null,null,"人"]
[null,null,null,null,null,"スタッフ数\n（ボランティアも含めて記入）",null,null,null,null,null,null,null,"人"]
[null,"(",null,null,")","参加費収入",null,null,null,null,null,null,null,"人分",null,null,null,"円"]
[null,null,null,null,null,"スタッフ等謝礼金支払い",null,null,null,null,null,null,null,"人分",null,null,null,"円"]
[null,null,null,null,null,"○上記の「参加費収入」と「ｽﾀｯﾌ等謝礼金」の金額は、\n各回の出納帳に記載する金額と一致させてください。"]
[null,"自由記入欄（実施の効果や課題など）",null,null,null,null,null,null,null,null,null,null,null,null,null,"（充実経費の効果）"]
[]
[]
[]
[]
[]
[null,"※中学校卒業後から１８歳に達する日以後の最初の３月３１日までにある子ども。高校生など。"]
[null,null,"（　",{"$f":"D5","v":9},null,null,"月）- ②　",null,null,"食堂名",null,null,null,"(",{"$f":"O5","v":"食堂名"},null,null,null,null,")"]
[null,3,null,null,null,"参加人数","幼児",null,null,null,null,null,null,"人","食事","子どもへの準備食数"]
[null,null,null,null,null,null,"小学生",null,null,null,null,null,null,"人",null,null,null,null,"食"]
[null,null,null,null,null,null,"中学生",null,null,null,null,null,null,"人",null,"＜献立＞"]
[null,null,null,null,null,null,"中学校卒業後の\n子ども（※）",null,null,null,null,null,null,"人"]
[null,null,null,null,null,null,"小計",null,null,null,{"$f":"K40+K41+K42+K43","v":0},null,null,"人"]
[null,null,"日",null,null,null,"大人",null,null,null,null,null,null,"人"]
[null,null,null,null,null,"スタッフ数\n（ボランティアも含めて記入）",null,null,null,null,null,null,null,"人"]
[null,"(",null,null,")","参加費収入",null,null,null,null,null,null,null,"人分",null,null,null,"円"]
[null,null,null,null,null,"スタッフ等謝礼金支払い",null,null,null,null,null,null,null,"人分",null,null,null,"円"]
[null,null,null,null,null,"○上記の「参加費収入」と「ｽﾀｯﾌ等謝礼金」の金額は、\n各回の出納帳に記載する金額と一致させてください。"]
[null,"自由記入欄（実施の効果や課題など）",null,null,null,null,null,null,null,null,null,null,null,null,null,"（充実経費の効果）"]
[]
[]
[]
[]
[]
[null,4,null,null,null,"参加人数","幼児",null,null,null,null,null,null,"人","食事","子どもへの準備食数"]
[null,null,null,null,null,null,"小学生",null,null,null,null,null,null,"人",null,null,null,null,"食"]
[null,null,null,null,null,null,"中学生",null,null,null,null,null,null,"人",null,"＜献立＞"]
[null,null,null,null,null,null,"中学校卒業後の\n子ども（※）",null,null,null,null,null,null,"人"]
[null,null,null,null,null,null,"小計",null,null,null,{"$f":"K56+K57+K58+K59","v":0},null,null,"人"]
[null,null,"日",null,null,null,"大人",null,null,null,null,null,null,"人"]
[null,null,null,null,null,"スタッフ数\n（ボランティアも含めて記入）",null,null,null,null,null,null,null,"人"]
[null,"(",null,null,")","参加費収入",null,null,null,null,null,null,null,"人分",null,null,null,"円"]
[null,null,null,null,null,"スタッフ等謝礼金支払い",null,null,null,null,null,null,null,"人分",null,null,null,"円"]
[null,null,null,null,null,"○上記の「参加費収入」と「ｽﾀｯﾌ等謝礼金」の金額は、\n各回の出納帳に記載する金額と一致させてください。"]
[null,"自由記入欄（実施の効果や課題など）",null,null,null,null,null,null,null,null,null,null,null,null,null,"（充実経費の効果）"]
[]
[]
[]
[]
[]
[null,"※中学校卒業後から１８歳に達する日以後の最初の３月３１日までにある子ども。高校生など。"]
[null,null,"（　",{"$f":"D39","v":9},null,null,"月）- ③　",null,null,"食堂名",null,null,null,"(",{"$f":"O5","v":"食堂名"},null,null,null,null,")"]
[null,5,null,null,null,"参加人数","幼児",null,null,null,null,null,null,"人","食事","子どもへの準備食数"]
[null,null,null,null,null,null,"小学生",null,null,null,null,null,null,"人",null,null,null,null,"食"]
[null,null,null,null,null,null,"中学生",null,null,null,null,null,null,"人",null,"＜献立＞"]
[null,null,null,null,null,null,"中学校卒業後の\n子ども（※）",null,null,null,null,null,null,"人"]
[null,null,null,null,null,null,"小計",null,null,null,{"$f":"K74+K75+K76+K77","v":0},null,null,"人"]
[null,null,"日",null,null,null,"大人",null,null,null,null,null,null,"人"]
[null,null,null,null,null,"スタッフ数\n（ボランティアも含めて記入）",null,null,null,null,null,null,null,"人"]
[null,"(",null,null,")","参加費収入",null,null,null,null,null,null,null,"人分",null,null,null,"円"]
[null,null,null,null,null,"スタッフ等謝礼金支払い",null,null,null,null,null,null,null,"人分",null,null,null,"円"]
[null,null,null,null,null,"○上記の「参加費収入」と「ｽﾀｯﾌ等謝礼金」の金額は、\n各回の出納帳に記載する金額と一致させてください。"]
[null,"自由記入欄（実施の効果や課題など）",null,null,null,null,null,null,null,null,null,null,null,null,null,"（充実経費の効果）"]
[]
[]
[]
[]
[]
[]
[]
[]
[]
[]
[]
[]
[]
[]
[]
[]
[]
[]
[]
[]
[]
[null,"※中学校卒業後から１８歳に達する日以後の最初の３月３１日までにある子ども。高校生など。"]

{"sheet":"10月","index":8,"n_rows":106,"n_cols":20,"rows_kept":106,"cut":false,"hidden":false,"merged":[[80,1,81,1],[80,4,81,4],[83,1,83,14],[83,15,83,19],[84,1,88,14],[84,15,88,19],[50,15,54,19],[58,2,59,3],[62,1,63,1],[62,4,63,4],[65,1,65,14],[65,15,65,19],[66,1,70,14],[66,15,70,19],[76,2,77,3],[64,5,64,19],[72,3,72,5],[72,6,72,8],[72,9,72,12],[72,14,72,18],[71,1,71,19],[81,5,81,9],[81,10,81,12],[81,14,81,16],[24,2,25,3],[28,1,29,1],[28,4,29,4],[23,10,23,12],[24,10,24,12],[21,5,26,5],[21,14,27,14],[21,15,21,19],[22,15,22,17],[22,18,22,19],[21,6,21,9],[21,10,21,12],[22,6,22,9],[22,10,22,12],[23,6,23,9],[23,15,23,19],[24,6,24,9],[24,15,27,19],[28,10,28,12],[28,14,28,16],[28,18,28,19],[27,5,27,9],[27,10,27,12],[29,5,29,9],[12,1,13,1],[12,4,13,4],[15,1,15,14],[15,15,15,19],[16,1,20,14],[16,15,20,19],[11,5,11,9],[11,10,11,12],[12,5,12,9],[12,10,12,12],[14,5,14,19],[12,14,12,16],[12,18,12,19],[13,5,13,9],[13,10,13,12],[13,14,13,16],[13,18,13,19],[4,3,4,5],[4,14,4,18],[5,5,10,5],[5,6,5,9],[5,10,5,12],[5,14,11,14],[5,15,5,19],[6,6,6,9],[6,10,6,12],[6,15,6,17],[6,18,6,19],[7,6,7,9],[7,10,7,12],[8,6,8,9],[8,10,8,12],[8,15,11,19],[9,6,9,9],[10,10,10,12],[9,10,9,12],[8,2,9,3],[10,6,10,9],[44,6,44,9],[44,10,44,12],[46,10,46,12],[59,6,59,9],[59,10,59,12],[60,6,60,9],[60,10,60,12],[45,10,45,12],[47,10,47,12],[45,5,45,9],[46,5,46,9],[47,5,47,9],[50,1,54,14],[48,5,48,19],[46,14,46,16],[46,18,46,19],[47,14,47,16],[47,18,47,19],[46,1,47,1],[46,4,47,4],[0,1,0,4],[0,5,1,19],[2,3,2,6],[2,8,2,19],[3,3,3,19],[4,6,4,8],[7,15,7,19],[4,9,4,12],[49,1,49,14],[49,15,49,19],[25,6,25,9],[26,6,26,9],[26,10,26,12],[25,10,25,12],[40,10,40,12],[40,18,40,19],[39,10,39,12],[30,5,30,19],[31,1,31,14],[31,15,31,19],[32,1,36,14],[32,15,36,19],[42,2,43,3],[28,5,28,9],[29,10,29,12],[29,14,29,16],[29,18,29,19],[26,2,27,3],[58,15,61,19],[38,3,38,5],[38,6,38,8],[38,9,38,12],[38,14,38,18],[39,5,44,5],[39,6,39,9],[39,14,45,14],[39,15,39,19],[40,6,40,9],[40,15,40,17],[41,6,41,9],[41,10,41,12],[41,15,41,19],[42,6,42,9],[42,10,42,12],[42,15,45,19],[43,6,43,9],[43,10,43,12],[37,1,37,19],[62,18,62,19],[63,5,63,9],[63,14,63,16],[63,18,63,19],[55,5,60,5],[55,6,55,9],[55,10,55,12],[55,14,61,14],[55,15,55,19],[56,6,56,9],[56,10,56,12],[56,15,56,17],[56,18,56,19],[57,6,57,9],[57,10,57,12],[57,15,57,19],[58,6,58,9],[58,10,58,12],[63,10,63,12],[61,10,61,12],[62,10,62,12],[61,5,61,9],[62,5,62,9],[62,14,62,16],[74,6,74,9],[74,10,74,12],[74,15,74,17],[74,18,74,19],[75,6,75,9],[75,10,75,12],[75,15,75,19],[76,6,76,9],[76,10,76,12],[76,15,79,19],[77,6,77,9],[77,10,77,12],[78,6,78,9],[78,10,78,12],[105,1,105,19],[10,2,11,3],[12,2,13,3],[28,2,29,3],[44,2,45,3],[46,2,47,3],[60,2,61,3],[62,2,63,3],[78,2,79,3],[80,2,81,3],[89,1,104,19],[82,5,82,19],[79,5,79,9],[79,10,79,12],[80,5,80,9],[80,10,80,12],[80,14,80,16],[80,18,80,19],[81,18,81,19],[73,5,78,5],[73,6,73,9],[73,10,73,12],[73,14,79,14],[73,15,73,19]]}
[null,"（様式第1２号）",null,null,null,"事業実施月の翌月8日までにメール、FAXなどで提出してください。\nEmail：kodosei@city.hirakata.osaka.jp  FAX：072-843-2244"]
[]
[null,null,null,"令和",null,null,null,8,"年度　子どもの居場所づくり推進事業"]
[null,null,null,"月　例　報　告　書"]
[null,null,"（　",10,null,null,"月）- ①　",null,null,"食堂名",null,null,null,"(",{"$f":"'4月'!O5","v":"食堂名"},null,null,null,null,")"]
[null,1,null,null,null,"参加人数","幼児",null,null,null,null,null,null,"人","食事","子どもへの準備食数"]
[null,null,null,null,null,null,"小学生",null,null,null,null,null,null,"人",null,null,null,null,"食"]
[null,null,null,null,null,null,"中学生",null,null,null,null,null,null,"人",null,"＜献立＞"]
[null,null,null,null,null,null,"中学校卒業後の\n子ども（※）",null,null,null,null,null,null,"人"]
[null,null,null,null,null,null,"小計",null,null,null,{"$f":"K6+K7+K8+K9","v":0},null,null,"人"]
[null,null,"日",null,null,null,"大人",null,null,null,null,null,null,"人"]
[null,null,null,null,null,"スタッフ数\n（ボランティアも含めて記入）",null,null,null,null,null,null,null,"人"]
[null,"(",null,null,")","参加費収入",null,null,null,null,null,null,null,"人分",null,null,null,"円"]
[null,null,null,null,null,"スタッフ等謝礼金支払い",null,null,null,null,null,null,null,"人分",null,null,null,"円"]
[null,null,null,null,null,"○上記の「参加費収入」と「ｽﾀｯﾌ等謝礼金」の金額は、\n各回の出納帳に記載する金額と一致させてください。"]
[null,"自由記入欄（実施の効果や課題など）",null,null,null,null,null,null,null,null,null,null,null,null,null,"（充実経費の効果）"]
[]
[]
[]
[]
[]
[null,2,null,null,null,"参加人数","幼児",null,null,null,null,null,null,"人","食事","子どもへの準備食数"]
[null,null,null,null,null,null,"小学生",null,null,null,null,null,null,"人",null,null,null,null,"食"]
[null,null,null,null,null,null,"中学生",null,null,null,null,null,null,"人",null,"＜献立＞"]
[null,null,null,null,null,null,"中学校卒業後の\n子ども（※）",null,null,null,null,null,null,"人"]
[null,null,null,null,null,null,"小計",null,null,null,{"$f":"K22+K23+K24+K25","v":0},null,null,"人"]
[null,null,"日",null,null,null,"大人",null,null,null,null,null,null,"人"]
[null,null,null,null,null,"スタッフ数\n（ボランティアも含めて記入）",null,null,null,null,null,null,null,"人"]
[null,"(",null,null,")","参加費収入",null,null,null,null,null,null,null,"人分",null,null,null,"円"]
[null,null,null,null,null,"スタッフ等謝礼金支払い",null,null,null,null,null,null,null,"人分",null,null,null,"円"]
[null,null,null,null,null,"○上記の「参加費収入」と「ｽﾀｯﾌ等謝礼金」の金額は、\n各回の出納帳に記載する金額と一致させてください。"]
[null,"自由記入欄（実施の効果や課題など）",null,null,null,null,null,null,null,null,null,null,null,null,null,"（充実経費の効果）"]
[]
[]
[]
[]
[]
[null,"※中学校卒業後から１８歳に達する日以後の最初の３月３１日までにある子ども。高校生など。"]
[null,null,"（　",{"$f":"D5","v":10},null,null,"月）- ②　",null,null,"食堂名",null,null,null,"(",{"$f":"O5","v":"食堂名"},null,null,null,null,")"]
[null,3,null,null,null,"参加人数","幼児",null,null,null,null,null,null,"人","食事","子どもへの準備食数"]
[null,null,null,null,null,null,"小学生",null,null,null,null,null,null,"人",null,null,null,null,"食"]
[null,null,null,null,null,null,"中学生",null,null,null,null,null,null,"人",null,"＜献立＞"]
[null,null,null,null,null,null,"中学校卒業後の\n子ども（※）",null,null,null,null,null,null,"人"]
[null,null,null,null,null,null,"小計",null,null,null,{"$f":"K40+K41+K42+K43","v":0},null,null,"人"]
[null,null,"日",null,null,null,"大人",null,null,null,null,null,null,"人"]
[null,null,null,null,null,"スタッフ数\n（ボランティアも含めて記入）",null,null,null,null,null,null,null,"人"]
[null,"(",null,null,")","参加費収入",null,null,null,null,null,null,null,"人分",null,null,null,"円"]
[null,null,null,null,null,"スタッフ等謝礼金支払い",null,null,null,null,null,null,null,"人分",null,null,null,"円"]
[null,null,null,null,null,"○上記の「参加費収入」と「ｽﾀｯﾌ等謝礼金」の金額は、\n各回の出納帳に記載する金額と一致させてください。"]
[null,"自由記入欄（実施の効果や課題など）",null,null,null,null,null,null,null,null,null,null,null,null,null,"（充実経費の効果）"]
[]
[]
[]
[]
[]
[null,4,null,null,null,"参加人数","幼児",null,null,null,null,null,null,"人","食事","子どもへの準備食数"]
[null,null,null,null,null,null,"小学生",null,null,null,null,null,null,"人",null,null,null,null,"食"]
[null,null,null,null,null,null,"中学生",null,null,null,null,null,null,"人",null,"＜献立＞"]
[null,null,null,null,null,null,"中学校卒業後の\n子ども（※）",null,null,null,null,null,null,"人"]
[null,null,null,null,null,null,"小計",null,null,null,{"$f":"K56+K57+K58+K59","v":0},null,null,"人"]
[null,null,"日",null,null,null,"大人",null,null,null,null,null,null,"人"]
[null,null,null,null,null,"スタッフ数\n（ボランティアも含めて記入）",null,null,null,null,null,null,null,"人"]
[null,"(",null,null,")","参加費収入",null,null,null,null,null,null,null,"人分",null,null,null,"円"]
[null,null,null,null,null,"スタッフ等謝礼金支払い",null,null,null,null,null,null,null,"人分",null,null,null,"円"]
[null,null,null,null,null,"○上記の「参加費収入」と「ｽﾀｯﾌ等謝礼金」の金額は、\n各回の出納帳に記載する金額と一致させてください。"]
[null,"自由記入欄（実施の効果や課題など）",null,null,null,null,null,null,null,null,null,null,null,null,null,"（充実経費の効果）"]
[]
[]
[]
[]
[]
[null,"※中学校卒業後から１８歳に達する日以後の最初の３月３１日までにある子ども。高校生など。"]
[null,null,"（　",{"$f":"D39","v":10},null,null,"月）- ③　",null,null,"食堂名",null,null,null,"(",{"$f":"O5","v":"食堂名"},null,null,null,null,")"]
[null,5,null,null,null,"参加人数","幼児",null,null,null,null,null,null,"人","食事","子どもへの準備食数"]
[null,null,null,null,null,null,"小学生",null,null,null,null,null,null,"人",null,null,null,null,"食"]
[null,null,null,null,null,null,"中学生",null,null,null,null,null,null,"人",null,"＜献立＞"]
[null,null,null,null,null,null,"中学校卒業後の\n子ども（※）",null,null,null,null,null,null,"人"]
[null,null,null,null,null,null,"小計",null,null,null,{"$f":"K74+K75+K76+K77","v":0},null,null,"人"]
[null,null,"日",null,null,null,"大人",null,null,null,null,null,null,"人"]
[null,null,null,null,null,"スタッフ数\n（ボランティアも含めて記入）",null,null,null,null,null,null,null,"人"]
[null,"(",null,null,")","参加費収入",null,null,null,null,null,null,null,"人分",null,null,null,"円"]
[null,null,null,null,null,"スタッフ等謝礼金支払い",null,null,null,null,null,null,null,"人分",null,null,null,"円"]
[null,null,null,null,null,"○上記の「参加費収入」と「ｽﾀｯﾌ等謝礼金」の金額は、\n各回の出納帳に記載する金額と一致させてください。"]
[null,"自由記入欄（実施の効果や課題など）",null,null,null,null,null,null,null,null,null,null,null,null,null,"（充実経費の効果）"]
[]
[]
[]
[]
[]
[]
[]
[]
[]
[]
[]
[]
[]
[]
[]
[]
[]
[]
[]
[]
[]
[null,"※中学校卒業後から１８歳に達する日以後の最初の３月３１日までにある子ども。高校生など。"]

{"sheet":"11月","index":9,"n_rows":106,"n_cols":20,"rows_kept":106,"cut":false,"hidden":false,"merged":[[80,1,81,1],[80,4,81,4],[83,1,83,14],[83,15,83,19],[84,1,88,14],[84,15,88,19],[50,15,54,19],[58,2,59,3],[62,1,63,1],[62,4,63,4],[65,1,65,14],[65,15,65,19],[66,1,70,14],[66,15,70,19],[76,2,77,3],[64,5,64,19],[72,3,72,5],[72,6,72,8],[72,9,72,12],[72,14,72,18],[71,1,71,19],[81,5,81,9],[81,10,81,12],[81,14,81,16],[24,2,25,3],[28,1,29,1],[28,4,29,4],[23,10,23,12],[24,10,24,12],[21,5,26,5],[21,14,27,14],[21,15,21,19],[22,15,22,17],[22,18,22,19],[21,6,21,9],[21,10,21,12],[22,6,22,9],[22,10,22,12],[23,6,23,9],[23,15,23,19],[24,6,24,9],[24,15,27,19],[28,10,28,12],[28,14,28,16],[28,18,28,19],[27,5,27,9],[27,10,27,12],[29,5,29,9],[12,1,13,1],[12,4,13,4],[15,1,15,14],[15,15,15,19],[16,1,20,14],[16,15,20,19],[11,5,11,9],[11,10,11,12],[12,5,12,9],[12,10,12,12],[14,5,14,19],[12,14,12,16],[12,18,12,19],[13,5,13,9],[13,10,13,12],[13,14,13,16],[13,18,13,19],[4,3,4,5],[4,14,4,18],[5,5,10,5],[5,6,5,9],[5,10,5,12],[5,14,11,14],[5,15,5,19],[6,6,6,9],[6,10,6,12],[6,15,6,17],[6,18,6,19],[7,6,7,9],[7,10,7,12],[8,6,8,9],[8,10,8,12],[8,15,11,19],[9,6,9,9],[10,10,10,12],[9,10,9,12],[8,2,9,3],[10,6,10,9],[44,6,44,9],[44,10,44,12],[46,10,46,12],[59,6,59,9],[59,10,59,12],[60,6,60,9],[60,10,60,12],[45,10,45,12],[47,10,47,12],[45,5,45,9],[46,5,46,9],[47,5,47,9],[50,1,54,14],[48,5,48,19],[46,14,46,16],[46,18,46,19],[47,14,47,16],[47,18,47,19],[46,1,47,1],[46,4,47,4],[0,1,0,4],[0,5,1,19],[2,3,2,6],[2,8,2,19],[3,3,3,19],[4,6,4,8],[7,15,7,19],[4,9,4,12],[49,1,49,14],[49,15,49,19],[25,6,25,9],[26,6,26,9],[26,10,26,12],[25,10,25,12],[40,10,40,12],[40,18,40,19],[39,10,39,12],[30,5,30,19],[31,1,31,14],[31,15,31,19],[32,1,36,14],[32,15,36,19],[42,2,43,3],[28,5,28,9],[29,10,29,12],[29,14,29,16],[29,18,29,19],[26,2,27,3],[58,15,61,19],[38,3,38,5],[38,6,38,8],[38,9,38,12],[38,14,38,18],[39,5,44,5],[39,6,39,9],[39,14,45,14],[39,15,39,19],[40,6,40,9],[40,15,40,17],[41,6,41,9],[41,10,41,12],[41,15,41,19],[42,6,42,9],[42,10,42,12],[42,15,45,19],[43,6,43,9],[43,10,43,12],[37,1,37,19],[62,18,62,19],[63,5,63,9],[63,14,63,16],[63,18,63,19],[55,5,60,5],[55,6,55,9],[55,10,55,12],[55,14,61,14],[55,15,55,19],[56,6,56,9],[56,10,56,12],[56,15,56,17],[56,18,56,19],[57,6,57,9],[57,10,57,12],[57,15,57,19],[58,6,58,9],[58,10,58,12],[63,10,63,12],[61,10,61,12],[62,10,62,12],[61,5,61,9],[62,5,62,9],[62,14,62,16],[74,6,74,9],[74,10,74,12],[74,15,74,17],[74,18,74,19],[75,6,75,9],[75,10,75,12],[75,15,75,19],[76,6,76,9],[76,10,76,12],[76,15,79,19],[77,6,77,9],[77,10,77,12],[78,6,78,9],[78,10,78,12],[105,1,105,19],[10,2,11,3],[12,2,13,3],[28,2,29,3],[44,2,45,3],[46,2,47,3],[60,2,61,3],[62,2,63,3],[78,2,79,3],[80,2,81,3],[89,1,104,19],[82,5,82,19],[79,5,79,9],[79,10,79,12],[80,5,80,9],[80,10,80,12],[80,14,80,16],[80,18,80,19],[81,18,81,19],[73,5,78,5],[73,6,73,9],[73,10,73,12],[73,14,79,14],[73,15,73,19]]}
[null,"（様式第1２号）",null,null,null,"事業実施月の翌月8日までにメール、FAXなどで提出してください。\nEmail：kodosei@city.hirakata.osaka.jp  FAX：072-843-2244"]
[]
[null,null,null,"令和",null,null,null,8,"年度　子どもの居場所づくり推進事業"]
[null,null,null,"月　例　報　告　書"]
[null,null,"（　",11,null,null,"月）- ①　",null,null,"食堂名",null,null,null,"(",{"$f":"'4月'!O5","v":"食堂名"},null,null,null,null,")"]
[null,1,null,null,null,"参加人数","幼児",null,null,null,null,null,null,"人","食事","子どもへの準備食数"]
[null,null,null,null,null,null,"小学生",null,null,null,null,null,null,"人",null,null,null,null,"食"]
[null,null,null,null,null,null,"中学生",null,null,null,null,null,null,"人",null,"＜献立＞"]
[null,null,null,null,null,null,"中学校卒業後の\n子ども（※）",null,null,null,null,null,null,"人"]
[null,null,null,null,null,null,"小計",null,null,null,{"$f":"K6+K7+K8+K9","v":0},null,null,"人"]
[null,null,"日",null,null,null,"大人",null,null,null,null,null,null,"人"]
[null,null,null,null,null,"スタッフ数\n（ボランティアも含めて記入）",null,null,null,null,null,null,null,"人"]
[null,"(",null,null,")","参加費収入",null,null,null,null,null,null,null,"人分",null,null,null,"円"]
[null,null,null,null,null,"スタッフ等謝礼金支払い",null,null,null,null,null,null,null,"人分",null,null,null,"円"]
[null,null,null,null,null,"○上記の「参加費収入」と「ｽﾀｯﾌ等謝礼金」の金額は、\n各回の出納帳に記載する金額と一致させてください。"]
[null,"自由記入欄（実施の効果や課題など）",null,null,null,null,null,null,null,null,null,null,null,null,null,"（充実経費の効果）"]
[]
[]
[]
[]
[]
[null,2,null,null,null,"参加人数","幼児",null,null,null,null,null,null,"人","食事","子どもへの準備食数"]
[null,null,null,null,null,null,"小学生",null,null,null,null,null,null,"人",null,null,null,null,"食"]
[null,null,null,null,null,null,"中学生",null,null,null,null,null,null,"人",null,"＜献立＞"]
[null,null,null,null,null,null,"中学校卒業後の\n子ども（※）",null,null,null,null,null,null,"人"]
[null,null,null,null,null,null,"小計",null,null,null,{"$f":"K22+K23+K24+K25","v":0},null,null,"人"]
[null,null,"日",null,null,null,"大人",null,null,null,null,null,null,"人"]
[null,null,null,null,null,"スタッフ数\n（ボランティアも含めて記入）",null,null,null,null,null,null,null,"人"]
[null,"(",null,null,")","参加費収入",null,null,null,null,null,null,null,"人分",null,null,null,"円"]
[null,null,null,null,null,"スタッフ等謝礼金支払い",null,null,null,null,null,null,null,"人分",null,null,null,"円"]
[null,null,null,null,null,"○上記の「参加費収入」と「ｽﾀｯﾌ等謝礼金」の金額は、\n各回の出納帳に記載する金額と一致させてください。"]
[null,"自由記入欄（実施の効果や課題など）",null,null,null,null,null,null,null,null,null,null,null,null,null,"（充実経費の効果）"]
[]
[]
[]
[]
[]
[null,"※中学校卒業後から１８歳に達する日以後の最初の３月３１日までにある子ども。高校生など。"]
[null,null,"（　",{"$f":"D5","v":11},null,null,"月）- ②　",null,null,"食堂名",null,null,null,"(",{"$f":"O5","v":"食堂名"},null,null,null,null,")"]
[null,3,null,null,null,"参加人数","幼児",null,null,null,null,null,null,"人","食事","子どもへの準備食数"]
[null,null,null,null,null,null,"小学生",null,null,null,null,null,null,"人",null,null,null,null,"食"]
[null,null,null,null,null,null,"中学生",null,null,null,null,null,null,"人",null,"＜献立＞"]
[null,null,null,null,null,null,"中学校卒業後の\n子ども（※）",null,null,null,null,null,null,"人"]
[null,null,null,null,null,null,"小計",null,null,null,{"$f":"K40+K41+K42+K43","v":0},null,null,"人"]
[null,null,"日",null,null,null,"大人",null,null,null,null,null,null,"人"]
[null,null,null,null,null,"スタッフ数\n（ボランティアも含めて記入）",null,null,null,null,null,null,null,"人"]
[null,"(",null,null,")","参加費収入",null,null,null,null,null,null,null,"人分",null,null,null,"円"]
[null,null,null,null,null,"スタッフ等謝礼金支払い",null,null,null,null,null,null,null,"人分",null,null,null,"円"]
[null,null,null,null,null,"○上記の「参加費収入」と「ｽﾀｯﾌ等謝礼金」の金額は、\n各回の出納帳に記載する金額と一致させてください。"]
[null,"自由記入欄（実施の効果や課題など）",null,null,null,null,null,null,null,null,null,null,null,null,null,"（充実経費の効果）"]
[]
[]
[]
[]
[]
[null,4,null,null,null,"参加人数","幼児",null,null,null,null,null,null,"人","食事","子どもへの準備食数"]
[null,null,null,null,null,null,"小学生",null,null,null,null,null,null,"人",null,null,null,null,"食"]
[null,null,null,null,null,null,"中学生",null,null,null,null,null,null,"人",null,"＜献立＞"]
[null,null,null,null,null,null,"中学校卒業後の\n子ども（※）",null,null,null,null,null,null,"人"]
[null,null,null,null,null,null,"小計",null,null,null,{"$f":"K56+K57+K58+K59","v":0},null,null,"人"]
[null,null,"日",null,null,null,"大人",null,null,null,null,null,null,"人"]
[null,null,null,null,null,"スタッフ数\n（ボランティアも含めて記入）",null,null,null,null,null,null,null,"人"]
[null,"(",null,null,")","参加費収入",null,null,null,null,null,null,null,"人分",null,null,null,"円"]
[null,null,null,null,null,"スタッフ等謝礼金支払い",null,null,null,null,null,null,null,"人分",null,null,null,"円"]
[null,null,null,null,null,"○上記の「参加費収入」と「ｽﾀｯﾌ等謝礼金」の金額は、\n各回の出納帳に記載する金額と一致させてください。"]
[null,"自由記入欄（実施の効果や課題など）",null,null,null,null,null,null,null,null,null,null,null,null,null,"（充実経費の効果）"]
[]
[]
[]
[]
[]
[null,"※中学校卒業後から１８歳に達する日以後の最初の３月３１日までにある子ども。高校生など。"]
[null,null,"（　",{"$f":"D39","v":11},null,null,"月）- ③　",null,null,"食堂名",null,null,null,"(",{"$f":"O5","v":"食堂名"},null,null,null,null,")"]
[null,5,null,null,null,"参加人数","幼児",null,null,null,null,null,null,"人","食事","子どもへの準備食数"]
[null,null,null,null,null,null,"小学生",null,null,null,null,null,null,"人",null,null,null,null,"食"]
[null,null,null,null,null,null,"中学生",null,null,null,null,null,null,"人",null,"＜献立＞"]
[null,null,null,null,null,null,"中学校卒業後の\n子ども（※）",null,null,null,null,null,null,"人"]
[null,null,null,null,null,null,"小計",null,null,null,{"$f":"K74+K75+K76+K77","v":0},null,null,"人"]
[null,null,"日",null,null,null,"大人",null,null,null,null,null,null,"人"]
[null,null,null,null,null,"スタッフ数\n（ボランティアも含めて記入）",null,null,null,null,null,null,null,"人"]
[null,"(",null,null,")","参加費収入",null,null,null,null,null,null,null,"人分",null,null,null,"円"]
[null,null,null,null,null,"スタッフ等謝礼金支払い",null,null,null,null,null,null,null,"人分",null,null,null,"円"]
[null,null,null,null,null,"○上記の「参加費収入」と「ｽﾀｯﾌ等謝礼金」の金額は、\n各回の出納帳に記載する金額と一致させてください。"]
[null,"自由記入欄（実施の効果や課題など）",null,null,null,null,null,null,null,null,null,null,null,null,null,"（充実経費の効果）"]
[]
[]
[]
[]
[]
[]
[]
[]
[]
[]
[]
[]
[]
[]
[]
[]
[]
[]
[]
[]
[]
[null,"※中学校卒業後から１８歳に達する日以後の最初の３月３１日までにある子ども。高校生など。"]

{"sheet":"12月","index":10,"n_rows":106,"n_cols":20,"rows_kept":106,"cut":false,"hidden":false,"merged":[[80,1,81,1],[80,4,81,4],[83,1,83,14],[83,15,83,19],[84,1,88,14],[84,15,88,19],[50,15,54,19],[58,2,59,3],[62,1,63,1],[62,4,63,4],[65,1,65,14],[65,15,65,19],[66,1,70,14],[66,15,70,19],[76,2,77,3],[64,5,64,19],[72,3,72,5],[72,6,72,8],[72,9,72,12],[72,14,72,18],[71,1,71,19],[81,5,81,9],[81,10,81,12],[81,14,81,16],[24,2,25,3],[28,1,29,1],[28,4,29,4],[23,10,23,12],[24,10,24,12],[21,5,26,5],[21,14,27,14],[21,15,21,19],[22,15,22,17],[22,18,22,19],[21,6,21,9],[21,10,21,12],[22,6,22,9],[22,10,22,12],[23,6,23,9],[23,15,23,19],[24,6,24,9],[24,15,27,19],[28,10,28,12],[28,14,28,16],[28,18,28,19],[27,5,27,9],[27,10,27,12],[29,5,29,9],[12,1,13,1],[12,4,13,4],[15,1,15,14],[15,15,15,19],[16,1,20,14],[16,15,20,19],[11,5,11,9],[11,10,11,12],[12,5,12,9],[12,10,12,12],[14,5,14,19],[12,14,12,16],[12,18,12,19],[13,5,13,9],[13,10,13,12],[13,14,13,16],[13,18,13,19],[4,3,4,5],[4,14,4,18],[5,5,10,5],[5,6,5,9],[5,10,5,12],[5,14,11,14],[5,15,5,19],[6,6,6,9],[6,10,6,12],[6,15,6,17],[6,18,6,19],[7,6,7,9],[7,10,7,12],[8,6,8,9],[8,10,8,12],[8,15,11,19],[9,6,9,9],[10,10,10,12],[9,10,9,12],[8,2,9,3],[10,6,10,9],[44,6,44,9],[44,10,44,12],[46,10,46,12],[59,6,59,9],[59,10,59,12],[60,6,60,9],[60,10,60,12],[45,10,45,12],[47,10,47,12],[45,5,45,9],[46,5,46,9],[47,5,47,9],[50,1,54,14],[48,5,48,19],[46,14,46,16],[46,18,46,19],[47,14,47,16],[47,18,47,19],[46,1,47,1],[46,4,47,4],[0,1,0,4],[0,5,1,19],[2,3,2,6],[2,8,2,19],[3,3,3,19],[4,6,4,8],[7,15,7,19],[4,9,4,12],[49,1,49,14],[49,15,49,19],[25,6,25,9],[26,6,26,9],[26,10,26,12],[25,10,25,12],[40,10,40,12],[40,18,40,19],[39,10,39,12],[30,5,30,19],[31,1,31,14],[31,15,31,19],[32,1,36,14],[32,15,36,19],[42,2,43,3],[28,5,28,9],[29,10,29,12],[29,14,29,16],[29,18,29,19],[26,2,27,3],[58,15,61,19],[38,3,38,5],[38,6,38,8],[38,9,38,12],[38,14,38,18],[39,5,44,5],[39,6,39,9],[39,14,45,14],[39,15,39,19],[40,6,40,9],[40,15,40,17],[41,6,41,9],[41,10,41,12],[41,15,41,19],[42,6,42,9],[42,10,42,12],[42,15,45,19],[43,6,43,9],[43,10,43,12],[37,1,37,19],[62,18,62,19],[63,5,63,9],[63,14,63,16],[63,18,63,19],[55,5,60,5],[55,6,55,9],[55,10,55,12],[55,14,61,14],[55,15,55,19],[56,6,56,9],[56,10,56,12],[56,15,56,17],[56,18,56,19],[57,6,57,9],[57,10,57,12],[57,15,57,19],[58,6,58,9],[58,10,58,12],[63,10,63,12],[61,10,61,12],[62,10,62,12],[61,5,61,9],[62,5,62,9],[62,14,62,16],[74,6,74,9],[74,10,74,12],[74,15,74,17],[74,18,74,19],[75,6,75,9],[75,10,75,12],[75,15,75,19],[76,6,76,9],[76,10,76,12],[76,15,79,19],[77,6,77,9],[77,10,77,12],[78,6,78,9],[78,10,78,12],[105,1,105,19],[10,2,11,3],[12,2,13,3],[28,2,29,3],[44,2,45,3],[46,2,47,3],[60,2,61,3],[62,2,63,3],[78,2,79,3],[80,2,81,3],[89,1,104,19],[82,5,82,19],[79,5,79,9],[79,10,79,12],[80,5,80,9],[80,10,80,12],[80,14,80,16],[80,18,80,19],[81,18,81,19],[73,5,78,5],[73,6,73,9],[73,10,73,12],[73,14,79,14],[73,15,73,19]]}
[null,"（様式第1２号）",null,null,null,"事業実施月の翌月8日までにメール、FAXなどで提出してください。\nEmail：kodosei@city.hirakata.osaka.jp  FAX：072-843-2244"]
[]
[null,null,null,"令和",null,null,null,8,"年度　子どもの居場所づくり推進事業"]
[null,null,null,"月　例　報　告　書"]
[null,null,"（　",12,null,null,"月）- ①　",null,null,"食堂名",null,null,null,"(",{"$f":"'4月'!O5","v":"食堂名"},null,null,null,null,")"]
[null,1,null,null,null,"参加人数","幼児",null,null,null,null,null,null,"人","食事","子どもへの準備食数"]
[null,null,null,null,null,null,"小学生",null,null,null,null,null,null,"人",null,null,null,null,"食"]
[null,null,null,null,null,null,"中学生",null,null,null,null,null,null,"人",null,"＜献立＞"]
[null,null,null,null,null,null,"中学校卒業後の\n子ども（※）",null,null,null,null,null,null,"人"]
[null,null,null,null,null,null,"小計",null,null,null,{"$f":"K6+K7+K8+K9","v":0},null,null,"人"]
[null,null,"日",null,null,null,"大人",null,null,null,null,null,null,"人"]
[null,null,null,null,null,"スタッフ数\n（ボランティアも含めて記入）",null,null,null,null,null,null,null,"人"]
[null,"(",null,null,")","参加費収入",null,null,null,null,null,null,null,"人分",null,null,null,"円"]
[null,null,null,null,null,"スタッフ等謝礼金支払い",null,null,null,null,null,null,null,"人分",null,null,null,"円"]
[null,null,null,null,null,"○上記の「参加費収入」と「ｽﾀｯﾌ等謝礼金」の金額は、\n各回の出納帳に記載する金額と一致させてください。"]
[null,"自由記入欄（実施の効果や課題など）",null,null,null,null,null,null,null,null,null,null,null,null,null,"（充実経費の効果）"]
[]
[]
[]
[]
[]
[null,2,null,null,null,"参加人数","幼児",null,null,null,null,null,null,"人","食事","子どもへの準備食数"]
[null,null,null,null,null,null,"小学生",null,null,null,null,null,null,"人",null,null,null,null,"食"]
[null,null,null,null,null,null,"中学生",null,null,null,null,null,null,"人",null,"＜献立＞"]
[null,null,null,null,null,null,"中学校卒業後の\n子ども（※）",null,null,null,null,null,null,"人"]
[null,null,null,null,null,null,"小計",null,null,null,{"$f":"K22+K23+K24+K25","v":0},null,null,"人"]
[null,null,"日",null,null,null,"大人",null,null,null,null,null,null,"人"]
[null,null,null,null,null,"スタッフ数\n（ボランティアも含めて記入）",null,null,null,null,null,null,null,"人"]
[null,"(",null,null,")","参加費収入",null,null,null,null,null,null,null,"人分",null,null,null,"円"]
[null,null,null,null,null,"スタッフ等謝礼金支払い",null,null,null,null,null,null,null,"人分",null,null,null,"円"]
[null,null,null,null,null,"○上記の「参加費収入」と「ｽﾀｯﾌ等謝礼金」の金額は、\n各回の出納帳に記載する金額と一致させてください。"]
[null,"自由記入欄（実施の効果や課題など）",null,null,null,null,null,null,null,null,null,null,null,null,null,"（充実経費の効果）"]
[]
[]
[]
[]
[]
[null,"※中学校卒業後から１８歳に達する日以後の最初の３月３１日までにある子ども。高校生など。"]
[null,null,"（　",{"$f":"D5","v":12},null,null,"月）- ②　",null,null,"食堂名",null,null,null,"(",{"$f":"O5","v":"食堂名"},null,null,null,null,")"]
[null,3,null,null,null,"参加人数","幼児",null,null,null,null,null,null,"人","食事","子どもへの準備食数"]
[null,null,null,null,null,null,"小学生",null,null,null,null,null,null,"人",null,null,null,null,"食"]
[null,null,null,null,null,null,"中学生",null,null,null,null,null,null,"人",null,"＜献立＞"]
[null,null,null,null,null,null,"中学校卒業後の\n子ども（※）",null,null,null,null,null,null,"人"]
[null,null,null,null,null,null,"小計",null,null,null,{"$f":"K40+K41+K42+K43","v":0},null,null,"人"]
[null,null,"日",null,null,null,"大人",null,null,null,null,null,null,"人"]
[null,null,null,null,null,"スタッフ数\n（ボランティアも含めて記入）",null,null,null,null,null,null,null,"人"]
[null,"(",null,null,")","参加費収入",null,null,null,null,null,null,null,"人分",null,null,null,"円"]
[null,null,null,null,null,"スタッフ等謝礼金支払い",null,null,null,null,null,null,null,"人分",null,null,null,"円"]
[null,null,null,null,null,"○上記の「参加費収入」と「ｽﾀｯﾌ等謝礼金」の金額は、\n各回の出納帳に記載する金額と一致させてください。"]
[null,"自由記入欄（実施の効果や課題など）",null,null,null,null,null,null,null,null,null,null,null,null,null,"（充実経費の効果）"]
[]
[]
[]
[]
[]
[null,4,null,null,null,"参加人数","幼児",null,null,null,null,null,null,"人","食事","子どもへの準備食数"]
[null,null,null,null,null,null,"小学生",null,null,null,null,null,null,"人",null,null,null,null,"食"]
[null,null,null,null,null,null,"中学生",null,null,null,null,null,null,"人",null,"＜献立＞"]
[null,null,null,null,null,null,"中学校卒業後の\n子ども（※）",null,null,null,null,null,null,"人"]
[null,null,null,null,null,null,"小計",null,null,null,{"$f":"K56+K57+K58+K59","v":0},null,null,"人"]
[null,null,"日",null,null,null,"大人",null,null,null,null,null,null,"人"]
[null,null,null,null,null,"スタッフ数\n（ボランティアも含めて記入）",null,null,null,null,null,null,null,"人"]
[null,"(",null,null,")","参加費収入",null,null,null,null,null,null,null,"人分",null,null,null,"円"]
[null,null,null,null,null,"スタッフ等謝礼金支払い",null,null,null,null,null,null,null,"人分",null,null,null,"円"]
[null,null,null,null,null,"○上記の「参加費収入」と「ｽﾀｯﾌ等謝礼金」の金額は、\n各回の出納帳に記載する金額と一致させてください。"]
[null,"自由記入欄（実施の効果や課題など）",null,null,null,null,null,null,null,null,null,null,null,null,null,"（充実経費の効果）"]
[]
[]
[]
[]
[]
[null,"※中学校卒業後から１８歳に達する日以後の最初の３月３１日までにある子ども。高校生など。"]
[null,null,"（　",{"$f":"D39","v":12},null,null,"月）- ③　",null,null,"食堂名",null,null,null,"(",{"$f":"O5","v":"食堂名"},null,null,null,null,")"]
[null,5,null,null,null,"参加人数","幼児",null,null,null,null,null,null,"人","食事","子どもへの準備食数"]
[null,null,null,null,null,null,"小学生",null,null,null,null,null,null,"人",null,null,null,null,"食"]
[null,null,null,null,null,null,"中学生",null,null,null,null,null,null,"人",null,"＜献立＞"]
[null,null,null,null,null,null,"中学校卒業後の\n子ども（※）",null,null,null,null,null,null,"人"]
[null,null,null,null,null,null,"小計",null,null,null,{"$f":"K74+K75+K76+K77","v":0},null,null,"人"]
[null,null,"日",null,null,null,"大人",null,null,null,null,null,null,"人"]
[null,null,null,null,null,"スタッフ数\n（ボランティアも含めて記入）",null,null,null,null,null,null,null,"人"]
[null,"(",null,null,")","参加費収入",null,null,null,null,null,null,null,"人分",null,null,null,"円"]
[null,null,null,null,null,"スタッフ等謝礼金支払い",null,null,null,null,null,null,null,"人分",null,null,null,"円"]
[null,null,null,null,null,"○上記の「参加費収入」と「ｽﾀｯﾌ等謝礼金」の金額は、\n各回の出納帳に記載する金額と一致させてください。"]
[null,"自由記入欄（実施の効果や課題など）",null,null,null,null,null,null,null,null,null,null,null,null,null,"（充実経費の効果）"]
[]
[]
[]
[]
[]
[]
[]
[]
[]
[]
[]
[]
[]
[]
[]
[]
[]
[]
[]
[]
[]
[null,"※中学校卒業後から１８歳に達する日以後の最初の３月３１日までにある子ども。高校生など。"]

{"sheet":"1月","index":11,"n_rows":106,"n_cols":20,"rows_kept":106,"cut":false,"hidden":false,"merged":[[80,1,81,1],[80,4,81,4],[83,1,83,14],[83,15,83,19],[84,1,88,14],[84,15,88,19],[50,15,54,19],[58,2,59,3],[62,1,63,1],[62,4,63,4],[65,1,65,14],[65,15,65,19],[66,1,70,14],[66,15,70,19],[76,2,77,3],[64,5,64,19],[72,3,72,5],[72,6,72,8],[72,9,72,12],[72,14,72,18],[71,1,71,19],[81,5,81,9],[81,10,81,12],[81,14,81,16],[24,2,25,3],[28,1,29,1],[28,4,29,4],[23,10,23,12],[24,10,24,12],[21,5,26,5],[21,14,27,14],[21,15,21,19],[22,15,22,17],[22,18,22,19],[21,6,21,9],[21,10,21,12],[22,6,22,9],[22,10,22,12],[23,6,23,9],[23,15,23,19],[24,6,24,9],[24,15,27,19],[28,10,28,12],[28,14,28,16],[28,18,28,19],[27,5,27,9],[27,10,27,12],[29,5,29,9],[12,1,13,1],[12,4,13,4],[15,1,15,14],[15,15,15,19],[16,1,20,14],[16,15,20,19],[11,5,11,9],[11,10,11,12],[12,5,12,9],[12,10,12,12],[14,5,14,19],[12,14,12,16],[12,18,12,19],[13,5,13,9],[13,10,13,12],[13,14,13,16],[13,18,13,19],[4,3,4,5],[4,14,4,18],[5,5,10,5],[5,6,5,9],[5,10,5,12],[5,14,11,14],[5,15,5,19],[6,6,6,9],[6,10,6,12],[6,15,6,17],[6,18,6,19],[7,6,7,9],[7,10,7,12],[8,6,8,9],[8,10,8,12],[8,15,11,19],[9,6,9,9],[10,10,10,12],[9,10,9,12],[8,2,9,3],[10,6,10,9],[44,6,44,9],[44,10,44,12],[46,10,46,12],[59,6,59,9],[59,10,59,12],[60,6,60,9],[60,10,60,12],[45,10,45,12],[47,10,47,12],[45,5,45,9],[46,5,46,9],[47,5,47,9],[50,1,54,14],[48,5,48,19],[46,14,46,16],[46,18,46,19],[47,14,47,16],[47,18,47,19],[46,1,47,1],[46,4,47,4],[0,1,0,4],[0,5,1,19],[2,3,2,6],[2,8,2,19],[3,3,3,19],[4,6,4,8],[7,15,7,19],[4,9,4,12],[49,1,49,14],[49,15,49,19],[25,6,25,9],[26,6,26,9],[26,10,26,12],[25,10,25,12],[40,10,40,12],[40,18,40,19],[39,10,39,12],[30,5,30,19],[31,1,31,14],[31,15,31,19],[32,1,36,14],[32,15,36,19],[42,2,43,3],[28,5,28,9],[29,10,29,12],[29,14,29,16],[29,18,29,19],[26,2,27,3],[58,15,61,19],[38,3,38,5],[38,6,38,8],[38,9,38,12],[38,14,38,18],[39,5,44,5],[39,6,39,9],[39,14,45,14],[39,15,39,19],[40,6,40,9],[40,15,40,17],[41,6,41,9],[41,10,41,12],[41,15,41,19],[42,6,42,9],[42,10,42,12],[42,15,45,19],[43,6,43,9],[43,10,43,12],[37,1,37,19],[62,18,62,19],[63,5,63,9],[63,14,63,16],[63,18,63,19],[55,5,60,5],[55,6,55,9],[55,10,55,12],[55,14,61,14],[55,15,55,19],[56,6,56,9],[56,10,56,12],[56,15,56,17],[56,18,56,19],[57,6,57,9],[57,10,57,12],[57,15,57,19],[58,6,58,9],[58,10,58,12],[63,10,63,12],[61,10,61,12],[62,10,62,12],[61,5,61,9],[62,5,62,9],[62,14,62,16],[74,6,74,9],[74,10,74,12],[74,15,74,17],[74,18,74,19],[75,6,75,9],[75,10,75,12],[75,15,75,19],[76,6,76,9],[76,10,76,12],[76,15,79,19],[77,6,77,9],[77,10,77,12],[78,6,78,9],[78,10,78,12],[105,1,105,19],[10,2,11,3],[12,2,13,3],[28,2,29,3],[44,2,45,3],[46,2,47,3],[60,2,61,3],[62,2,63,3],[78,2,79,3],[80,2,81,3],[89,1,104,19],[82,5,82,19],[79,5,79,9],[79,10,79,12],[80,5,80,9],[80,10,80,12],[80,14,80,16],[80,18,80,19],[81,18,81,19],[73,5,78,5],[73,6,73,9],[73,10,73,12],[73,14,79,14],[73,15,73,19]]}
[null,"（様式第1２号）",null,null,null,"事業実施月の翌月8日までにメール、FAXなどで提出してください。\nEmail：kodosei@city.hirakata.osaka.jp  FAX：072-843-2244"]
[]
[null,null,null,"令和",null,null,null,8,"年度　子どもの居場所づくり推進事業"]
[null,null,null,"月　例　報　告　書"]
[null,null,"（　",1,null,null,"月）- ①　",null,null,"食堂名",null,null,null,"(",{"$f":"'4月'!O5","v":"食堂名"},null,null,null,null,")"]
[null,1,null,null,null,"参加人数","幼児",null,null,null,null,null,null,"人","食事","子どもへの準備食数"]
[null,null,null,null,null,null,"小学生",null,null,null,null,null,null,"人",null,null,null,null,"食"]
[null,null,null,null,null,null,"中学生",null,null,null,null,null,null,"人",null,"＜献立＞"]
[null,null,null,null,null,null,"中学校卒業後の\n子ども（※）",null,null,null,null,null,null,"人"]
[null,null,null,null,null,null,"小計",null,null,null,{"$f":"K6+K7+K8+K9","v":0},null,null,"人"]
[null,null,"日",null,null,null,"大人",null,null,null,null,null,null,"人"]
[null,null,null,null,null,"スタッフ数\n（ボランティアも含めて記入）",null,null,null,null,null,null,null,"人"]
[null,"(",null,null,")","参加費収入",null,null,null,null,null,null,null,"人分",null,null,null,"円"]
[null,null,null,null,null,"スタッフ等謝礼金支払い",null,null,null,null,null,null,null,"人分",null,null,null,"円"]
[null,null,null,null,null,"○上記の「参加費収入」と「ｽﾀｯﾌ等謝礼金」の金額は、\n各回の出納帳に記載する金額と一致させてください。"]
[null,"自由記入欄（実施の効果や課題など）",null,null,null,null,null,null,null,null,null,null,null,null,null,"（充実経費の効果）"]
[]
[]
[]
[]
[]
[null,2,null,null,null,"参加人数","幼児",null,null,null,null,null,null,"人","食事","子どもへの準備食数"]
[null,null,null,null,null,null,"小学生",null,null,null,null,null,null,"人",null,null,null,null,"食"]
[null,null,null,null,null,null,"中学生",null,null,null,null,null,null,"人",null,"＜献立＞"]
[null,null,null,null,null,null,"中学校卒業後の\n子ども（※）",null,null,null,null,null,null,"人"]
[null,null,null,null,null,null,"小計",null,null,null,{"$f":"K22+K23+K24+K25","v":0},null,null,"人"]
[null,null,"日",null,null,null,"大人",null,null,null,null,null,null,"人"]
[null,null,null,null,null,"スタッフ数\n（ボランティアも含めて記入）",null,null,null,null,null,null,null,"人"]
[null,"(",null,null,")","参加費収入",null,null,null,null,null,null,null,"人分",null,null,null,"円"]
[null,null,null,null,null,"スタッフ等謝礼金支払い",null,null,null,null,null,null,null,"人分",null,null,null,"円"]
[null,null,null,null,null,"○上記の「参加費収入」と「ｽﾀｯﾌ等謝礼金」の金額は、\n各回の出納帳に記載する金額と一致させてください。"]
[null,"自由記入欄（実施の効果や課題など）",null,null,null,null,null,null,null,null,null,null,null,null,null,"（充実経費の効果）"]
[]
[]
[]
[]
[]
[null,"※中学校卒業後から１８歳に達する日以後の最初の３月３１日までにある子ども。高校生など。"]
[null,null,"（　",{"$f":"D5","v":1},null,null,"月）- ②　",null,null,"食堂名",null,null,null,"(",{"$f":"O5","v":"食堂名"},null,null,null,null,")"]
[null,3,null,null,null,"参加人数","幼児",null,null,null,null,null,null,"人","食事","子どもへの準備食数"]
[null,null,null,null,null,null,"小学生",null,null,null,null,null,null,"人",null,null,null,null,"食"]
[null,null,null,null,null,null,"中学生",null,null,null,null,null,null,"人",null,"＜献立＞"]
[null,null,null,null,null,null,"中学校卒業後の\n子ども（※）",null,null,null,null,null,null,"人"]
[null,null,null,null,null,null,"小計",null,null,null,{"$f":"K40+K41+K42+K43","v":0},null,null,"人"]
[null,null,"日",null,null,null,"大人",null,null,null,null,null,null,"人"]
[null,null,null,null,null,"スタッフ数\n（ボランティアも含めて記入）",null,null,null,null,null,null,null,"人"]
[null,"(",null,null,")","参加費収入",null,null,null,null,null,null,null,"人分",null,null,null,"円"]
[null,null,null,null,null,"スタッフ等謝礼金支払い",null,null,null,null,null,null,null,"人分",null,null,null,"円"]
[null,null,null,null,null,"○上記の「参加費収入」と「ｽﾀｯﾌ等謝礼金」の金額は、\n各回の出納帳に記載する金額と一致させてください。"]
[null,"自由記入欄（実施の効果や課題など）",null,null,null,null,null,null,null,null,null,null,null,null,null,"（充実経費の効果）"]
[]
[]
[]
[]
[]
[null,4,null,null,null,"参加人数","幼児",null,null,null,null,null,null,"人","食事","子どもへの準備食数"]
[null,null,null,null,null,null,"小学生",null,null,null,null,null,null,"人",null,null,null,null,"食"]
[null,null,null,null,null,null,"中学生",null,null,null,null,null,null,"人",null,"＜献立＞"]
[null,null,null,null,null,null,"中学校卒業後の\n子ども（※）",null,null,null,null,null,null,"人"]
[null,null,null,null,null,null,"小計",null,null,null,{"$f":"K56+K57+K58+K59","v":0},null,null,"人"]
[null,null,"日",null,null,null,"大人",null,null,null,null,null,null,"人"]
[null,null,null,null,null,"スタッフ数\n（ボランティアも含めて記入）",null,null,null,null,null,null,null,"人"]
[null,"(",null,null,")","参加費収入",null,null,null,null,null,null,null,"人分",null,null,null,"円"]
[null,null,null,null,null,"スタッフ等謝礼金支払い",null,null,null,null,null,null,null,"人分",null,null,null,"円"]
[null,null,null,null,null,"○上記の「参加費収入」と「ｽﾀｯﾌ等謝礼金」の金額は、\n各回の出納帳に記載する金額と一致させてください。"]
[null,"自由記入欄（実施の効果や課題など）",null,null,null,null,null,null,null,null,null,null,null,null,null,"（充実経費の効果）"]
[]
[]
[]
[]
[]
[null,"※中学校卒業後から１８歳に達する日以後の最初の３月３１日までにある子ども。高校生など。"]
[null,null,"（　",{"$f":"D39","v":1},null,null,"月）- ③　",null,null,"食堂名",null,null,null,"(",{"$f":"O5","v":"食堂名"},null,null,null,null,")"]
[null,5,null,null,null,"参加人数","幼児",null,null,null,null,null,null,"人","食事","子どもへの準備食数"]
[null,null,null,null,null,null,"小学生",null,null,null,null,null,null,"人",null,null,null,null,"食"]
[null,null,null,null,null,null,"中学生",null,null,null,null,null,null,"人",null,"＜献立＞"]
[null,null,null,null,null,null,"中学校卒業後の\n子ども（※）",null,null,null,null,null,null,"人"]
[null,null,null,null,null,null,"小計",null,null,null,{"$f":"K74+K75+K76+K77","v":0},null,null,"人"]
[null,null,"日",null,null,null,"大人",null,null,null,null,null,null,"人"]
[null,null,null,null,null,"スタッフ数\n（ボランティアも含めて記入）",null,null,null,null,null,null,null,"人"]
[null,"(",null,null,")","参加費収入",null,null,null,null,null,null,null,"人分",null,null,null,"円"]
[null,null,null,null,null,"スタッフ等謝礼金支払い",null,null,null,null,null,null,null,"人分",null,null,null,"円"]
[null,null,null,null,null,"○上記の「参加費収入」と「ｽﾀｯﾌ等謝礼金」の金額は、\n各回の出納帳に記載する金額と一致させてください。"]
[null,"自由記入欄（実施の効果や課題など）",null,null,null,null,null,null,null,null,null,null,null,null,null,"（充実経費の効果）"]
[]
[]
[]
[]
[]
[]
[]
[]
[]
[]
[]
[]
[]
[]
[]
[]
[]
[]
[]
[]
[]
[null,"※中学校卒業後から１８歳に達する日以後の最初の３月３１日までにある子ども。高校生など。"]

{"sheet":"2月","index":12,"n_rows":106,"n_cols":20,"rows_kept":106,"cut":false,"hidden":false,"merged":[[80,1,81,1],[80,4,81,4],[83,1,83,14],[83,15,83,19],[84,1,88,14],[84,15,88,19],[50,15,54,19],[58,2,59,3],[62,1,63,1],[62,4,63,4],[65,1,65,14],[65,15,65,19],[66,1,70,14],[66,15,70,19],[76,2,77,3],[64,5,64,19],[72,3,72,5],[72,6,72,8],[72,9,72,12],[72,14,72,18],[71,1,71,19],[81,5,81,9],[81,10,81,12],[81,14,81,16],[24,2,25,3],[28,1,29,1],[28,4,29,4],[23,10,23,12],[24,10,24,12],[21,5,26,5],[21,14,27,14],[21,15,21,19],[22,15,22,17],[22,18,22,19],[21,6,21,9],[21,10,21,12],[22,6,22,9],[22,10,22,12],[23,6,23,9],[23,15,23,19],[24,6,24,9],[24,15,27,19],[28,10,28,12],[28,14,28,16],[28,18,28,19],[27,5,27,9],[27,10,27,12],[29,5,29,9],[12,1,13,1],[12,4,13,4],[15,1,15,14],[15,15,15,19],[16,1,20,14],[16,15,20,19],[11,5,11,9],[11,10,11,12],[12,5,12,9],[12,10,12,12],[14,5,14,19],[12,14,12,16],[12,18,12,19],[13,5,13,9],[13,10,13,12],[13,14,13,16],[13,18,13,19],[4,3,4,5],[4,14,4,18],[5,5,10,5],[5,6,5,9],[5,10,5,12],[5,14,11,14],[5,15,5,19],[6,6,6,9],[6,10,6,12],[6,15,6,17],[6,18,6,19],[7,6,7,9],[7,10,7,12],[8,6,8,9],[8,10,8,12],[8,15,11,19],[9,6,9,9],[10,10,10,12],[9,10,9,12],[8,2,9,3],[10,6,10,9],[44,6,44,9],[44,10,44,12],[46,10,46,12],[59,6,59,9],[59,10,59,12],[60,6,60,9],[60,10,60,12],[45,10,45,12],[47,10,47,12],[45,5,45,9],[46,5,46,9],[47,5,47,9],[50,1,54,14],[48,5,48,19],[46,14,46,16],[46,18,46,19],[47,14,47,16],[47,18,47,19],[46,1,47,1],[46,4,47,4],[0,1,0,4],[0,5,1,19],[2,3,2,6],[2,8,2,19],[3,3,3,19],[4,6,4,8],[7,15,7,19],[4,9,4,12],[49,1,49,14],[49,15,49,19],[25,6,25,9],[26,6,26,9],[26,10,26,12],[25,10,25,12],[40,10,40,12],[40,18,40,19],[39,10,39,12],[30,5,30,19],[31,1,31,14],[31,15,31,19],[32,1,36,14],[32,15,36,19],[42,2,43,3],[28,5,28,9],[29,10,29,12],[29,14,29,16],[29,18,29,19],[26,2,27,3],[58,15,61,19],[38,3,38,5],[38,6,38,8],[38,9,38,12],[38,14,38,18],[39,5,44,5],[39,6,39,9],[39,14,45,14],[39,15,39,19],[40,6,40,9],[40,15,40,17],[41,6,41,9],[41,10,41,12],[41,15,41,19],[42,6,42,9],[42,10,42,12],[42,15,45,19],[43,6,43,9],[43,10,43,12],[37,1,37,19],[62,18,62,19],[63,5,63,9],[63,14,63,16],[63,18,63,19],[55,5,60,5],[55,6,55,9],[55,10,55,12],[55,14,61,14],[55,15,55,19],[56,6,56,9],[56,10,56,12],[56,15,56,17],[56,18,56,19],[57,6,57,9],[57,10,57,12],[57,15,57,19],[58,6,58,9],[58,10,58,12],[63,10,63,12],[61,10,61,12],[62,10,62,12],[61,5,61,9],[62,5,62,9],[62,14,62,16],[74,6,74,9],[74,10,74,12],[74,15,74,17],[74,18,74,19],[75,6,75,9],[75,10,75,12],[75,15,75,19],[76,6,76,9],[76,10,76,12],[76,15,79,19],[77,6,77,9],[77,10,77,12],[78,6,78,9],[78,10,78,12],[105,1,105,19],[10,2,11,3],[12,2,13,3],[28,2,29,3],[44,2,45,3],[46,2,47,3],[60,2,61,3],[62,2,63,3],[78,2,79,3],[80,2,81,3],[89,1,104,19],[82,5,82,19],[79,5,79,9],[79,10,79,12],[80,5,80,9],[80,10,80,12],[80,14,80,16],[80,18,80,19],[81,18,81,19],[73,5,78,5],[73,6,73,9],[73,10,73,12],[73,14,79,14],[73,15,73,19]]}
[null,"（様式第1２号）",null,null,null,"事業実施月の翌月8日までにメール、FAXなどで提出してください。\nEmail：kodosei@city.hirakata.osaka.jp  FAX：072-843-2244"]
[]
[null,null,null,"令和",null,null,null,8,"年度　子どもの居場所づくり推進事業"]
[null,null,null,"月　例　報　告　書"]
[null,null,"（　",2,null,null,"月）- ①　",null,null,"食堂名",null,null,null,"(",{"$f":"'4月'!O5","v":"食堂名"},null,null,null,null,")"]
[null,1,null,null,null,"参加人数","幼児",null,null,null,null,null,null,"人","食事","子どもへの準備食数"]
[null,null,null,null,null,null,"小学生",null,null,null,null,null,null,"人",null,null,null,null,"食"]
[null,null,null,null,null,null,"中学生",null,null,null,null,null,null,"人",null,"＜献立＞"]
[null,null,null,null,null,null,"中学校卒業後の\n子ども（※）",null,null,null,null,null,null,"人"]
[null,null,null,null,null,null,"小計",null,null,null,{"$f":"K6+K7+K8+K9","v":0},null,null,"人"]
[null,null,"日",null,null,null,"大人",null,null,null,null,null,null,"人"]
[null,null,null,null,null,"スタッフ数\n（ボランティアも含めて記入）",null,null,null,null,null,null,null,"人"]
[null,"(",null,null,")","参加費収入",null,null,null,null,null,null,null,"人分",null,null,null,"円"]
[null,null,null,null,null,"スタッフ等謝礼金支払い",null,null,null,null,null,null,null,"人分",null,null,null,"円"]
[null,null,null,null,null,"○上記の「参加費収入」と「ｽﾀｯﾌ等謝礼金」の金額は、\n各回の出納帳に記載する金額と一致させてください。"]
[null,"自由記入欄（実施の効果や課題など）",null,null,null,null,null,null,null,null,null,null,null,null,null,"（充実経費の効果）"]
[]
[]
[]
[]
[]
[null,2,null,null,null,"参加人数","幼児",null,null,null,null,null,null,"人","食事","子どもへの準備食数"]
[null,null,null,null,null,null,"小学生",null,null,null,null,null,null,"人",null,null,null,null,"食"]
[null,null,null,null,null,null,"中学生",null,null,null,null,null,null,"人",null,"＜献立＞"]
[null,null,null,null,null,null,"中学校卒業後の\n子ども（※）",null,null,null,null,null,null,"人"]
[null,null,null,null,null,null,"小計",null,null,null,{"$f":"K22+K23+K24+K25","v":0},null,null,"人"]
[null,null,"日",null,null,null,"大人",null,null,null,null,null,null,"人"]
[null,null,null,null,null,"スタッフ数\n（ボランティアも含めて記入）",null,null,null,null,null,null,null,"人"]
[null,"(",null,null,")","参加費収入",null,null,null,null,null,null,null,"人分",null,null,null,"円"]
[null,null,null,null,null,"スタッフ等謝礼金支払い",null,null,null,null,null,null,null,"人分",null,null,null,"円"]
[null,null,null,null,null,"○上記の「参加費収入」と「ｽﾀｯﾌ等謝礼金」の金額は、\n各回の出納帳に記載する金額と一致させてください。"]
[null,"自由記入欄（実施の効果や課題など）",null,null,null,null,null,null,null,null,null,null,null,null,null,"（充実経費の効果）"]
[]
[]
[]
[]
[]
[null,"※中学校卒業後から１８歳に達する日以後の最初の３月３１日までにある子ども。高校生など。"]
[null,null,"（　",{"$f":"D5","v":2},null,null,"月）- ②　",null,null,"食堂名",null,null,null,"(",{"$f":"O5","v":"食堂名"},null,null,null,null,")"]
[null,3,null,null,null,"参加人数","幼児",null,null,null,null,null,null,"人","食事","子どもへの準備食数"]
[null,null,null,null,null,null,"小学生",null,null,null,null,null,null,"人",null,null,null,null,"食"]
[null,null,null,null,null,null,"中学生",null,null,null,null,null,null,"人",null,"＜献立＞"]
[null,null,null,null,null,null,"中学校卒業後の\n子ども（※）",null,null,null,null,null,null,"人"]
[null,null,null,null,null,null,"小計",null,null,null,{"$f":"K40+K41+K42+K43","v":0},null,null,"人"]
[null,null,"日",null,null,null,"大人",null,null,null,null,null,null,"人"]
[null,null,null,null,null,"スタッフ数\n（ボランティアも含めて記入）",null,null,null,null,null,null,null,"人"]
[null,"(",null,null,")","参加費収入",null,null,null,null,null,null,null,"人分",null,null,null,"円"]
[null,null,null,null,null,"スタッフ等謝礼金支払い",null,null,null,null,null,null,null,"人分",null,null,null,"円"]
[null,null,null,null,null,"○上記の「参加費収入」と「ｽﾀｯﾌ等謝礼金」の金額は、\n各回の出納帳に記載する金額と一致させてください。"]
[null,"自由記入欄（実施の効果や課題など）",null,null,null,null,null,null,null,null,null,null,null,null,null,"（充実経費の効果）"]
[]
[]
[]
[]
[]
[null,4,null,null,null,"参加人数","幼児",null,null,null,null,null,null,"人","食事","子どもへの準備食数"]
[null,null,null,null,null,null,"小学生",null,null,null,null,null,null,"人",null,null,null,null,"食"]
[null,null,null,null,null,null,"中学生",null,null,null,null,null,null,"人",null,"＜献立＞"]
[null,null,null,null,null,null,"中学校卒業後の\n子ども（※）",null,null,null,null,null,null,"人"]
[null,null,null,null,null,null,"小計",null,null,null,{"$f":"K56+K57+K58+K59","v":0},null,null,"人"]
[null,null,"日",null,null,null,"大人",null,null,null,null,null,null,"人"]
[null,null,null,null,null,"スタッフ数\n（ボランティアも含めて記入）",null,null,null,null,null,null,null,"人"]
[null,"(",null,null,")","参加費収入",null,null,null,null,null,null,null,"人分",null,null,null,"円"]
[null,null,null,null,null,"スタッフ等謝礼金支払い",null,null,null,null,null,null,null,"人分",null,null,null,"円"]
[null,null,null,null,null,"○上記の「参加費収入」と「ｽﾀｯﾌ等謝礼金」の金額は、\n各回の出納帳に記載する金額と一致させてください。"]
[null,"自由記入欄（実施の効果や課題など）",null,null,null,null,null,null,null,null,null,null,null,null,null,"（充実経費の効果）"]
[]
[]
[]
[]
[]
[null,"※中学校卒業後から１８歳に達する日以後の最初の３月３１日までにある子ども。高校生など。"]
[null,null,"（　",{"$f":"D39","v":2},null,null,"月）- ③　",null,null,"食堂名",null,null,null,"(",{"$f":"O5","v":"食堂名"},null,null,null,null,")"]
[null,5,null,null,null,"参加人数","幼児",null,null,null,null,null,null,"人","食事","子どもへの準備食数"]
[null,null,null,null,null,null,"小学生",null,null,null,null,null,null,"人",null,null,null,null,"食"]
[null,null,null,null,null,null,"中学生",null,null,null,null,null,null,"人",null,"＜献立＞"]
[null,null,null,null,null,null,"中学校卒業後の\n子ども（※）",null,null,null,null,null,null,"人"]
[null,null,null,null,null,null,"小計",null,null,null,{"$f":"K74+K75+K76+K77","v":0},null,null,"人"]
[null,null,"日",null,null,null,"大人",null,null,null,null,null,null,"人"]
[null,null,null,null,null,"スタッフ数\n（ボランティアも含めて記入）",null,null,null,null,null,null,null,"人"]
[null,"(",null,null,")","参加費収入",null,null,null,null,null,null,null,"人分",null,null,null,"円"]
[null,null,null,null,null,"スタッフ等謝礼金支払い",null,null,null,null,null,null,null,"人分",null,null,null,"円"]
[null,null,null,null,null,"○上記の「参加費収入」と「ｽﾀｯﾌ等謝礼金」の金額は、\n各回の出納帳に記載する金額と一致させてください。"]
[null,"自由記入欄（実施の効果や課題など）",null,null,null,null,null,null,null,null,null,null,null,null,null,"（充実経費の効果）"]
[]
[]
[]
[]
[]
[]
[]
[]
[]
[]
[]
[]
[]
[]
[]
[]
[]
[]
[]
[]
[]
[null,"※中学校卒業後から１８歳に達する日以後の最初の３月３１日までにある子ども。高校生など。"]

{"sheet":"3月","index":13,"n_rows":106,"n_cols":20,"rows_kept":106,"cut":false,"hidden":false,"merged":[[80,1,81,1],[80,4,81,4],[83,1,83,14],[83,15,83,19],[84,1,88,14],[84,15,88,19],[50,15,54,19],[58,2,59,3],[62,1,63,1],[62,4,63,4],[65,1,65,14],[65,15,65,19],[66,1,70,14],[66,15,70,19],[76,2,77,3],[64,5,64,19],[72,3,72,5],[72,6,72,8],[72,9,72,12],[72,14,72,18],[71,1,71,19],[81,5,81,9],[81,10,81,12],[81,14,81,16],[24,2,25,3],[28,1,29,1],[28,4,29,4],[23,10,23,12],[24,10,24,12],[21,5,26,5],[21,14,27,14],[21,15,21,19],[22,15,22,17],[22,18,22,19],[21,6,21,9],[21,10,21,12],[22,6,22,9],[22,10,22,12],[23,6,23,9],[23,15,23,19],[24,6,24,9],[24,15,27,19],[28,10,28,12],[28,14,28,16],[28,18,28,19],[27,5,27,9],[27,10,27,12],[29,5,29,9],[12,1,13,1],[12,4,13,4],[15,1,15,14],[15,15,15,19],[16,1,20,14],[16,15,20,19],[11,5,11,9],[11,10,11,12],[12,5,12,9],[12,10,12,12],[14,5,14,19],[12,14,12,16],[12,18,12,19],[13,5,13,9],[13,10,13,12],[13,14,13,16],[13,18,13,19],[4,3,4,5],[4,14,4,18],[5,5,10,5],[5,6,5,9],[5,10,5,12],[5,14,11,14],[5,15,5,19],[6,6,6,9],[6,10,6,12],[6,15,6,17],[6,18,6,19],[7,6,7,9],[7,10,7,12],[8,6,8,9],[8,10,8,12],[8,15,11,19],[9,6,9,9],[10,10,10,12],[9,10,9,12],[8,2,9,3],[10,6,10,9],[44,6,44,9],[44,10,44,12],[46,10,46,12],[59,6,59,9],[59,10,59,12],[60,6,60,9],[60,10,60,12],[45,10,45,12],[47,10,47,12],[45,5,45,9],[46,5,46,9],[47,5,47,9],[50,1,54,14],[48,5,48,19],[46,14,46,16],[46,18,46,19],[47,14,47,16],[47,18,47,19],[46,1,47,1],[46,4,47,4],[0,1,0,4],[0,5,1,19],[2,3,2,6],[2,8,2,19],[3,3,3,19],[4,6,4,8],[7,15,7,19],[4,9,4,12],[49,1,49,14],[49,15,49,19],[25,6,25,9],[26,6,26,9],[26,10,26,12],[25,10,25,12],[40,10,40,12],[40,18,40,19],[39,10,39,12],[30,5,30,19],[31,1,31,14],[31,15,31,19],[32,1,36,14],[32,15,36,19],[42,2,43,3],[28,5,28,9],[29,10,29,12],[29,14,29,16],[29,18,29,19],[26,2,27,3],[58,15,61,19],[38,3,38,5],[38,6,38,8],[38,9,38,12],[38,14,38,18],[39,5,44,5],[39,6,39,9],[39,14,45,14],[39,15,39,19],[40,6,40,9],[40,15,40,17],[41,6,41,9],[41,10,41,12],[41,15,41,19],[42,6,42,9],[42,10,42,12],[42,15,45,19],[43,6,43,9],[43,10,43,12],[37,1,37,19],[62,18,62,19],[63,5,63,9],[63,14,63,16],[63,18,63,19],[55,5,60,5],[55,6,55,9],[55,10,55,12],[55,14,61,14],[55,15,55,19],[56,6,56,9],[56,10,56,12],[56,15,56,17],[56,18,56,19],[57,6,57,9],[57,10,57,12],[57,15,57,19],[58,6,58,9],[58,10,58,12],[63,10,63,12],[61,10,61,12],[62,10,62,12],[61,5,61,9],[62,5,62,9],[62,14,62,16],[74,6,74,9],[74,10,74,12],[74,15,74,17],[74,18,74,19],[75,6,75,9],[75,10,75,12],[75,15,75,19],[76,6,76,9],[76,10,76,12],[76,15,79,19],[77,6,77,9],[77,10,77,12],[78,6,78,9],[78,10,78,12],[105,1,105,19],[10,2,11,3],[12,2,13,3],[28,2,29,3],[44,2,45,3],[46,2,47,3],[60,2,61,3],[62,2,63,3],[78,2,79,3],[80,2,81,3],[89,1,104,19],[82,5,82,19],[79,5,79,9],[79,10,79,12],[80,5,80,9],[80,10,80,12],[80,14,80,16],[80,18,80,19],[81,18,81,19],[73,5,78,5],[73,6,73,9],[73,10,73,12],[73,14,79,14],[73,15,73,19]]}
[null,"（様式第1２号）",null,null,null,"事業実施月の翌月8日までにメール、FAXなどで提出してください。\nEmail：kodosei@city.hirakata.osaka.jp  FAX：072-843-2244"]
[]
[null,null,null,"令和",null,null,null,8,"年度　子どもの居場所づくり推進事業"]
[null,null,null,"月　例　報　告　書"]
[null,null,"（　",3,null,null,"月）- ①　",null,null,"食堂名",null,null,null,"(",{"$f":"'4月'!O5","v":"食堂名"},null,null,null,null,")"]
[null,1,null,null,null,"参加人数","幼児",null,null,null,null,null,null,"人","食事","子どもへの準備食数"]
[null,null,null,null,null,null,"小学生",null,null,null,null,null,null,"人",null,null,null,null,"食"]
[null,null,null,null,null,null,"中学生",null,null,null,null,null,null,"人",null,"＜献立＞"]
[null,null,null,null,null,null,"中学校卒業後の\n子ども（※）",null,null,null,null,null,null,"人"]
[null,null,null,null,null,null,"小計",null,null,null,{"$f":"K6+K7+K8+K9","v":0},null,null,"人"]
[null,null,"日",null,null,null,"大人",null,null,null,null,null,null,"人"]
[null,null,null,null,null,"スタッフ数\n（ボランティアも含めて記入）",null,null,null,null,null,null,null,"人"]
[null,"(",null,null,")","参加費収入",null,null,null,null,null,null,null,"人分",null,null,null,"円"]
[null,null,null,null,null,"スタッフ等謝礼金支払い",null,null,null,null,null,null,null,"人分",null,null,null,"円"]
[null,null,null,null,null,"○上記の「参加費収入」と「ｽﾀｯﾌ等謝礼金」の金額は、\n各回の出納帳に記載する金額と一致させてください。"]
[null,"自由記入欄（実施の効果や課題など）",null,null,null,null,null,null,null,null,null,null,null,null,null,"（充実経費の効果）"]
[]
[]
[]
[]
[]
[null,2,null,null,null,"参加人数","幼児",null,null,null,null,null,null,"人","食事","子どもへの準備食数"]
[null,null,null,null,null,null,"小学生",null,null,null,null,null,null,"人",null,null,null,null,"食"]
[null,null,null,null,null,null,"中学生",null,null,null,null,null,null,"人",null,"＜献立＞"]
[null,null,null,null,null,null,"中学校卒業後の\n子ども（※）",null,null,null,null,null,null,"人"]
[null,null,null,null,null,null,"小計",null,null,null,{"$f":"K22+K23+K24+K25","v":0},null,null,"人"]
[null,null,"日",null,null,null,"大人",null,null,null,null,null,null,"人"]
[null,null,null,null,null,"スタッフ数\n（ボランティアも含めて記入）",null,null,null,null,null,null,null,"人"]
[null,"(",null,null,")","参加費収入",null,null,null,null,null,null,null,"人分",null,null,null,"円"]
[null,null,null,null,null,"スタッフ等謝礼金支払い",null,null,null,null,null,null,null,"人分",null,null,null,"円"]
[null,null,null,null,null,"○上記の「参加費収入」と「ｽﾀｯﾌ等謝礼金」の金額は、\n各回の出納帳に記載する金額と一致させてください。"]
[null,"自由記入欄（実施の効果や課題など）",null,null,null,null,null,null,null,null,null,null,null,null,null,"（充実経費の効果）"]
[]
[]
[]
[]
[]
[null,"※中学校卒業後から１８歳に達する日以後の最初の３月３１日までにある子ども。高校生など。"]
[null,null,"（　",{"$f":"D5","v":3},null,null,"月）- ②　",null,null,"食堂名",null,null,null,"(",{"$f":"O5","v":"食堂名"},null,null,null,null,")"]
[null,3,null,null,null,"参加人数","幼児",null,null,null,null,null,null,"人","食事","子どもへの準備食数"]
[null,null,null,null,null,null,"小学生",null,null,null,null,null,null,"人",null,null,null,null,"食"]
[null,null,null,null,null,null,"中学生",null,null,null,null,null,null,"人",null,"＜献立＞"]
[null,null,null,null,null,null,"中学校卒業後の\n子ども（※）",null,null,null,null,null,null,"人"]
[null,null,null,null,null,null,"小計",null,null,null,{"$f":"K40+K41+K42+K43","v":0},null,null,"人"]
[null,null,"日",null,null,null,"大人",null,null,null,null,null,null,"人"]
[null,null,null,null,null,"スタッフ数\n（ボランティアも含めて記入）",null,null,null,null,null,null,null,"人"]
[null,"(",null,null,")","参加費収入",null,null,null,null,null,null,null,"人分",null,null,null,"円"]
[null,null,null,null,null,"スタッフ等謝礼金支払い",null,null,null,null,null,null,null,"人分",null,null,null,"円"]
[null,null,null,null,null,"○上記の「参加費収入」と「ｽﾀｯﾌ等謝礼金」の金額は、\n各回の出納帳に記載する金額と一致させてください。"]
[null,"自由記入欄（実施の効果や課題など）",null,null,null,null,null,null,null,null,null,null,null,null,null,"（充実経費の効果）"]
[]
[]
[]
[]
[]
[null,4,null,null,null,"参加人数","幼児",null,null,null,null,null,null,"人","食事","子どもへの準備食数"]
[null,null,null,null,null,null,"小学生",null,null,null,null,null,null,"人",null,null,null,null,"食"]
[null,null,null,null,null,null,"中学生",null,null,null,null,null,null,"人",null,"＜献立＞"]
[null,null,null,null,null,null,"中学校卒業後の\n子ども（※）",null,null,null,null,null,null,"人"]
[null,null,null,null,null,null,"小計",null,null,null,{"$f":"K56+K57+K58+K59","v":0},null,null,"人"]
[null,null,"日",null,null,null,"大人",null,null,null,null,null,null,"人"]
[null,null,null,null,null,"スタッフ数\n（ボランティアも含めて記入）",null,null,null,null,null,null,null,"人"]
[null,"(",null,null,")","参加費収入",null,null,null,null,null,null,null,"人分",null,null,null,"円"]
[null,null,null,null,null,"スタッフ等謝礼金支払い",null,null,null,null,null,null,null,"人分",null,null,null,"円"]
[null,null,null,null,null,"○上記の「参加費収入」と「ｽﾀｯﾌ等謝礼金」の金額は、\n各回の出納帳に記載する金額と一致させてください。"]
[null,"自由記入欄（実施の効果や課題など）",null,null,null,null,null,null,null,null,null,null,null,null,null,"（充実経費の効果）"]
[]
[]
[]
[]
[]
[null,"※中学校卒業後から１８歳に達する日以後の最初の３月３１日までにある子ども。高校生など。"]
[null,null,"（　",{"$f":"D39","v":3},null,null,"月）- ③　",null,null,"食堂名",null,null,null,"(",{"$f":"O5","v":"食堂名"},null,null,null,null,")"]
[null,5,null,null,null,"参加人数","幼児",null,null,null,null,null,null,"人","食事","子どもへの準備食数"]
[null,null,null,null,null,null,"小学生",null,null,null,null,null,null,"人",null,null,null,null,"食"]
[null,null,null,null,null,null,"中学生",null,null,null,null,null,null,"人",null,"＜献立＞"]
[null,null,null,null,null,null,"中学校卒業後の\n子ども（※）",null,null,null,null,null,null,"人"]
[null,null,null,null,null,null,"小計",null,null,null,{"$f":"K74+K75+K76+K77","v":0},null,null,"人"]
[null,null,"日",null,null,null,"大人",null,null,null,null,null,null,"人"]
[null,null,null,null,null,"スタッフ数\n（ボランティアも含めて記入）",null,null,null,null,null,null,null,"人"]
[null,"(",null,null,")","参加費収入",null,null,null,null,null,null,null,"人分",null,null,null,"円"]
[null,null,null,null,null,"スタッフ等謝礼金支払い",null,null,null,null,null,null,null,"人分",null,null,null,"円"]
[null,null,null,null,null,"○上記の「参加費収入」と「ｽﾀｯﾌ等謝礼金」の金額は、\n各回の出納帳に記載する金額と一致させてください。"]
[null,"自由記入欄（実施の効果や課題など）",null,null,null,null,null,null,null,null,null,null,null,null,null,"（充実経費の効果）"]
[]
[]
[]
[]
[]
[]
[]
[]
[]
[]
[]
[]
[]
[]
[]
[]
[]
[]
[]
[]
[]
[null,"※中学校卒業後から１８歳に達する日以後の最初の３月３１日までにある子ども。高校生など。"]

{"sheet":"年間","index":14,"n_rows":88,"n_cols":12,"rows_kept":88,"cut":false,"hidden":false,"merged":[[23,1,27,1],[0,0,0,2],[0,3,0,12],[2,1,6,1],[9,1,13,1],[16,1,20,1],[89,1,104,19],[72,1,76,1],[79,1,83,1],[30,1,34,1],[37,1,41,1],[44,1,48,1],[51,1,55,1],[58,1,62,1],[65,1,69,1]]}
["子ども食堂名称",null,null,{"$f":"'4月'!O5","v":"食堂名"}]
["回","月","日","幼","小","中","中卒以上","子ども\n小計","大人","スタッフ","収入","謝金"]
["①",4,{"$f":"'4月'!$C$9","v":0},{"$f":"'4月'!$K$6","v":0},{"$f":"'4月'!$K$7","v":0},{"$f":"'4月'!$K$8","v":0},{"$f":"'4月'!$K$9","v":0},{"$f":"'4月'!$K$10","v":0},{"$f":"'4月'!$K$11","v":0},{"$f":"'4月'!$K$12","v":0},{"$f":"'4月'!$O$13","v":0},{"$f":"'4月'!$O$14","v":0}]
["②",null,{"$f":"'4月'!$C$25","v":0},{"$f":"'4月'!$K$22","v":0},{"$f":"'4月'!$K$23","v":0},{"$f":"'4月'!$K$24","v":0},{"$f":"'4月'!$K$25","v":0},{"$f":"'4月'!$K$26","v":0},{"$f":"'4月'!$K$27","v":0},{"$f":"'4月'!$K$28","v":0},{"$f":"'4月'!$O$29","v":0},{"$f":"'4月'!$O$30","v":0}]
["③",null,{"$f":"'4月'!$C$43","v":0},{"$f":"'4月'!$K$40","v":0},{"$f":"'4月'!$K$41","v":0},{"$f":"'4月'!$K$42","v":0},{"$f":"'4月'!$K$43","v":0},{"$f":"'4月'!$K$44","v":0},{"$f":"'4月'!$K$45","v":0},{"$f":"'4月'!$K$46","v":0},{"$f":"'4月'!$O$47","v":0},{"$f":"'4月'!$O$48","v":0}]
["④",null,{"$f":"'4月'!$C$59","v":0},{"$f":"'4月'!$K$56","v":0},{"$f":"'4月'!$K$57","v":0},{"$f":"'4月'!$K$58","v":0},{"$f":"'4月'!$K$59","v":0},{"$f":"'4月'!$K$60","v":0},{"$f":"'4月'!$K$61","v":0},{"$f":"'4月'!$K$62","v":0},{"$f":"'4月'!$O$63","v":0},{"$f":"'4月'!$O$64","v":0}]
["⑤",null,{"$f":"'4月'!$C$77","v":0},{"$f":"'4月'!$K$74","v":0},{"$f":"'4月'!$K$75","v":0},{"$f":"'4月'!$K$76","v":0},{"$f":"'4月'!$K$77","v":0},{"$f":"'4月'!$K$78","v":0},{"$f":"'4月'!$K$79","v":0},{"$f":"'4月'!$K$80","v":0},{"$f":"'4月'!$O$81","v":0},{"$f":"'4月'!$O$82","v":0}]
[{"$f":"B3","v":4},{"$f":"COUNTIF(C3:C7,\">0\")","v":0},null,{"$f":"SUM(D3:D7)","v":0},{"$f":"SUM(E3:E7)","v":0},{"$f":"SUM(F3:F7)","v":0},{"$f":"SUM(G3:G7)","v":0},{"$f":"SUM(D8:G8)","v":0},{"$f":"SUM(I3:I7)","v":0},{"$f":"SUM(J3:J7)","v":0},{"$f":"SUM(K3:K7)","v":0},{"$f":"SUM(L3:L7)","v":0}]
["回","月","日","幼","小","中","中卒以上","子ども\n小計","大人","スタッフ","収入","謝金"]
["①",5,{"$f":"'5月'!$C$9","v":0},{"$f":"'5月'!$K$6","v":0},{"$f":"'5月'!$K$7","v":0},{"$f":"'5月'!$K$8","v":0},{"$f":"'5月'!$K$9","v":0},{"$f":"'5月'!$K$10","v":0},{"$f":"'5月'!$K$11","v":0},{"$f":"'5月'!$K$12","v":0},{"$f":"'5月'!$O$13","v":0},{"$f":"'5月'!$O$14","v":0}]
["②",null,{"$f":"'5月'!$C$25","v":0},{"$f":"'5月'!$K$22","v":0},{"$f":"'5月'!$K$23","v":0},{"$f":"'5月'!$K$24","v":0},{"$f":"'5月'!$K$25","v":0},{"$f":"'5月'!$K$26","v":0},{"$f":"'5月'!$K$27","v":0},{"$f":"'5月'!$K$28","v":0},{"$f":"'5月'!$O$29","v":0},{"$f":"'5月'!$O$30","v":0}]
["③",null,{"$f":"'5月'!$C$43","v":0},{"$f":"'5月'!$K$40","v":0},{"$f":"'5月'!$K$41","v":0},{"$f":"'5月'!$K$42","v":0},{"$f":"'5月'!$K$43","v":0},{"$f":"'5月'!$K$44","v":0},{"$f":"'5月'!$K$45","v":0},{"$f":"'5月'!$K$46","v":0},{"$f":"'5月'!$O$47","v":0},{"$f":"'5月'!$O$48","v":0}]
["④",null,{"$f":"'5月'!$C$59","v":0},{"$f":"'5月'!$K$56","v":0},{"$f":"'5月'!$K$57","v":0},{"$f":"'5月'!$K$58","v":0},{"$f":"'5月'!$K$59","v":0},{"$f":"'5月'!$K$60","v":0},{"$f":"'5月'!$K$61","v":0},{"$f":"'5月'!$K$62","v":0},{"$f":"'5月'!$O$63","v":0},{"$f":"'5月'!$O$64","v":0}]
["⑤",null,{"$f":"'5月'!$C$77","v":0},{"$f":"'5月'!$K$74","v":0},{"$f":"'5月'!$K$75","v":0},{"$f":"'5月'!$K$76","v":0},{"$f":"'5月'!$K$77","v":0},{"$f":"'5月'!$K$78","v":0},{"$f":"'5月'!$K$79","v":0},{"$f":"'5月'!$K$80","v":0},{"$f":"'5月'!$O$81","v":0},{"$f":"'5月'!$O$82","v":0}]
[{"$f":"B10","v":5},{"$f":"COUNTIF(C10:C14,\">0\")","v":0},null,{"$f":"SUM(D10:D14)","v":0},{"$f":"SUM(E10:E14)","v":0},{"$f":"SUM(F10:F14)","v":0},{"$f":"SUM(G10:G14)","v":0},{"$f":"SUM(D15:G15)","v":0},{"$f":"SUM(I10:I14)","v":0},{"$f":"SUM(J10:J14)","v":0},{"$f":"SUM(K10:K14)","v":0},{"$f":"SUM(L10:L14)","v":0}]
["回","月","日","幼","小","中","中卒以上","子ども\n小計","大人","スタッフ","収入","謝金"]
["①",6,{"$f":"'6月'!$C$9","v":0},{"$f":"'6月'!$K$6","v":0},{"$f":"'6月'!$K$7","v":0},{"$f":"'6月'!$K$8","v":0},{"$f":"'6月'!$K$9","v":0},{"$f":"'6月'!$K$10","v":0},{"$f":"'6月'!$K$11","v":0},{"$f":"'6月'!$K$12","v":0},{"$f":"'6月'!$O$13","v":0},{"$f":"'6月'!$O$14","v":0}]
["②",null,{"$f":"'6月'!$C$25","v":0},{"$f":"'6月'!$K$22","v":0},{"$f":"'6月'!$K$23","v":0},{"$f":"'6月'!$K$24","v":0},{"$f":"'6月'!$K$25","v":0},{"$f":"'6月'!$K$26","v":0},{"$f":"'6月'!$K$27","v":0},{"$f":"'6月'!$K$28","v":0},{"$f":"'6月'!$O$29","v":0},{"$f":"'6月'!$O$30","v":0}]
["③",null,{"$f":"'6月'!$C$43","v":0},{"$f":"'6月'!$K$40","v":0},{"$f":"'6月'!$K$41","v":0},{"$f":"'6月'!$K$42","v":0},{"$f":"'6月'!$K$43","v":0},{"$f":"'6月'!$K$44","v":0},{"$f":"'6月'!$K$45","v":0},{"$f":"'6月'!$K$46","v":0},{"$f":"'6月'!$O$47","v":0},{"$f":"'6月'!$O$48","v":0}]
["④",null,{"$f":"'6月'!$C$59","v":0},{"$f":"'6月'!$K$56","v":0},{"$f":"'6月'!$K$57","v":0},{"$f":"'6月'!$K$58","v":0},{"$f":"'6月'!$K$59","v":0},{"$f":"'6月'!$K$60","v":0},{"$f":"'6月'!$K$61","v":0},{"$f":"'6月'!$K$62","v":0},{"$f":"'6月'!$O$63","v":0},{"$f":"'6月'!$O$64","v":0}]
["⑤",null,{"$f":"'6月'!$C$77","v":0},{"$f":"'6月'!$K$74","v":0},{"$f":"'6月'!$K$75","v":0},{"$f":"'6月'!$K$76","v":0},{"$f":"'6月'!$K$77","v":0},{"$f":"'6月'!$K$78","v":0},{"$f":"'6月'!$K$79","v":0},{"$f":"'6月'!$K$80","v":0},{"$f":"'6月'!$O$81","v":0},{"$f":"'6月'!$O$82","v":0}]
[{"$f":"B17","v":6},{"$f":"COUNTIF(C17:C21,\">0\")","v":0},null,{"$f":"SUM(D17:D21)","v":0},{"$f":"SUM(E17:E21)","v":0},{"$f":"SUM(F17:F21)","v":0},{"$f":"SUM(G17:G21)","v":0},{"$f":"SUM(D22:G22)","v":0},{"$f":"SUM(I17:I21)","v":0},{"$f":"SUM(J17:J21)","v":0},{"$f":"SUM(K17:K21)","v":0},{"$f":"SUM(L17:L21)","v":0}]
["回","月","日","幼","小","中","中卒以上","子ども\n小計","大人","スタッフ","収入","謝金"]
["①",7,{"$f":"'7月'!$C$9","v":0},{"$f":"'7月'!$K$6","v":0},{"$f":"'7月'!$K$7","v":0},{"$f":"'7月'!$K$8","v":0},{"$f":"'7月'!$K$9","v":0},{"$f":"'7月'!$K$10","v":0},{"$f":"'7月'!$K$11","v":0},{"$f":"'7月'!$K$12","v":0},{"$f":"'7月'!$O$13","v":0},{"$f":"'7月'!$O$14","v":0}]
["②",null,{"$f":"'7月'!$C$25","v":0},{"$f":"'7月'!$K$22","v":0},{"$f":"'7月'!$K$23","v":0},{"$f":"'7月'!$K$24","v":0},{"$f":"'7月'!$K$25","v":0},{"$f":"'7月'!$K$26","v":0},{"$f":"'7月'!$K$27","v":0},{"$f":"'7月'!$K$28","v":0},{"$f":"'7月'!$O$29","v":0},{"$f":"'7月'!$O$30","v":0}]
["③",null,{"$f":"'7月'!$C$43","v":0},{"$f":"'7月'!$K$40","v":0},{"$f":"'7月'!$K$41","v":0},{"$f":"'7月'!$K$42","v":0},{"$f":"'7月'!$K$43","v":0},{"$f":"'7月'!$K$44","v":0},{"$f":"'7月'!$K$45","v":0},{"$f":"'7月'!$K$46","v":0},{"$f":"'7月'!$O$47","v":0},{"$f":"'7月'!$O$48","v":0}]
["④",null,{"$f":"'7月'!$C$59","v":0},{"$f":"'7月'!$K$56","v":0},{"$f":"'7月'!$K$57","v":0},{"$f":"'7月'!$K$58","v":0},{"$f":"'7月'!$K$59","v":0},{"$f":"'7月'!$K$60","v":0},{"$f":"'7月'!$K$61","v":0},{"$f":"'7月'!$K$62","v":0},{"$f":"'7月'!$O$63","v":0},{"$f":"'7月'!$O$64","v":0}]
["⑤",null,{"$f":"'7月'!$C$77","v":0},{"$f":"'7月'!$K$74","v":0},{"$f":"'7月'!$K$75","v":0},{"$f":"'7月'!$K$76","v":0},{"$f":"'7月'!$K$77","v":0},{"$f":"'7月'!$K$78","v":0},{"$f":"'7月'!$K$79","v":0},{"$f":"'7月'!$K$80","v":0},{"$f":"'7月'!$O$81","v":0},{"$f":"'7月'!$O$82","v":0}]
[{"$f":"B24","v":7},{"$f":"COUNTIF(C24:C28,\">0\")","v":0},null,{"$f":"SUM(D24:D28)","v":0},{"$f":"SUM(E24:E28)","v":0},{"$f":"SUM(F24:F28)","v":0},{"$f":"SUM(G24:G28)","v":0},{"$f":"SUM(D29:G29)","v":0},{"$f":"SUM(I24:I28)","v":0},{"$f":"SUM(J24:J28)","v":0},{"$f":"SUM(K24:K28)","v":0},{"$f":"SUM(L24:L28)","v":0}]
["回","月","日","幼","小","中","中卒以上","子ども\n小計","大人","スタッフ","収入","謝金"]
["①",8,{"$f":"'8月'!$C$9","v":0},{"$f":"'8月'!$K$6","v":0},{"$f":"'8月'!$K$7","v":0},{"$f":"'8月'!$K$8","v":0},{"$f":"'8月'!$K$9","v":0},{"$f":"'8月'!$K$10","v":0},{"$f":"'8月'!$K$11","v":0},{"$f":"'8月'!$K$12","v":0},{"$f":"'8月'!$O$13","v":0},{"$f":"'8月'!$O$14","v":0}]
["②",null,{"$f":"'8月'!$C$25","v":0},{"$f":"'8月'!$K$22","v":0},{"$f":"'8月'!$K$23","v":0},{"$f":"'8月'!$K$24","v":0},{"$f":"'8月'!$K$25","v":0},{"$f":"'8月'!$K$26","v":0},{"$f":"'8月'!$K$27","v":0},{"$f":"'8月'!$K$28","v":0},{"$f":"'8月'!$O$29","v":0},{"$f":"'8月'!$O$30","v":0}]
["③",null,{"$f":"'8月'!$C$43","v":0},{"$f":"'8月'!$K$40","v":0},{"$f":"'8月'!$K$41","v":0},{"$f":"'8月'!$K$42","v":0},{"$f":"'8月'!$K$43","v":0},{"$f":"'8月'!$K$44","v":0},{"$f":"'8月'!$K$45","v":0},{"$f":"'8月'!$K$46","v":0},{"$f":"'8月'!$O$47","v":0},{"$f":"'8月'!$O$48","v":0}]
["④",null,{"$f":"'8月'!$C$59","v":0},{"$f":"'8月'!$K$56","v":0},{"$f":"'8月'!$K$57","v":0},{"$f":"'8月'!$K$58","v":0},{"$f":"'8月'!$K$59","v":0},{"$f":"'8月'!$K$60","v":0},{"$f":"'8月'!$K$61","v":0},{"$f":"'8月'!$K$62","v":0},{"$f":"'8月'!$O$63","v":0},{"$f":"'8月'!$O$64","v":0}]
["⑤",null,{"$f":"'8月'!$C$77","v":0},{"$f":"'8月'!$K$74","v":0},{"$f":"'8月'!$K$75","v":0},{"$f":"'8月'!$K$76","v":0},{"$f":"'8月'!$K$77","v":0},{"$f":"'8月'!$K$78","v":0},{"$f":"'8月'!$K$79","v":0},{"$f":"'8月'!$K$80","v":0},{"$f":"'8月'!$O$81","v":0},{"$f":"'8月'!$O$82","v":0}]
[{"$f":"B31","v":8},{"$f":"COUNTIF(C31:C35,\">0\")","v":0},null,{"$f":"SUM(D31:D35)","v":0},{"$f":"SUM(E31:E35)","v":0},{"$f":"SUM(F31:F35)","v":0},{"$f":"SUM(G31:G35)","v":0},{"$f":"SUM(D36:G36)","v":0},{"$f":"SUM(I31:I35)","v":0},{"$f":"SUM(J31:J35)","v":0},{"$f":"SUM(K31:K35)","v":0},{"$f":"SUM(L31:L35)","v":0}]
["回","月","日","幼","小","中","中卒以上","子ども\n小計","大人","スタッフ","収入","謝金"]
["①",9,{"$f":"'9月'!$C$9","v":0},{"$f":"'9月'!$K$6","v":0},{"$f":"'9月'!$K$7","v":0},{"$f":"'9月'!$K$8","v":0},{"$f":"'9月'!$K$9","v":0},{"$f":"'9月'!$K$10","v":0},{"$f":"'9月'!$K$11","v":0},{"$f":"'9月'!$K$12","v":0},{"$f":"'9月'!$O$13","v":0},{"$f":"'9月'!$O$14","v":0}]
["②",null,{"$f":"'9月'!$C$25","v":0},{"$f":"'9月'!$K$22","v":0},{"$f":"'9月'!$K$23","v":0},{"$f":"'9月'!$K$24","v":0},{"$f":"'9月'!$K$25","v":0},{"$f":"'9月'!$K$26","v":0},{"$f":"'9月'!$K$27","v":0},{"$f":"'9月'!$K$28","v":0},{"$f":"'9月'!$O$29","v":0},{"$f":"'9月'!$O$30","v":0}]
["③",null,{"$f":"'9月'!$C$43","v":0},{"$f":"'9月'!$K$40","v":0},{"$f":"'9月'!$K$41","v":0},{"$f":"'9月'!$K$42","v":0},{"$f":"'9月'!$K$43","v":0},{"$f":"'9月'!$K$44","v":0},{"$f":"'9月'!$K$45","v":0},{"$f":"'9月'!$K$46","v":0},{"$f":"'9月'!$O$47","v":0},{"$f":"'9月'!$O$48","v":0}]
["④",null,{"$f":"'9月'!$C$59","v":0},{"$f":"'9月'!$K$56","v":0},{"$f":"'9月'!$K$57","v":0},{"$f":"'9月'!$K$58","v":0},{"$f":"'9月'!$K$59","v":0},{"$f":"'9月'!$K$60","v":0},{"$f":"'9月'!$K$61","v":0},{"$f":"'9月'!$K$62","v":0},{"$f":"'9月'!$O$63","v":0},{"$f":"'9月'!$O$64","v":0}]
["⑤",null,{"$f":"'9月'!$C$77","v":0},{"$f":"'9月'!$K$74","v":0},{"$f":"'9月'!$K$75","v":0},{"$f":"'9月'!$K$76","v":0},{"$f":"'9月'!$K$77","v":0},{"$f":"'9月'!$K$78","v":0},{"$f":"'9月'!$K$79","v":0},{"$f":"'9月'!$K$80","v":0},{"$f":"'9月'!$O$81","v":0},{"$f":"'9月'!$O$82","v":0}]
[{"$f":"B38","v":9},{"$f":"COUNTIF(C38:C42,\">0\")","v":0},null,{"$f":"SUM(D38:D42)","v":0},{"$f":"SUM(E38:E42)","v":0},{"$f":"SUM(F38:F42)","v":0},{"$f":"SUM(G38:G42)","v":0},{"$f":"SUM(D43:G43)","v":0},{"$f":"SUM(I38:I42)","v":0},{"$f":"SUM(J38:J42)","v":0},{"$f":"SUM(K38:K42)","v":0},{"$f":"SUM(L38:L42)","v":0}]
["回","月","日","幼","小","中","中卒以上","子ども\n小計","大人","スタッフ","収入","謝金"]
["①",10,{"$f":"'10月'!$C$9","v":0},{"$f":"'10月'!$K$6","v":0},{"$f":"'10月'!$K$7","v":0},{"$f":"'10月'!$K$8","v":0},{"$f":"'10月'!$K$9","v":0},{"$f":"'10月'!$K$10","v":0},{"$f":"'10月'!$K$11","v":0},{"$f":"'10月'!$K$12","v":0},{"$f":"'10月'!$O$13","v":0},{"$f":"'10月'!$O$14","v":0}]
["②",null,{"$f":"'10月'!$C$25","v":0},{"$f":"'10月'!$K$22","v":0},{"$f":"'10月'!$K$23","v":0},{"$f":"'10月'!$K$24","v":0},{"$f":"'10月'!$K$25","v":0},{"$f":"'10月'!$K$26","v":0},{"$f":"'10月'!$K$27","v":0},{"$f":"'10月'!$K$28","v":0},{"$f":"'10月'!$O$29","v":0},{"$f":"'10月'!$O$30","v":0}]
["③",null,{"$f":"'10月'!$C$43","v":0},{"$f":"'10月'!$K$40","v":0},{"$f":"'10月'!$K$41","v":0},{"$f":"'10月'!$K$42","v":0},{"$f":"'10月'!$K$43","v":0},{"$f":"'10月'!$K$44","v":0},{"$f":"'10月'!$K$45","v":0},{"$f":"'10月'!$K$46","v":0},{"$f":"'10月'!$O$47","v":0},{"$f":"'10月'!$O$48","v":0}]
["④",null,{"$f":"'10月'!$C$59","v":0},{"$f":"'10月'!$K$56","v":0},{"$f":"'10月'!$K$57","v":0},{"$f":"'10月'!$K$58","v":0},{"$f":"'10月'!$K$59","v":0},{"$f":"'10月'!$K$60","v":0},{"$f":"'10月'!$K$61","v":0},{"$f":"'10月'!$K$62","v":0},{"$f":"'10月'!$O$63","v":0},{"$f":"'10月'!$O$64","v":0}]
["⑤",null,{"$f":"'10月'!$C$77","v":0},{"$f":"'10月'!$K$74","v":0},{"$f":"'10月'!$K$75","v":0},{"$f":"'10月'!$K$76","v":0},{"$f":"'10月'!$K$77","v":0},{"$f":"'10月'!$K$78","v":0},{"$f":"'10月'!$K$79","v":0},{"$f":"'10月'!$K$80","v":0},{"$f":"'10月'!$O$81","v":0},{"$f":"'10月'!$O$82","v":0}]
[{"$f":"B45","v":10},{"$f":"COUNTIF(C45:C49,\">0\")","v":0},null,{"$f":"SUM(D45:D49)","v":0},{"$f":"SUM(E45:E49)","v":0},{"$f":"SUM(F45:F49)","v":0},{"$f":"SUM(G45:G49)","v":0},{"$f":"SUM(D50:G50)","v":0},{"$f":"SUM(I45:I49)","v":0},{"$f":"SUM(J45:J49)","v":0},{"$f":"SUM(K45:K49)","v":0},{"$f":"SUM(L45:L49)","v":0}]
["回","月","日","幼","小","中","中卒以上","子ども\n小計","大人","スタッフ","収入","謝金"]
["①",11,{"$f":"'9月'!$C$9","v":0},{"$f":"'11月'!$K$6","v":0},{"$f":"'11月'!$K$7","v":0},{"$f":"'11月'!$K$8","v":0},{"$f":"'11月'!$K$9","v":0},{"$f":"'11月'!$K$10","v":0},{"$f":"'11月'!$K$11","v":0},{"$f":"'11月'!$K$12","v":0},{"$f":"'11月'!$O$13","v":0},{"$f":"'11月'!$O$14","v":0}]
["②",null,{"$f":"'9月'!$C$25","v":0},{"$f":"'11月'!$K$22","v":0},{"$f":"'11月'!$K$23","v":0},{"$f":"'11月'!$K$24","v":0},{"$f":"'11月'!$K$25","v":0},{"$f":"'11月'!$K$26","v":0},{"$f":"'11月'!$K$27","v":0},{"$f":"'11月'!$K$28","v":0},{"$f":"'11月'!$O$29","v":0},{"$f":"'11月'!$O$30","v":0}]
["③",null,{"$f":"'9月'!$C$43","v":0},{"$f":"'11月'!$K$40","v":0},{"$f":"'11月'!$K$41","v":0},{"$f":"'11月'!$K$42","v":0},{"$f":"'11月'!$K$43","v":0},{"$f":"'11月'!$K$44","v":0},{"$f":"'11月'!$K$45","v":0},{"$f":"'11月'!$K$46","v":0},{"$f":"'11月'!$O$47","v":0},{"$f":"'11月'!$O$48","v":0}]
["④",null,{"$f":"'9月'!$C$59","v":0},{"$f":"'11月'!$K$56","v":0},{"$f":"'11月'!$K$57","v":0},{"$f":"'11月'!$K$58","v":0},{"$f":"'11月'!$K$59","v":0},{"$f":"'11月'!$K$60","v":0},{"$f":"'11月'!$K$61","v":0},{"$f":"'11月'!$K$62","v":0},{"$f":"'11月'!$O$63","v":0},{"$f":"'11月'!$O$64","v":0}]
["⑤",null,{"$f":"'9月'!$C$77","v":0},{"$f":"'11月'!$K$74","v":0},{"$f":"'11月'!$K$75","v":0},{"$f":"'11月'!$K$76","v":0},{"$f":"'11月'!$K$77","v":0},{"$f":"'11月'!$K$78","v":0},{"$f":"'11月'!$K$79","v":0},{"$f":"'11月'!$K$80","v":0},{"$f":"'11月'!$O$81","v":0},{"$f":"'11月'!$O$82","v":0}]
[{"$f":"B52","v":11},{"$f":"COUNTIF(C52:C56,\">0\")","v":0},null,{"$f":"SUM(D52:D56)","v":0},{"$f":"SUM(E52:E56)","v":0},{"$f":"SUM(F52:F56)","v":0},{"$f":"SUM(G52:G56)","v":0},{"$f":"SUM(D57:G57)","v":0},{"$f":"SUM(I52:I56)","v":0},{"$f":"SUM(J52:J56)","v":0},{"$f":"SUM(K52:K56)","v":0},{"$f":"SUM(L52:L56)","v":0}]
["回","月","日","幼","小","中","中卒以上","子ども\n小計","大人","スタッフ","収入","謝金"]
["①",12,{"$f":"'12月'!$C$9","v":0},{"$f":"'12月'!$K$6","v":0},{"$f":"'12月'!$K$7","v":0},{"$f":"'12月'!$K$8","v":0},{"$f":"'12月'!$K$9","v":0},{"$f":"'12月'!$K$10","v":0},{"$f":"'12月'!$K$11","v":0},{"$f":"'12月'!$K$12","v":0},{"$f":"'12月'!$O$13","v":0},{"$f":"'12月'!$O$14","v":0}]
["②",null,{"$f":"'12月'!$C$25","v":0},{"$f":"'12月'!$K$22","v":0},{"$f":"'12月'!$K$23","v":0},{"$f":"'12月'!$K$24","v":0},{"$f":"'12月'!$K$25","v":0},{"$f":"'12月'!$K$26","v":0},{"$f":"'12月'!$K$27","v":0},{"$f":"'12月'!$K$28","v":0},{"$f":"'12月'!$O$29","v":0},{"$f":"'12月'!$O$30","v":0}]
["③",null,{"$f":"'12月'!$C$43","v":0},{"$f":"'12月'!$K$40","v":0},{"$f":"'12月'!$K$41","v":0},{"$f":"'12月'!$K$42","v":0},{"$f":"'12月'!$K$43","v":0},{"$f":"'12月'!$K$44","v":0},{"$f":"'12月'!$K$45","v":0},{"$f":"'12月'!$K$46","v":0},{"$f":"'12月'!$O$47","v":0},{"$f":"'12月'!$O$48","v":0}]
["④",null,{"$f":"'12月'!$C$59","v":0},{"$f":"'12月'!$K$56","v":0},{"$f":"'12月'!$K$57","v":0},{"$f":"'12月'!$K$58","v":0},{"$f":"'12月'!$K$59","v":0},{"$f":"'12月'!$K$60","v":0},{"$f":"'12月'!$K$61","v":0},{"$f":"'12月'!$K$62","v":0},{"$f":"'12月'!$O$63","v":0},{"$f":"'12月'!$O$64","v":0}]
["⑤",null,{"$f":"'12月'!$C$77","v":0},{"$f":"'12月'!$K$74","v":0},{"$f":"'12月'!$K$75","v":0},{"$f":"'12月'!$K$76","v":0},{"$f":"'12月'!$K$77","v":0},{"$f":"'12月'!$K$78","v":0},{"$f":"'12月'!$K$79","v":0},{"$f":"'12月'!$K$80","v":0},{"$f":"'12月'!$O$81","v":0},{"$f":"'12月'!$O$82","v":0}]
[{"$f":"B59","v":12},{"$f":"COUNTIF(C59:C63,\">0\")","v":0},null,{"$f":"SUM(D59:D63)","v":0},{"$f":"SUM(E59:E63)","v":0},{"$f":"SUM(F59:F63)","v":0},{"$f":"SUM(G59:G63)","v":0},{"$f":"SUM(D64:G64)","v":0},{"$f":"SUM(I59:I63)","v":0},{"$f":"SUM(J59:J63)","v":0},{"$f":"SUM(K59:K63)","v":0},{"$f":"SUM(L59:L63)","v":0}]
["回","月","日","幼","小","中","中卒以上","子ども\n小計","大人","スタッフ","収入","謝金"]
["①",1,{"$f":"'1月'!$C$9","v":0},{"$f":"'1月'!$K$6","v":0},{"$f":"'1月'!$K$7","v":0},{"$f":"'1月'!$K$8","v":0},{"$f":"'1月'!$K$9","v":0},{"$f":"'1月'!$K$10","v":0},{"$f":"'1月'!$K$11","v":0},{"$f":"'1月'!$K$12","v":0},{"$f":"'1月'!$O$13","v":0},{"$f":"'1月'!$O$14","v":0}]
["②",null,{"$f":"'1月'!$C$25","v":0},{"$f":"'1月'!$K$22","v":0},{"$f":"'1月'!$K$23","v":0},{"$f":"'1月'!$K$24","v":0},{"$f":"'1月'!$K$25","v":0},{"$f":"'1月'!$K$26","v":0},{"$f":"'1月'!$K$27","v":0},{"$f":"'1月'!$K$28","v":0},{"$f":"'1月'!$O$29","v":0},{"$f":"'1月'!$O$30","v":0}]
["③",null,{"$f":"'1月'!$C$43","v":0},{"$f":"'1月'!$K$40","v":0},{"$f":"'1月'!$K$41","v":0},{"$f":"'1月'!$K$42","v":0},{"$f":"'1月'!$K$43","v":0},{"$f":"'1月'!$K$44","v":0},{"$f":"'1月'!$K$45","v":0},{"$f":"'1月'!$K$46","v":0},{"$f":"'1月'!$O$47","v":0},{"$f":"'1月'!$O$48","v":0}]
["④",null,{"$f":"'1月'!$C$59","v":0},{"$f":"'1月'!$K$56","v":0},{"$f":"'1月'!$K$57","v":0},{"$f":"'1月'!$K$58","v":0},{"$f":"'1月'!$K$59","v":0},{"$f":"'1月'!$K$60","v":0},{"$f":"'1月'!$K$61","v":0},{"$f":"'1月'!$K$62","v":0},{"$f":"'1月'!$O$63","v":0},{"$f":"'1月'!$O$64","v":0}]
["⑤",null,{"$f":"'1月'!$C$77","v":0},{"$f":"'1月'!$K$74","v":0},{"$f":"'1月'!$K$75","v":0},{"$f":"'1月'!$K$76","v":0},{"$f":"'1月'!$K$77","v":0},{"$f":"'1月'!$K$78","v":0},{"$f":"'1月'!$K$79","v":0},{"$f":"'1月'!$K$80","v":0},{"$f":"'1月'!$O$81","v":0},{"$f":"'1月'!$O$82","v":0}]
[{"$f":"B66","v":1},{"$f":"COUNTIF(C66:C70,\">0\")","v":0},null,{"$f":"SUM(D66:D70)","v":0},{"$f":"SUM(E66:E70)","v":0},{"$f":"SUM(F66:F70)","v":0},{"$f":"SUM(G66:G70)","v":0},{"$f":"SUM(D71:G71)","v":0},{"$f":"SUM(I66:I70)","v":0},{"$f":"SUM(J66:J70)","v":0},{"$f":"SUM(K66:K70)","v":0},{"$f":"SUM(L66:L70)","v":0}]
["回","月","日","幼","小","中","中卒以上","子ども\n小計","大人","スタッフ","収入","謝金"]
["①",2,{"$f":"'2月'!$C$9","v":0},{"$f":"'2月'!$K$6","v":0},{"$f":"'2月'!$K$7","v":0},{"$f":"'2月'!$K$8","v":0},{"$f":"'2月'!$K$9","v":0},{"$f":"'2月'!$K$10","v":0},{"$f":"'2月'!$K$11","v":0},{"$f":"'2月'!$K$12","v":0},{"$f":"'2月'!$O$13","v":0},{"$f":"'2月'!$O$14","v":0}]
["②",null,{"$f":"'2月'!$C$25","v":0},{"$f":"'2月'!$K$22","v":0},{"$f":"'2月'!$K$23","v":0},{"$f":"'2月'!$K$24","v":0},{"$f":"'2月'!$K$25","v":0},{"$f":"'2月'!$K$26","v":0},{"$f":"'2月'!$K$27","v":0},{"$f":"'2月'!$K$28","v":0},{"$f":"'2月'!$O$29","v":0},{"$f":"'2月'!$O$30","v":0}]
["③",null,{"$f":"'2月'!$C$43","v":0},{"$f":"'2月'!$K$40","v":0},{"$f":"'2月'!$K$41","v":0},{"$f":"'2月'!$K$42","v":0},{"$f":"'2月'!$K$43","v":0},{"$f":"'2月'!$K$44","v":0},{"$f":"'2月'!$K$45","v":0},{"$f":"'2月'!$K$46","v":0},{"$f":"'2月'!$O$47","v":0},{"$f":"'2月'!$O$48","v":0}]
["④",null,{"$f":"'2月'!$C$59","v":0},{"$f":"'2月'!$K$56","v":0},{"$f":"'2月'!$K$57","v":0},{"$f":"'2月'!$K$58","v":0},{"$f":"'2月'!$K$59","v":0},{"$f":"'2月'!$K$60","v":0},{"$f":"'2月'!$K$61","v":0},{"$f":"'2月'!$K$62","v":0},{"$f":"'2月'!$O$63","v":0},{"$f":"'2月'!$O$64","v":0}]
["⑤",null,{"$f":"'2月'!$C$77","v":0},{"$f":"'2月'!$K$74","v":0},{"$f":"'2月'!$K$75","v":0},{"$f":"'2月'!$K$76","v":0},{"$f":"'2月'!$K$77","v":0},{"$f":"'2月'!$K$78","v":0},{"$f":"'2月'!$K$79","v":0},{"$f":"'2月'!$K$80","v":0},{"$f":"'2月'!$O$81","v":0},{"$f":"'2月'!$O$82","v":0}]
[{"$f":"B73","v":2},{"$f":"COUNTIF(C73:C77,\">0\")","v":0},null,{"$f":"SUM(D73:D77)","v":0},{"$f":"SUM(E73:E77)","v":0},{"$f":"SUM(F73:F77)","v":0},{"$f":"SUM(G73:G77)","v":0},{"$f":"SUM(D78:G78)","v":0},{"$f":"SUM(I73:I77)","v":0},{"$f":"SUM(J73:J77)","v":0},{"$f":"SUM(K73:K77)","v":0},{"$f":"SUM(L73:L77)","v":0}]
["回","月","日","幼","小","中","中卒以上","子ども\n小計","大人","スタッフ","収入","謝金"]
["①",3,{"$f":"'3月'!$C$9","v":0},{"$f":"'3月'!$K$6","v":0},{"$f":"'3月'!$K$7","v":0},{"$f":"'3月'!$K$8","v":0},{"$f":"'3月'!$K$9","v":0},{"$f":"'3月'!$K$10","v":0},{"$f":"'3月'!$K$11","v":0},{"$f":"'3月'!$K$12","v":0},{"$f":"'3月'!$O$13","v":0},{"$f":"'3月'!$O$14","v":0}]
["②",null,{"$f":"'3月'!$C$25","v":0},{"$f":"'3月'!$K$22","v":0},{"$f":"'3月'!$K$23","v":0},{"$f":"'3月'!$K$24","v":0},{"$f":"'3月'!$K$25","v":0},{"$f":"'3月'!$K$26","v":0},{"$f":"'3月'!$K$27","v":0},{"$f":"'3月'!$K$28","v":0},{"$f":"'3月'!$O$29","v":0},{"$f":"'3月'!$O$30","v":0}]
["③",null,{"$f":"'3月'!$C$43","v":0},{"$f":"'3月'!$K$40","v":0},{"$f":"'3月'!$K$41","v":0},{"$f":"'3月'!$K$42","v":0},{"$f":"'3月'!$K$43","v":0},{"$f":"'3月'!$K$44","v":0},{"$f":"'3月'!$K$45","v":0},{"$f":"'3月'!$K$46","v":0},{"$f":"'3月'!$O$47","v":0},{"$f":"'3月'!$O$48","v":0}]
["④",null,{"$f":"'3月'!$C$59","v":0},{"$f":"'3月'!$K$56","v":0},{"$f":"'3月'!$K$57","v":0},{"$f":"'3月'!$K$58","v":0},{"$f":"'3月'!$K$59","v":0},{"$f":"'3月'!$K$60","v":0},{"$f":"'3月'!$K$61","v":0},{"$f":"'3月'!$K$62","v":0},{"$f":"'3月'!$O$63","v":0},{"$f":"'3月'!$O$64","v":0}]
["⑤",null,{"$f":"'3月'!$C$77","v":0},{"$f":"'3月'!$K$74","v":0},{"$f":"'3月'!$K$75","v":0},{"$f":"'3月'!$K$76","v":0},{"$f":"'3月'!$K$77","v":0},{"$f":"'3月'!$K$78","v":0},{"$f":"'3月'!$K$79","v":0},{"$f":"'3月'!$K$80","v":0},{"$f":"'3月'!$O$81","v":0},{"$f":"'3月'!$O$82","v":0}]
[{"$f":"B80","v":3},{"$f":"COUNTIF(C80:C84,\">0\")","v":0},null,{"$f":"SUM(D80:D84)","v":0},{"$f":"SUM(E80:E84)","v":0},{"$f":"SUM(F80:F84)","v":0},{"$f":"SUM(G80:G84)","v":0},{"$f":"SUM(D85:G85)","v":0},{"$f":"SUM(I80:I84)","v":0},{"$f":"SUM(J80:J84)","v":0},{"$f":"SUM(K80:K84)","v":0},{"$f":"SUM(L80:L84)","v":0}]
[]
["年度\n合計",{"$f":"B8+B15+B22+B29+B36+B43+B50+B57+B64+B71+B78+B85","v":0},null,{"$f":"D8+D15+D22+D29+D36+D43+D50+D57+D64+D71+D78+D85","v":0},0,0,0,0,0,0,{"$f":"K8+K15+K22+K29+K36+K43+K50+K57+K64+K71+K78+K85","v":0},0]
["年度\n平均",null,null,{"$f":"D87/$B$87","v":{"$error":"#DIV/0!"}},{"$error":"#DIV/0!"},{"$error":"#DIV/0!"},{"$error":"#DIV/0!"},{"$error":"#DIV/0!"},{"$error":"#DIV/0!"},{"$error":"#DIV/0!"},{"$error":"#DIV/0!"},{"$error":"#DIV/0!"}]

{"sheet":"通年PDF作成用","index":15,"n_rows":456,"n_cols":20,"rows_kept":456,"cut":false,"hidden":true,"merged":[[455,1,455,19],[448,1,449,1],[448,2,449,3],[448,4,449,4],[448,5,448,19],[449,5,449,19],[450,5,454,19],[446,14,446,16],[446,18,446,19],[447,5,447,9],[447,10,447,12],[447,14,447,16],[447,18,447,19],[444,2,445,3],[444,6,444,9],[444,10,444,12],[445,1,447,1],[445,5,445,9],[445,10,445,12],[446,2,447,3],[446,5,446,9],[446,10,446,12],[441,10,441,12],[441,15,441,19],[442,6,442,9],[442,10,442,12],[442,15,445,19],[443,6,443,9],[443,10,443,12],[439,5,444,5],[439,6,439,9],[439,10,439,12],[439,14,445,14],[439,15,439,19],[440,6,440,9],[440,10,440,12],[440,15,440,17],[440,18,440,19],[441,6,441,9],[432,1,433,1],[432,2,433,3],[432,4,433,4],[432,5,432,19],[433,5,433,19],[434,5,438,19],[430,14,430,16],[430,18,430,19],[431,5,431,9],[431,10,431,12],[431,14,431,16],[431,18,431,19],[429,1,431,1],[429,5,429,9],[429,10,429,12],[430,2,431,3],[430,5,430,9],[430,10,430,12],[426,6,426,9],[426,10,426,12],[426,15,429,19],[427,6,427,9],[427,10,427,12],[428,2,429,3],[428,6,428,9],[428,10,428,12],[424,10,424,12],[424,15,424,17],[424,18,424,19],[425,6,425,9],[425,10,425,12],[425,15,425,19],[422,3,422,5],[422,6,422,8],[422,9,422,12],[422,14,422,18],[423,5,428,5],[423,6,423,9],[423,10,423,12],[423,14,429,14],[423,15,423,19],[424,6,424,9],[417,1,417,19],[418,1,418,4],[418,5,419,19],[420,3,420,6],[420,8,420,19],[421,3,421,19],[410,1,411,1],[410,2,411,3],[410,4,411,4],[410,5,410,19],[411,5,411,19],[412,5,416,19],[408,14,408,16],[408,18,408,19],[409,5,409,9],[409,10,409,12],[409,14,409,16],[409,18,409,19],[406,2,407,3],[406,6,406,9],[406,10,406,12],[407,1,409,1],[407,5,407,9],[407,10,407,12],[408,2,409,3],[408,5,408,9],[408,10,408,12],[403,10,403,12],[403,15,403,19],[404,6,404,9],[404,10,404,12],[404,15,407,19],[405,6,405,9],[405,10,405,12],[401,5,406,5],[401,6,401,9],[401,10,401,12],[401,14,407,14],[401,15,401,19],[402,6,402,9],[402,10,402,12],[402,15,402,17],[402,18,402,19],[403,6,403,9],[394,1,395,1],[394,2,395,3],[394,4,395,4],[394,5,394,19],[395,5,395,19],[396,5,400,19],[392,14,392,16],[392,18,392,19],[393,5,393,9],[393,10,393,12],[393,14,393,16],[393,18,393,19],[391,1,393,1],[391,5,391,9],[391,10,391,12],[392,2,393,3],[392,5,392,9],[392,10,392,12],[388,6,388,9],[388,10,388,12],[388,15,391,19],[389,6,389,9],[389,10,389,12],[390,2,391,3],[390,6,390,9],[390,10,390,12],[386,10,386,12],[386,15,386,17],[386,18,386,19],[387,6,387,9],[387,10,387,12],[387,15,387,19],[384,3,384,5],[384,6,384,8],[384,9,384,12],[384,14,384,18],[385,5,390,5],[385,6,385,9],[385,10,385,12],[385,14,391,14],[385,15,385,19],[386,6,386,9],[379,1,379,19],[380,1,380,4],[380,5,381,19],[382,3,382,6],[382,8,382,19],[383,3,383,19],[372,1,373,1],[372,2,373,3],[372,4,373,4],[372,5,372,19],[373,5,373,19],[374,5,378,19],[370,14,370,16],[370,18,370,19],[371,5,371,9],[371,10,371,12],[371,14,371,16],[371,18,371,19],[368,2,369,3],[368,6,368,9],[368,10,368,12],[369,1,371,1],[369,5,369,9],[369,10,369,12],[370,2,371,3],[370,5,370,9],[370,10,370,12],[365,10,365,12],[365,15,365,19],[366,6,366,9],[366,10,366,12],[366,15,369,19],[367,6,367,9],[367,10,367,12],[363,5,368,5],[363,6,363,9],[363,10,363,12],[363,14,369,14],[363,15,363,19],[364,6,364,9],[364,10,364,12],[364,15,364,17],[364,18,364,19],[365,6,365,9],[356,1,357,1],[356,2,357,3],[356,4,357,4],[356,5,356,19],[357,5,357,19],[358,5,362,19],[354,14,354,16],[354,18,354,19],[355,5,355,9],[355,10,355,12],[355,14,355,16],[355,18,355,19],[353,1,355,1],[353,5,353,9],[353,10,353,12],[354,2,355,3],[354,5,354,9],[354,10,354,12],[350,6,350,9],[350,10,350,12],[350,15,353,19],[351,6,351,9],[351,10,351,12],[352,2,353,3],[352,6,352,9],[352,10,352,12],[348,10,348,12],[348,15,348,17],[348,18,348,19],[349,6,349,9],[349,10,349,12],[349,15,349,19],[346,3,346,5],[346,6,346,8],[346,9,346,12],[346,14,346,18],[347,5,352,5],[347,6,347,9],[347,10,347,12],[347,14,353,14],[347,15,347,19],[348,6,348,9],[341,1,341,19],[342,1,342,4],[342,5,343,19],[344,3,344,6],[344,8,344,19],[345,3,345,19],[334,1,335,1],[334,2,335,3],[334,4,335,4],[334,5,334,19],[335,5,335,19],[336,5,340,19],[332,14,332,16],[332,18,332,19],[333,5,333,9],[333,10,333,12],[333,14,333,16],[333,18,333,19],[330,2,331,3],[330,6,330,9],[330,10,330,12],[331,1,333,1],[331,5,331,9],[331,10,331,12],[332,2,333,3],[332,5,332,9],[332,10,332,12],[327,10,327,12],[327,15,327,19],[328,6,328,9],[328,10,328,12],[328,15,331,19],[329,6,329,9],[329,10,329,12],[325,5,330,5],[325,6,325,9],[325,10,325,12],[325,14,331,14],[325,15,325,19],[326,6,326,9],[326,10,326,12],[326,15,326,17],[326,18,326,19],[327,6,327,9],[318,1,319,1],[318,2,319,3],[318,4,319,4],[318,5,318,19],[319,5,319,19],[320,5,324,19],[316,14,316,16],[316,18,316,19],[317,5,317,9],[317,10,317,12],[317,14,317,16],[317,18,317,19],[315,1,317,1],[315,5,315,9],[315,10,315,12],[316,2,317,3],[316,5,316,9],[316,10,316,12],[312,6,312,9],[312,10,312,12],[312,15,315,19],[313,6,313,9],[313,10,313,12],[314,2,315,3],[314,6,314,9],[314,10,314,12],[310,10,310,12],[310,15,310,17],[310,18,310,19],[311,6,311,9],[311,10,311,12],[311,15,311,19],[308,3,308,5],[308,6,308,8],[308,9,308,12],[308,14,308,18],[309,5,314,5],[309,6,309,9],[309,10,309,12],[309,14,315,14],[309,15,309,19],[310,6,310,9],[303,1,303,19],[304,1,304,4],[304,5,305,19],[306,3,306,6],[306,8,306,19],[307,3,307,19],[296,1,297,1],[296,2,297,3],[296,4,297,4],[296,5,296,19],[297,5,297,19],[298,5,302,19],[294,14,294,16],[294,18,294,19],[295,5,295,9],[295,10,295,12],[295,14,295,16],[295,18,295,19],[292,2,293,3],[292,6,292,9],[292,10,292,12],[293,1,295,1],[293,5,293,9],[293,10,293,12],[294,2,295,3],[294,5,294,9],[294,10,294,12],[289,10,289,12],[289,15,289,19],[290,6,290,9],[290,10,290,12],[290,15,293,19],[291,6,291,9],[291,10,291,12],[287,5,292,5],[287,6,287,9],[287,10,287,12],[287,14,293,14],[287,15,287,19],[288,6,288,9],[288,10,288,12],[288,15,288,17],[288,18,288,19],[289,6,289,9],[280,1,281,1],[280,2,281,3],[280,4,281,4],[280,5,280,19],[281,5,281,19],[282,5,286,19],[278,14,278,16],[278,18,278,19],[279,5,279,9],[279,10,279,12],[279,14,279,16],[279,18,279,19],[277,1,279,1],[277,5,277,9],[277,10,277,12],[278,2,279,3],[278,5,278,9],[278,10,278,12],[274,6,274,9],[274,10,274,12],[274,15,277,19],[275,6,275,9],[275,10,275,12],[276,2,277,3],[276,6,276,9],[276,10,276,12],[272,10,272,12],[272,15,272,17],[272,18,272,19],[273,6,273,9],[273,10,273,12],[273,15,273,19],[270,3,270,5],[270,6,270,8],[270,9,270,12],[270,14,270,18],[271,5,276,5],[271,6,271,9],[271,10,271,12],[271,14,277,14],[271,15,271,19],[272,6,272,9],[265,1,265,19],[266,1,266,4],[266,5,267,19],[268,3,268,6],[268,8,268,19],[269,3,269,19],[258,1,259,1],[258,2,259,3],[258,4,259,4],[258,5,258,19],[259,5,259,19],[260,5,264,19],[256,14,256,16],[256,18,256,19],[257,5,257,9],[257,10,257,12],[257,14,257,16],[257,18,257,19],[254,2,255,3],[254,6,254,9],[254,10,254,12],[255,1,257,1],[255,5,255,9],[255,10,255,12],[256,2,257,3],[256,5,256,9],[256,10,256,12],[251,10,251,12],[251,15,251,19],[252,6,252,9],[252,10,252,12],[252,15,255,19],[253,6,253,9],[253,10,253,12],[249,5,254,5],[249,6,249,9],[249,10,249,12],[249,14,255,14],[249,15,249,19],[250,6,250,9],[250,10,250,12],[250,15,250,17],[250,18,250,19],[251,6,251,9],[242,1,243,1],[242,2,243,3],[242,4,243,4],[242,5,242,19],[243,5,243,19],[244,5,248,19],[240,14,240,16],[240,18,240,19],[241,5,241,9],[241,10,241,12],[241,14,241,16],[241,18,241,19],[239,1,241,1],[239,5,239,9],[239,10,239,12],[240,2,241,3],[240,5,240,9],[240,10,240,12],[236,6,236,9],[236,10,236,12],[236,15,239,19],[237,6,237,9],[237,10,237,12],[238,2,239,3],[238,6,238,9],[238,10,238,12],[234,10,234,12],[234,15,234,17],[234,18,234,19],[235,6,235,9],[235,10,235,12],[235,15,235,19],[232,3,232,5],[232,6,232,8],[232,9,232,12],[232,14,232,18],[233,5,238,5],[233,6,233,9],[233,10,233,12],[233,14,239,14],[233,15,233,19],[234,6,234,9],[227,1,227,19],[228,1,228,4],[228,5,229,19],[230,3,230,6],[230,8,230,19],[231,3,231,19],[220,1,221,1],[220,2,221,3],[220,4,221,4],[220,5,220,19],[221,5,221,19],[222,5,226,19],[218,14,218,16],[218,18,218,19],[219,5,219,9],[219,10,219,12],[219,14,219,16],[219,18,219,19],[216,2,217,3],[216,6,216,9],[216,10,216,12],[217,1,219,1],[217,5,217,9],[217,10,217,12],[218,2,219,3],[218,5,218,9],[218,10,218,12],[213,10,213,12],[213,15,213,19],[214,6,214,9],[214,10,214,12],[214,15,217,19],[215,6,215,9],[215,10,215,12],[211,5,216,5],[211,6,211,9],[211,10,211,12],[211,14,217,14],[211,15,211,19],[212,6,212,9],[212,10,212,12],[212,15,212,17],[212,18,212,19],[213,6,213,9],[204,1,205,1],[204,2,205,3],[204,4,205,4],[204,5,204,19],[205,5,205,19],[206,5,210,19],[202,14,202,16],[202,18,202,19],[203,5,203,9],[203,10,203,12],[203,14,203,16],[203,18,203,19],[201,1,203,1],[201,5,201,9],[201,10,201,12],[202,2,203,3],[202,5,202,9],[202,10,202,12],[198,6,198,9],[198,10,198,12],[198,15,201,19],[199,6,199,9],[199,10,199,12],[200,2,201,3],[200,6,200,9],[200,10,200,12],[196,10,196,12],[196,15,196,17],[196,18,196,19],[197,6,197,9],[197,10,197,12],[197,15,197,19],[194,3,194,5],[194,6,194,8],[194,9,194,12],[194,14,194,18],[195,5,200,5],[195,6,195,9],[195,10,195,12],[195,14,201,14],[195,15,195,19],[196,6,196,9],[189,1,189,19],[190,1,190,4],[190,5,191,19],[192,3,192,6],[192,8,192,19],[193,3,193,19],[182,1,183,1],[182,2,183,3],[182,4,183,4],[182,5,182,19],[183,5,183,19],[184,5,188,19],[180,14,180,16],[180,18,180,19],[181,5,181,9],[181,10,181,12],[181,14,181,16],[181,18,181,19],[178,2,179,3],[178,6,178,9],[178,10,178,12],[179,1,181,1],[179,5,179,9],[179,10,179,12],[180,2,181,3],[180,5,180,9],[180,10,180,12],[175,10,175,12],[175,15,175,19],[176,6,176,9],[176,10,176,12],[176,15,179,19],[177,6,177,9],[177,10,177,12],[173,5,178,5],[173,6,173,9],[173,10,173,12],[173,14,179,14],[173,15,173,19],[174,6,174,9],[174,10,174,12],[174,15,174,17],[174,18,174,19],[175,6,175,9],[166,1,167,1],[166,2,167,3],[166,4,167,4],[166,5,166,19],[167,5,167,19],[168,5,172,19],[164,14,164,16],[164,18,164,19],[165,5,165,9],[165,10,165,12],[165,14,165,16],[165,18,165,19],[163,1,165,1],[163,5,163,9],[163,10,163,12],[164,2,165,3],[164,5,164,9],[164,10,164,12],[160,6,160,9],[160,10,160,12],[160,15,163,19],[161,6,161,9],[161,10,161,12],[162,2,163,3],[162,6,162,9],[162,10,162,12],[158,10,158,12],[158,15,158,17],[158,18,158,19],[159,6,159,9],[159,10,159,12],[159,15,159,19],[156,3,156,5],[156,6,156,8],[156,9,156,12],[156,14,156,18],[157,5,162,5],[157,6,157,9],[157,10,157,12],[157,14,163,14],[157,15,157,19],[158,6,158,9],[151,1,151,19],[152,1,152,4],[152,5,153,19],[154,3,154,6],[154,8,154,19],[155,3,155,19],[144,1,145,1],[144,2,145,3],[144,4,145,4],[144,5,144,19],[145,5,145,19],[146,5,150,19],[142,14,142,16],[142,18,142,19],[143,5,143,9],[143,10,143,12],[143,14,143,16],[143,18,143,19],[140,2,141,3],[140,6,140,9],[140,10,140,12],[141,1,143,1],[141,5,141,9],[141,10,141,12],[142,2,143,3],[142,5,142,9],[142,10,142,12],[137,10,137,12],[137,15,137,19],[138,6,138,9],[138,10,138,12],[138,15,141,19],[139,6,139,9],[139,10,139,12],[135,5,140,5],[135,6,135,9],[135,10,135,12],[135,14,141,14],[135,15,135,19],[136,6,136,9],[136,10,136,12],[136,15,136,17],[136,18,136,19],[137,6,137,9],[128,1,129,1],[128,2,129,3],[128,4,129,4],[128,5,128,19],[129,5,129,19],[130,5,134,19],[126,14,126,16],[126,18,126,19],[127,5,127,9],[127,10,127,12],[127,14,127,16],[127,18,127,19],[125,1,127,1],[125,5,125,9],[125,10,125,12],[126,2,127,3],[126,5,126,9],[126,10,126,12],[122,6,122,9],[122,10,122,12],[122,15,125,19],[123,6,123,9],[123,10,123,12],[124,2,125,3],[124,6,124,9],[124,10,124,12],[120,10,120,12],[120,15,120,17],[120,18,120,19],[121,6,121,9],[121,10,121,12],[121,15,121,19],[118,3,118,5],[118,6,118,8],[118,9,118,12],[118,14,118,18],[119,5,124,5],[119,6,119,9],[119,10,119,12],[119,14,125,14],[119,15,119,19],[120,6,120,9],[113,1,113,19],[114,1,114,4],[114,5,115,19],[116,3,116,6],[116,8,116,19],[117,3,117,19],[106,1,107,1],[106,2,107,3],[106,4,107,4],[106,5,106,19],[107,5,107,19],[108,5,112,19],[104,14,104,16],[104,18,104,19],[105,5,105,9],[105,10,105,12],[105,14,105,16],[105,18,105,19],[102,2,103,3],[102,6,102,9],[102,10,102,12],[103,1,105,1],[103,5,103,9],[103,10,103,12],[104,2,105,3],[104,5,104,9],[104,10,104,12],[99,10,99,12],[99,15,99,19],[100,6,100,9],[100,10,100,12],[100,15,103,19],[101,6,101,9],[101,10,101,12],[97,5,102,5],[97,6,97,9],[97,10,97,12],[97,14,103,14],[97,15,97,19],[98,6,98,9],[98,10,98,12],[98,15,98,17],[98,18,98,19],[99,6,99,9],[90,1,91,1],[90,2,91,3],[90,4,91,4],[90,5,90,19],[91,5,91,19],[92,5,96,19],[88,14,88,16],[88,18,88,19],[89,5,89,9],[89,10,89,12],[89,14,89,16],[89,18,89,19],[87,1,89,1],[87,5,87,9],[87,10,87,12],[88,2,89,3],[88,5,88,9],[88,10,88,12],[84,6,84,9],[84,10,84,12],[84,15,87,19],[85,6,85,9],[85,10,85,12],[86,2,87,3],[86,6,86,9],[86,10,86,12],[82,10,82,12],[82,15,82,17],[82,18,82,19],[83,6,83,9],[83,10,83,12],[83,15,83,19],[80,3,80,5],[80,6,80,8],[80,9,80,12],[80,14,80,18],[81,5,86,5],[81,6,81,9],[81,10,81,12],[81,14,87,14],[81,15,81,19],[82,6,82,9],[75,1,75,19],[76,1,76,4],[76,5,77,19],[78,3,78,6],[78,8,78,19],[79,3,79,19],[68,1,69,1],[68,2,69,3],[68,4,69,4],[68,5,68,19],[69,5,69,19],[70,5,74,19],[66,14,66,16],[66,18,66,19],[67,5,67,9],[67,10,67,12],[67,14,67,16],[67,18,67,19],[64,2,65,3],[64,6,64,9],[64,10,64,12],[65,1,67,1],[65,5,65,9],[65,10,65,12],[66,2,67,3],[66,5,66,9],[66,10,66,12],[61,10,61,12],[61,15,61,19],[62,6,62,9],[62,10,62,12],[62,15,65,19],[63,6,63,9],[63,10,63,12],[59,5,64,5],[59,6,59,9],[59,10,59,12],[59,14,65,14],[59,15,59,19],[60,6,60,9],[60,10,60,12],[60,15,60,17],[60,18,60,19],[61,6,61,9],[52,1,53,1],[52,2,53,3],[52,4,53,4],[52,5,52,19],[53,5,53,19],[54,5,58,19],[50,14,50,16],[50,18,50,19],[51,5,51,9],[51,10,51,12],[51,14,51,16],[51,18,51,19],[49,1,51,1],[49,5,49,9],[49,10,49,12],[50,2,51,3],[50,5,50,9],[50,10,50,12],[46,6,46,9],[46,10,46,12],[46,15,49,19],[47,6,47,9],[47,10,47,12],[48,2,49,3],[48,6,48,9],[48,10,48,12],[44,10,44,12],[44,15,44,17],[44,18,44,19],[45,6,45,9],[45,10,45,12],[45,15,45,19],[42,3,42,5],[42,6,42,8],[42,9,42,12],[42,14,42,18],[43,5,48,5],[43,6,43,9],[43,10,43,12],[43,14,49,14],[43,15,43,19],[44,6,44,9],[37,1,37,19],[38,1,38,4],[38,5,39,19],[40,3,40,6],[40,8,40,19],[41,3,41,19],[30,1,31,1],[30,2,31,3],[30,4,31,4],[30,5,30,19],[31,5,31,19],[32,5,36,19],[28,14,28,16],[28,18,28,19],[29,5,29,9],[29,10,29,12],[29,14,29,16],[29,18,29,19],[26,2,27,3],[26,6,26,9],[26,10,26,12],[27,1,29,1],[27,5,27,9],[27,10,27,12],[28,2,29,3],[28,5,28,9],[28,10,28,12],[23,10,23,12],[23,15,23,19],[24,6,24,9],[24,10,24,12],[24,15,27,19],[25,6,25,9],[25,10,25,12],[21,5,26,5],[21,6,21,9],[21,10,21,12],[21,14,27,14],[21,15,21,19],[22,6,22,9],[22,10,22,12],[22,15,22,17],[22,18,22,19],[23,6,23,9],[14,1,15,1],[14,2,15,3],[14,4,15,4],[14,5,14,19],[15,5,15,19],[16,5,20,19],[12,14,12,16],[12,18,12,19],[13,5,13,9],[13,10,13,12],[13,14,13,16],[13,18,13,19],[10,2,11,3],[10,6,10,9],[10,10,10,12]],"merged_total":1032,"flags":["merged_cut"]}
[null,"（様式第1２号）",null,null,null,"事業実施月の翌月8日までにメール、FAXなどで提出してください。\nEmail：kodosei@city.hirakata.osaka.jp  FAX：072-843-2244"]
[]
[null,null,null,"令和",null,null,null,7,"年度　子どもの居場所づくり推進事業"]
[null,null,null,"月　例　報　告　書"]
[null,null,"（　",4,null,null,"月）- ①　",null,null,"食堂名",null,null,null,"(","食堂名",null,null,null,null,")"]
[null,null,null,null,null,"参加人数","幼児",null,null,null,null,null,null,"人","食事","子どもへの準備食数"]
[null,null,null,null,null,null,"小学生",null,null,null,null,null,null,"人",null,null,null,null,"食"]
[null,null,null,null,null,null,"中学生",null,null,null,null,null,null,"人",null,"＜献立＞"]
[null,null,null,null,null,null,"中学校卒業後の\n子ども（※）",null,null,null,null,null,null,"人"]
[null,null,null,null,null,null,"小計",null,null,null,{"$f":"K6+K7+K8+K9","v":0},null,null,"人"]
[null,null,null,null,null,null,"大人",null,null,null,null,null,null,"人"]
[null,null,null,null,null,"スタッフ数\n（ボランティアも含めて記入）",null,null,null,null,null,null,null,"人"]
[null,null,"日",null,null,"参加費収入",null,null,null,null,null,null,null,"人分",null,null,null,"円"]
[null,null,null,null,null,"スタッフ等謝礼金支払い",null,null,null,null,null,null,null,"人分",null,null,null,"円"]
[null,"(",null,null,")","○上記の「参加費収入」と「ｽﾀｯﾌ等謝礼金」の金額は、\n各回の出納帳に記載する金額と一致させてください。"]
[null,null,null,null,null,"自由記入欄（実施の効果や課題など）"]
[]
[]
[]
[]
[]
[null,null,null,null,null,"参加人数","幼児",null,null,null,null,null,null,"人","食事","子どもへの準備食数"]
[null,null,null,null,null,null,"小学生",null,null,null,null,null,null,"人",null,null,null,null,"食"]
[null,null,null,null,null,null,"中学生",null,null,null,null,null,null,"人",null,"＜献立＞"]
[null,null,null,null,null,null,"中学校卒業後の\n子ども（※）",null,null,null,null,null,null,"人"]
[null,null,null,null,null,null,"小計",null,null,null,{"$f":"K22+K23+K24+K25","v":0},null,null,"人"]
[null,null,null,null,null,null,"大人",null,null,null,null,null,null,"人"]
[null,null,null,null,null,"スタッフ数\n（ボランティアも含めて記入）",null,null,null,null,null,null,null,"人"]
[null,null,"日",null,null,"参加費収入",null,null,null,null,null,null,null,"人分",null,null,null,"円"]
[null,null,null,null,null,"スタッフ等謝礼金支払い",null,null,null,null,null,null,null,"人分",null,null,null,"円"]
[null,"(",null,null,")","○上記の「参加費収入」と「ｽﾀｯﾌ等謝礼金」の金額は、\n各回の出納帳に記載する金額と一致させてください。"]
[null,null,null,null,null,"自由記入欄（実施の効果や課題など）"]
[]
[]
[]
[]
[]
[null,"※中学校卒業後から１８歳に達する日以後の最初の３月３１日までにある子ども。高校生など。"]
[null,"（様式第1２号）",null,null,null,"事業実施月の翌月8日までにメール、FAXなどで提出してください。\nEmail：kodosei@city.hirakata.osaka.jp  FAX：072-843-2244"]
[]
[null,null,null,"令和",null,null,null,7,"年度　子どもの居場所づくり推進事業"]
[null,null,null,"月　例　報　告　書"]
[null,null,"（　",5,null,null,"月）- ①　",null,null,"食堂名",null,null,null,"(",{"$f":"'4月'!O43:S43","v":0},null,null,null,null,")"]
[null,null,null,null,null,"参加人数","幼児",null,null,null,null,null,null,"人","食事","子どもへの準備食数"]
[null,null,null,null,null,null,"小学生",null,null,null,null,null,null,"人",null,null,null,null,"食"]
[null,null,null,null,null,null,"中学生",null,null,null,null,null,null,"人",null,"＜献立＞"]
[null,null,null,null,null,null,"中学校卒業後の\n子ども（※）",null,null,null,null,null,null,"人"]
[null,null,null,null,null,null,"小計",null,null,null,{"$f":"K44+K45+K46+K47","v":0},null,null,"人"]
[null,null,null,null,null,null,"大人",null,null,null,null,null,null,"人"]
[null,null,null,null,null,"スタッフ数\n（ボランティアも含めて記入）",null,null,null,null,null,null,null,"人"]
[null,null,"日",null,null,"参加費収入",null,null,null,null,null,null,null,"人分",null,null,null,"円"]
[null,null,null,null,null,"スタッフ等謝礼金支払い",null,null,null,null,null,null,null,"人分",null,null,null,"円"]
[null,"(",null,null,")","○上記の「参加費収入」と「ｽﾀｯﾌ等謝礼金」の金額は、\n各回の出納帳に記載する金額と一致させてください。"]
[null,null,null,null,null,"自由記入欄（実施の効果や課題など）"]
[]
[]
[]
[]
[]
[null,null,null,null,null,"参加人数","幼児",null,null,null,null,null,null,"人","食事","子どもへの準備食数"]
[null,null,null,null,null,null,"小学生",null,null,null,null,null,null,"人",null,null,null,null,"食"]
[null,null,null,null,null,null,"中学生",null,null,null,null,null,null,"人",null,"＜献立＞"]
[null,null,null,null,null,null,"中学校卒業後の\n子ども（※）",null,null,null,null,null,null,"人"]
[null,null,null,null,null,null,"小計",null,null,null,{"$f":"K60+K61+K62+K63","v":0},null,null,"人"]
[null,null,null,null,null,null,"大人",null,null,null,null,null,null,"人"]
[null,null,null,null,null,"スタッフ数\n（ボランティアも含めて記入）",null,null,null,null,null,null,null,"人"]
[null,null,"日",null,null,"参加費収入",null,null,null,null,null,null,null,"人分",null,null,null,"円"]
[null,null,null,null,null,"スタッフ等謝礼金支払い",null,null,null,null,null,null,null,"人分",null,null,null,"円"]
[null,"(",null,null,")","○上記の「参加費収入」と「ｽﾀｯﾌ等謝礼金」の金額は、\n各回の出納帳に記載する金額と一致させてください。"]
[null,null,null,null,null,"自由記入欄（実施の効果や課題など）"]
[]
[]
[]
[]
[]
[null,"※中学校卒業後から１８歳に達する日以後の最初の３月３１日までにある子ども。高校生など。"]
[null,"（様式第1２号）",null,null,null,"事業実施月の翌月8日までにメール、FAXなどで提出してください。\nEmail：kodosei@city.hirakata.osaka.jp  FAX：072-843-2244"]
[]
[null,null,null,"令和",null,null,null,7,"年度　子どもの居場所づくり推進事業"]
[null,null,null,"月　例　報　告　書"]
[null,null,"（　",6,null,null,"月）- ①　",null,null,"食堂名",null,null,null,"(",{"$f":"'4月'!O81:S81","v":0},null,null,null,null,")"]
[null,null,null,null,null,"参加人数","幼児",null,null,null,null,null,null,"人","食事","子どもへの準備食数"]
[null,null,null,null,null,null,"小学生",null,null,null,null,null,null,"人",null,null,null,null,"食"]
[null,null,null,null,null,null,"中学生",null,null,null,null,null,null,"人",null,"＜献立＞"]
[null,null,null,null,null,null,"中学校卒業後の\n子ども（※）",null,null,null,null,null,null,"人"]
[null,null,null,null,null,null,"小計",null,null,null,{"$f":"K82+K83+K84+K85","v":0},null,null,"人"]
[null,null,null,null,null,null,"大人",null,null,null,null,null,null,"人"]
[null,null,null,null,null,"スタッフ数\n（ボランティアも含めて記入）",null,null,null,null,null,null,null,"人"]
[null,null,"日",null,null,"参加費収入",null,null,null,null,null,null,null,"人分",null,null,null,"円"]
[null,null,null,null,null,"スタッフ等謝礼金支払い",null,null,null,null,null,null,null,"人分",null,null,null,"円"]
[null,"(",null,null,")","○上記の「参加費収入」と「ｽﾀｯﾌ等謝礼金」の金額は、\n各回の出納帳に記載する金額と一致させてください。"]
[null,null,null,null,null,"自由記入欄（実施の効果や課題など）"]
[]
[]
[]
[]
[]
[null,null,null,null,null,"参加人数","幼児",null,null,null,null,null,null,"人","食事","子どもへの準備食数"]
[null,null,null,null,null,null,"小学生",null,null,null,null,null,null,"人",null,null,null,null,"食"]
[null,null,null,null,null,null,"中学生",null,null,null,null,null,null,"人",null,"＜献立＞"]
[null,null,null,null,null,null,"中学校卒業後の\n子ども（※）",null,null,null,null,null,null,"人"]
[null,null,null,null,null,null,"小計",null,null,null,{"$f":"K98+K99+K100+K101","v":0},null,null,"人"]
[null,null,null,null,null,null,"大人",null,null,null,null,null,null,"人"]
[null,null,null,null,null,"スタッフ数\n（ボランティアも含めて記入）",null,null,null,null,null,null,null,"人"]
[null,null,"日",null,null,"参加費収入",null,null,null,null,null,null,null,"人分",null,null,null,"円"]
[null,null,null,null,null,"スタッフ等謝礼金支払い",null,null,null,null,null,null,null,"人分",null,null,null,"円"]
[null,"(",null,null,")","○上記の「参加費収入」と「ｽﾀｯﾌ等謝礼金」の金額は、\n各回の出納帳に記載する金額と一致させてください。"]
[null,null,null,null,null,"自由記入欄（実施の効果や課題など）"]
[]
[]
[]
[]
[]
[null,"※中学校卒業後から１８歳に達する日以後の最初の３月３１日までにある子ども。高校生など。"]
[null,"（様式第1２号）",null,null,null,"事業実施月の翌月8日までにメール、FAXなどで提出してください。\nEmail：kodosei@city.hirakata.osaka.jp  FAX：072-843-2244"]
[]
[null,null,null,"令和",null,null,null,7,"年度　子どもの居場所づくり推進事業"]
[null,null,null,"月　例　報　告　書"]
[null,null,"（　",7,null,null,"月）- ①　",null,null,"食堂名",null,null,null,"(",{"$f":"'4月'!O119:S119","v":0},null,null,null,null,")"]
[null,null,null,null,null,"参加人数","幼児",null,null,null,null,null,null,"人","食事","子どもへの準備食数"]
[null,null,null,null,null,null,"小学生",null,null,null,null,null,null,"人",null,null,null,null,"食"]
[null,null,null,null,null,null,"中学生",null,null,null,null,null,null,"人",null,"＜献立＞"]
[null,null,null,null,null,null,"中学校卒業後の\n子ども（※）",null,null,null,null,null,null,"人"]
[null,null,null,null,null,null,"小計",null,null,null,{"$f":"K120+K121+K122+K123","v":0},null,null,"人"]
[null,null,null,null,null,null,"大人",null,null,null,null,null,null,"人"]
[null,null,null,null,null,"スタッフ数\n（ボランティアも含めて記入）",null,null,null,null,null,null,null,"人"]
[null,null,"日",null,null,"参加費収入",null,null,null,null,null,null,null,"人分",null,null,null,"円"]
[null,null,null,null,null,"スタッフ等謝礼金支払い",null,null,null,null,null,null,null,"人分",null,null,null,"円"]
[null,"(",null,null,")","○上記の「参加費収入」と「ｽﾀｯﾌ等謝礼金」の金額は、\n各回の出納帳に記載する金額と一致させてください。"]
[null,null,null,null,null,"自由記入欄（実施の効果や課題など）"]
[]
[]
[]
[]
[]
[null,null,null,null,null,"参加人数","幼児",null,null,null,null,null,null,"人","食事","子どもへの準備食数"]
[null,null,null,null,null,null,"小学生",null,null,null,null,null,null,"人",null,null,null,null,"食"]
[null,null,null,null,null,null,"中学生",null,null,null,null,null,null,"人",null,"＜献立＞"]
[null,null,null,null,null,null,"中学校卒業後の\n子ども（※）",null,null,null,null,null,null,"人"]
[null,null,null,null,null,null,"小計",null,null,null,{"$f":"K136+K137+K138+K139","v":0},null,null,"人"]
[null,null,null,null,null,null,"大人",null,null,null,null,null,null,"人"]
[null,null,null,null,null,"スタッフ数\n（ボランティアも含めて記入）",null,null,null,null,null,null,null,"人"]
[null,null,"日",null,null,"参加費収入",null,null,null,null,null,null,null,"人分",null,null,null,"円"]
[null,null,null,null,null,"スタッフ等謝礼金支払い",null,null,null,null,null,null,null,"人分",null,null,null,"円"]
[null,"(",null,null,")","○上記の「参加費収入」と「ｽﾀｯﾌ等謝礼金」の金額は、\n各回の出納帳に記載する金額と一致させてください。"]
[null,null,null,null,null,"自由記入欄（実施の効果や課題など）"]
[]
[]
[]
[]
[]
[null,"※中学校卒業後から１８歳に達する日以後の最初の３月３１日までにある子ども。高校生など。"]
[null,"（様式第1２号）",null,null,null,"事業実施月の翌月8日までにメール、FAXなどで提出してください。\nEmail：kodosei@city.hirakata.osaka.jp  FAX：072-843-2244"]
[]
[null,null,null,"令和",null,null,null,7,"年度　子どもの居場所づくり推進事業"]
[null,null,null,"月　例　報　告　書"]
[null,null,"（　",8,null,null,"月）- ①　",null,null,"食堂名",null,null,null,"(",{"$f":"'4月'!O157:S157","v":0},null,null,null,null,")"]
[null,null,null,null,null,"参加人数","幼児",null,null,null,null,null,null,"人","食事","子どもへの準備食数"]
[null,null,null,null,null,null,"小学生",null,null,null,null,null,null,"人",null,null,null,null,"食"]
[null,null,null,null,null,null,"中学生",null,null,null,null,null,null,"人",null,"＜献立＞"]
[null,null,null,null,null,null,"中学校卒業後の\n子ども（※）",null,null,null,null,null,null,"人"]
[null,null,null,null,null,null,"小計",null,null,null,{"$f":"K158+K159+K160+K161","v":0},null,null,"人"]
[null,null,null,null,null,null,"大人",null,null,null,null,null,null,"人"]
[null,null,null,null,null,"スタッフ数\n（ボランティアも含めて記入）",null,null,null,null,null,null,null,"人"]
[null,null,"日",null,null,"参加費収入",null,null,null,null,null,null,null,"人分",null,null,null,"円"]
[null,null,null,null,null,"スタッフ等謝礼金支払い",null,null,null,null,null,null,null,"人分",null,null,null,"円"]
[null,"(",null,null,")","○上記の「参加費収入」と「ｽﾀｯﾌ等謝礼金」の金額は、\n各回の出納帳に記載する金額と一致させてください。"]
[null,null,null,null,null,"自由記入欄（実施の効果や課題など）"]
[]
[]
[]
[]
[]
[null,null,null,null,null,"参加人数","幼児",null,null,null,null,null,null,"人","食事","子どもへの準備食数"]
[null,null,null,null,null,null,"小学生",null,null,null,null,null,null,"人",null,null,null,null,"食"]
[null,null,null,null,null,null,"中学生",null,null,null,null,null,null,"人",null,"＜献立＞"]
[null,null,null,null,null,null,"中学校卒業後の\n子ども（※）",null,null,null,null,null,null,"人"]
[null,null,null,null,null,null,"小計",null,null,null,{"$f":"K174+K175+K176+K177","v":0},null,null,"人"]
[null,null,null,null,null,null,"大人",null,null,null,null,null,null,"人"]
[null,null,null,null,null,"スタッフ数\n（ボランティアも含めて記入）",null,null,null,null,null,null,null,"人"]
[null,null,"日",null,null,"参加費収入",null,null,null,null,null,null,null,"人分",null,null,null,"円"]
[null,null,null,null,null,"スタッフ等謝礼金支払い",null,null,null,null,null,null,null,"人分",null,null,null,"円"]
[null,"(",null,null,")","○上記の「参加費収入」と「ｽﾀｯﾌ等謝礼金」の金額は、\n各回の出納帳に記載する金額と一致させてください。"]
[null,null,null,null,null,"自由記入欄（実施の効果や課題など）"]
[]
[]
[]
[]
[]
[null,"※中学校卒業後から１８歳に達する日以後の最初の３月３１日までにある子ども。高校生など。"]
[null,"（様式第1２号）",null,null,null,"事業実施月の翌月8日までにメール、FAXなどで提出してください。\nEmail：kodosei@city.hirakata.osaka.jp  FAX：072-843-2244"]
[]
[null,null,null,"令和",null,null,null,7,"年度　子どもの居場所づくり推進事業"]
[null,null,null,"月　例　報　告　書"]
[null,null,"（　",9,null,null,"月）- ①　",null,null,"食堂名",null,null,null,"(",{"$f":"'4月'!O195:S195","v":0},null,null,null,null,")"]
[null,null,null,null,null,"参加人数","幼児",null,null,null,null,null,null,"人","食事","子どもへの準備食数"]
[null,null,null,null,null,null,"小学生",null,null,null,null,null,null,"人",null,null,null,null,"食"]
[null,null,null,null,null,null,"中学生",null,null,null,null,null,null,"人",null,"＜献立＞"]
[null,null,null,null,null,null,"中学校卒業後の\n子ども（※）",null,null,null,null,null,null,"人"]
[null,null,null,null,null,null,"小計",null,null,null,{"$f":"K196+K197+K198+K199","v":0},null,null,"人"]
[null,null,null,null,null,null,"大人",null,null,null,null,null,null,"人"]
[null,null,null,null,null,"スタッフ数\n（ボランティアも含めて記入）",null,null,null,null,null,null,null,"人"]
[null,null,"日",null,null,"参加費収入",null,null,null,null,null,null,null,"人分",null,null,null,"円"]
[null,null,null,null,null,"スタッフ等謝礼金支払い",null,null,null,null,null,null,null,"人分",null,null,null,"円"]
[null,"(",null,null,")","○上記の「参加費収入」と「ｽﾀｯﾌ等謝礼金」の金額は、\n各回の出納帳に記載する金額と一致させてください。"]
[null,null,null,null,null,"自由記入欄（実施の効果や課題など）"]
[]
[]
[]
[]
[]
[null,null,null,null,null,"参加人数","幼児",null,null,null,null,null,null,"人","食事","子どもへの準備食数"]
[null,null,null,null,null,null,"小学生",null,null,null,null,null,null,"人",null,null,null,null,"食"]
[null,null,null,null,null,null,"中学生",null,null,null,null,null,null,"人",null,"＜献立＞"]
[null,null,null,null,null,null,"中学校卒業後の\n子ども（※）",null,null,null,null,null,null,"人"]
[null,null,null,null,null,null,"小計",null,null,null,{"$f":"K212+K213+K214+K215","v":0},null,null,"人"]
[null,null,null,null,null,null,"大人",null,null,null,null,null,null,"人"]
[null,null,null,null,null,"スタッフ数\n（ボランティアも含めて記入）",null,null,null,null,null,null,null,"人"]
[null,null,"日",null,null,"参加費収入",null,null,null,null,null,null,null,"人分",null,null,null,"円"]
[null,null,null,null,null,"スタッフ等謝礼金支払い",null,null,null,null,null,null,null,"人分",null,null,null,"円"]
[null,"(",null,null,")","○上記の「参加費収入」と「ｽﾀｯﾌ等謝礼金」の金額は、\n各回の出納帳に記載する金額と一致させてください。"]
[null,null,null,null,null,"自由記入欄（実施の効果や課題など）"]
[]
[]
[]
[]
[]
[null,"※中学校卒業後から１８歳に達する日以後の最初の３月３１日までにある子ども。高校生など。"]
[null,"（様式第1２号）",null,null,null,"事業実施月の翌月8日までにメール、FAXなどで提出してください。\nEmail：kodosei@city.hirakata.osaka.jp  FAX：072-843-2244"]
[]
[null,null,null,"令和",null,null,null,7,"年度　子どもの居場所づくり推進事業"]
[null,null,null,"月　例　報　告　書"]
[null,null,"（　",10,null,null,"月）- ①　",null,null,"食堂名",null,null,null,"(",{"$f":"'4月'!O233:S233","v":0},null,null,null,null,")"]
[null,null,null,null,null,"参加人数","幼児",null,null,null,null,null,null,"人","食事","子どもへの準備食数"]
[null,null,null,null,null,null,"小学生",null,null,null,null,null,null,"人",null,null,null,null,"食"]
[null,null,null,null,null,null,"中学生",null,null,null,null,null,null,"人",null,"＜献立＞"]
[null,null,null,null,null,null,"中学校卒業後の\n子ども（※）",null,null,null,null,null,null,"人"]
[null,null,null,null,null,null,"小計",null,null,null,{"$f":"K234+K235+K236+K237","v":0},null,null,"人"]
[null,null,null,null,null,null,"大人",null,null,null,null,null,null,"人"]
[null,null,null,null,null,"スタッフ数\n（ボランティアも含めて記入）",null,null,null,null,null,null,null,"人"]
[null,null,"日",null,null,"参加費収入",null,null,null,null,null,null,null,"人分",null,null,null,"円"]
[null,null,null,null,null,"スタッフ等謝礼金支払い",null,null,null,null,null,null,null,"人分",null,null,null,"円"]
[null,"(",null,null,")","○上記の「参加費収入」と「ｽﾀｯﾌ等謝礼金」の金額は、\n各回の出納帳に記載する金額と一致させてください。"]
[null,null,null,null,null,"自由記入欄（実施の効果や課題など）"]
[]
[]
[]
[]
[]
[null,null,null,null,null,"参加人数","幼児",null,null,null,null,null,null,"人","食事","子どもへの準備食数"]
[null,null,null,null,null,null,"小学生",null,null,null,null,null,null,"人",null,null,null,null,"食"]
[null,null,null,null,null,null,"中学生",null,null,null,null,null,null,"人",null,"＜献立＞"]
[null,null,null,null,null,null,"中学校卒業後の\n子ども（※）",null,null,null,null,null,null,"人"]
[null,null,null,null,null,null,"小計",null,null,null,{"$f":"K250+K251+K252+K253","v":0},null,null,"人"]
[null,null,null,null,null,null,"大人",null,null,null,null,null,null,"人"]
[null,null,null,null,null,"スタッフ数\n（ボランティアも含めて記入）",null,null,null,null,null,null,null,"人"]
[null,null,"日",null,null,"参加費収入",null,null,null,null,null,null,null,"人分",null,null,null,"円"]
[null,null,null,null,null,"スタッフ等謝礼金支払い",null,null,null,null,null,null,null,"人分",null,null,null,"円"]
[null,"(",null,null,")","○上記の「参加費収入」と「ｽﾀｯﾌ等謝礼金」の金額は、\n各回の出納帳に記載する金額と一致させてください。"]
[null,null,null,null,null,"自由記入欄（実施の効果や課題など）"]
[]
[]
[]
[]
[]
[null,"※中学校卒業後から１８歳に達する日以後の最初の３月３１日までにある子ども。高校生など。"]
[null,"（様式第1２号）",null,null,null,"事業実施月の翌月8日までにメール、FAXなどで提出してください。\nEmail：kodosei@city.hirakata.osaka.jp  FAX：072-843-2244"]
[]
[null,null,null,"令和",null,null,null,7,"年度　子どもの居場所づくり推進事業"]
[null,null,null,"月　例　報　告　書"]
[null,null,"（　",11,null,null,"月）- ①　",null,null,"食堂名",null,null,null,"(",{"$f":"'4月'!O271:S271","v":0},null,null,null,null,")"]
[null,null,null,null,null,"参加人数","幼児",null,null,null,null,null,null,"人","食事","子どもへの準備食数"]
[null,null,null,null,null,null,"小学生",null,null,null,null,null,null,"人",null,null,null,null,"食"]
[null,null,null,null,null,null,"中学生",null,null,null,null,null,null,"人",null,"＜献立＞"]
[null,null,null,null,null,null,"中学校卒業後の\n子ども（※）",null,null,null,null,null,null,"人"]
[null,null,null,null,null,null,"小計",null,null,null,{"$f":"K272+K273+K274+K275","v":0},null,null,"人"]
[null,null,null,null,null,null,"大人",null,null,null,null,null,null,"人"]
[null,null,null,null,null,"スタッフ数\n（ボランティアも含めて記入）",null,null,null,null,null,null,null,"人"]
[null,null,"日",null,null,"参加費収入",null,null,null,null,null,null,null,"人分",null,null,null,"円"]
[null,null,null,null,null,"スタッフ等謝礼金支払い",null,null,null,null,null,null,null,"人分",null,null,null,"円"]
[null,"(",null,null,")","○上記の「参加費収入」と「ｽﾀｯﾌ等謝礼金」の金額は、\n各回の出納帳に記載する金額と一致させてください。"]
[null,null,null,null,null,"自由記入欄（実施の効果や課題など）"]
[]
[]
[]
[]
[]
[null,null,null,null,null,"参加人数","幼児",null,null,null,null,null,null,"人","食事","子どもへの準備食数"]
[null,null,null,null,null,null,"小学生",null,null,null,null,null,null,"人",null,null,null,null,"食"]
[null,null,null,null,null,null,"中学生",null,null,null,null,null,null,"人",null,"＜献立＞"]
[null,null,null,null,null,null,"中学校卒業後の\n子ども（※）",null,null,null,null,null,null,"人"]
[null,null,null,null,null,null,"小計",null,null,null,{"$f":"K288+K289+K290+K291","v":0},null,null,"人"]
[null,null,null,null,null,null,"大人",null,null,null,null,null,null,"人"]
[null,null,null,null,null,"スタッフ数\n（ボランティアも含めて記入）",null,null,null,null,null,null,null,"人"]
[null,null,"日",null,null,"参加費収入",null,null,null,null,null,null,null,"人分",null,null,null,"円"]
[null,null,null,null,null,"スタッフ等謝礼金支払い",null,null,null,null,null,null,null,"人分",null,null,null,"円"]
[null,"(",null,null,")","○上記の「参加費収入」と「ｽﾀｯﾌ等謝礼金」の金額は、\n各回の出納帳に記載する金額と一致させてください。"]
[null,null,null,null,null,"自由記入欄（実施の効果や課題など）"]
[]
[]
[]
[]
[]
[null,"※中学校卒業後から１８歳に達する日以後の最初の３月３１日までにある子ども。高校生など。"]
[null,"（様式第1２号）",null,null,null,"事業実施月の翌月8日までにメール、FAXなどで提出してください。\nEmail：kodosei@city.hirakata.osaka.jp  FAX：072-843-2244"]
[]
[null,null,null,"令和",null,null,null,7,"年度　子どもの居場所づくり推進事業"]
[null,null,null,"月　例　報　告　書"]
[null,null,"（　",12,null,null,"月）- ①　",null,null,"食堂名",null,null,null,"(",{"$f":"'4月'!O309:S309","v":0},null,null,null,null,")"]
[null,null,null,null,null,"参加人数","幼児",null,null,null,null,null,null,"人","食事","子どもへの準備食数"]
[null,null,null,null,null,null,"小学生",null,null,null,null,null,null,"人",null,null,null,null,"食"]
[null,null,null,null,null,null,"中学生",null,null,null,null,null,null,"人",null,"＜献立＞"]
[null,null,null,null,null,null,"中学校卒業後の\n子ども（※）",null,null,null,null,null,null,"人"]
[null,null,null,null,null,null,"小計",null,null,null,{"$f":"K310+K311+K312+K313","v":0},null,null,"人"]
[null,null,null,null,null,null,"大人",null,null,null,null,null,null,"人"]
[null,null,null,null,null,"スタッフ数\n（ボランティアも含めて記入）",null,null,null,null,null,null,null,"人"]
[null,null,"日",null,null,"参加費収入",null,null,null,null,null,null,null,"人分",null,null,null,"円"]
[null,null,null,null,null,"スタッフ等謝礼金支払い",null,null,null,null,null,null,null,"人分",null,null,null,"円"]
[null,"(",null,null,")","○上記の「参加費収入」と「ｽﾀｯﾌ等謝礼金」の金額は、\n各回の出納帳に記載する金額と一致させてください。"]
[null,null,null,null,null,"自由記入欄（実施の効果や課題など）"]
[]
[]
[]
[]
[]
[null,null,null,null,null,"参加人数","幼児",null,null,null,null,null,null,"人","食事","子どもへの準備食数"]
[null,null,null,null,null,null,"小学生",null,null,null,null,null,null,"人",null,null,null,null,"食"]
[null,null,null,null,null,null,"中学生",null,null,null,null,null,null,"人",null,"＜献立＞"]
[null,null,null,null,null,null,"中学校卒業後の\n子ども（※）",null,null,null,null,null,null,"人"]
[null,null,null,null,null,null,"小計",null,null,null,{"$f":"K326+K327+K328+K329","v":0},null,null,"人"]
[null,null,null,null,null,null,"大人",null,null,null,null,null,null,"人"]
[null,null,null,null,null,"スタッフ数\n（ボランティアも含めて記入）",null,null,null,null,null,null,null,"人"]
[null,null,"日",null,null,"参加費収入",null,null,null,null,null,null,null,"人分",null,null,null,"円"]
[null,null,null,null,null,"スタッフ等謝礼金支払い",null,null,null,null,null,null,null,"人分",null,null,null,"円"]
[null,"(",null,null,")","○上記の「参加費収入」と「ｽﾀｯﾌ等謝礼金」の金額は、\n各回の出納帳に記載する金額と一致させてください。"]
[null,null,null,null,null,"自由記入欄（実施の効果や課題など）"]
[]
[]
[]
[]
[]
[null,"※中学校卒業後から１８歳に達する日以後の最初の３月３１日までにある子ども。高校生など。"]
[null,"（様式第1２号）",null,null,null,"事業実施月の翌月8日までにメール、FAXなどで提出してください。\nEmail：kodosei@city.hirakata.osaka.jp  FAX：072-843-2244"]
[]
[null,null,null,"令和",null,null,null,7,"年度　子どもの居場所づくり推進事業"]
[null,null,null,"月　例　報　告　書"]
[null,null,"（　",1,null,null,"月）- ①　",null,null,"食堂名",null,null,null,"(",{"$f":"'4月'!O347:S347","v":0},null,null,null,null,")"]
[null,null,null,null,null,"参加人数","幼児",null,null,null,null,null,null,"人","食事","子どもへの準備食数"]
[null,null,null,null,null,null,"小学生",null,null,null,null,null,null,"人",null,null,null,null,"食"]
[null,null,null,null,null,null,"中学生",null,null,null,null,null,null,"人",null,"＜献立＞"]
[null,null,null,null,null,null,"中学校卒業後の\n子ども（※）",null,null,null,null,null,null,"人"]
[null,null,null,null,null,null,"小計",null,null,null,{"$f":"K348+K349+K350+K351","v":0},null,null,"人"]
[null,null,null,null,null,null,"大人",null,null,null,null,null,null,"人"]
[null,null,null,null,null,"スタッフ数\n（ボランティアも含めて記入）",null,null,null,null,null,null,null,"人"]
[null,null,"日",null,null,"参加費収入",null,null,null,null,null,null,null,"人分",null,null,null,"円"]
[null,null,null,null,null,"スタッフ等謝礼金支払い",null,null,null,null,null,null,null,"人分",null,null,null,"円"]
[null,"(",null,null,")","○上記の「参加費収入」と「ｽﾀｯﾌ等謝礼金」の金額は、\n各回の出納帳に記載する金額と一致させてください。"]
[null,null,null,null,null,"自由記入欄（実施の効果や課題など）"]
[]
[]
[]
[]
[]
[null,null,null,null,null,"参加人数","幼児",null,null,null,null,null,null,"人","食事","子どもへの準備食数"]
[null,null,null,null,null,null,"小学生",null,null,null,null,null,null,"人",null,null,null,null,"食"]
[null,null,null,null,null,null,"中学生",null,null,null,null,null,null,"人",null,"＜献立＞"]
[null,null,null,null,null,null,"中学校卒業後の\n子ども（※）",null,null,null,null,null,null,"人"]
[null,null,null,null,null,null,"小計",null,null,null,{"$f":"K364+K365+K366+K367","v":0},null,null,"人"]
[null,null,null,null,null,null,"大人",null,null,null,null,null,null,"人"]
[null,null,null,null,null,"スタッフ数\n（ボランティアも含めて記入）",null,null,null,null,null,null,null,"人"]
[null,null,"日",null,null,"参加費収入",null,null,null,null,null,null,null,"人分",null,null,null,"円"]
[null,null,null,null,null,"スタッフ等謝礼金支払い",null,null,null,null,null,null,null,"人分",null,null,null,"円"]
[null,"(",null,null,")","○上記の「参加費収入」と「ｽﾀｯﾌ等謝礼金」の金額は、\n各回の出納帳に記載する金額と一致させてください。"]
[null,null,null,null,null,"自由記入欄（実施の効果や課題など）"]
[]
[]
[]
[]
[]
[null,"※中学校卒業後から１８歳に達する日以後の最初の３月３１日までにある子ども。高校生など。"]
[null,"（様式第1２号）",null,null,null,"事業実施月の翌月8日までにメール、FAXなどで提出してください。\nEmail：kodosei@city.hirakata.osaka.jp  FAX：072-843-2244"]
[]
[null,null,null,"令和",null,null,null,7,"年度　子どもの居場所づくり推進事業"]
[null,null,null,"月　例　報　告　書"]
[null,null,"（　",2,null,null,"月）- ①　",null,null,"食堂名",null,null,null,"(",{"$f":"'4月'!O385:S385","v":0},null,null,null,null,")"]
[null,null,null,null,null,"参加人数","幼児",null,null,null,null,null,null,"人","食事","子どもへの準備食数"]
[null,null,null,null,null,null,"小学生",null,null,null,null,null,null,"人",null,null,null,null,"食"]
[null,null,null,null,null,null,"中学生",null,null,null,null,null,null,"人",null,"＜献立＞"]
[null,null,null,null,null,null,"中学校卒業後の\n子ども（※）",null,null,null,null,null,null,"人"]
[null,null,null,null,null,null,"小計",null,null,null,{"$f":"K386+K387+K388+K389","v":0},null,null,"人"]
[null,null,null,null,null,null,"大人",null,null,null,null,null,null,"人"]
[null,null,null,null,null,"スタッフ数\n（ボランティアも含めて記入）",null,null,null,null,null,null,null,"人"]
[null,null,"日",null,null,"参加費収入",null,null,null,null,null,null,null,"人分",null,null,null,"円"]
[null,null,null,null,null,"スタッフ等謝礼金支払い",null,null,null,null,null,null,null,"人分",null,null,null,"円"]
[null,"(",null,null,")","○上記の「参加費収入」と「ｽﾀｯﾌ等謝礼金」の金額は、\n各回の出納帳に記載する金額と一致させてください。"]
[null,null,null,null,null,"自由記入欄（実施の効果や課題など）"]
[]
[]
[]
[]
[]
[null,null,null,null,null,"参加人数","幼児",null,null,null,null,null,null,"人","食事","子どもへの準備食数"]
[null,null,null,null,null,null,"小学生",null,null,null,null,null,null,"人",null,null,null,null,"食"]
[null,null,null,null,null,null,"中学生",null,null,null,null,null,null,"人",null,"＜献立＞"]
[null,null,null,null,null,null,"中学校卒業後の\n子ども（※）",null,null,null,null,null,null,"人"]
[null,null,null,null,null,null,"小計",null,null,null,{"$f":"K402+K403+K404+K405","v":0},null,null,"人"]
[null,null,null,null,null,null,"大人",null,null,null,null,null,null,"人"]
[null,null,null,null,null,"スタッフ数\n（ボランティアも含めて記入）",null,null,null,null,null,null,null,"人"]
[null,null,"日",null,null,"参加費収入",null,null,null,null,null,null,null,"人分",null,null,null,"円"]
[null,null,null,null,null,"スタッフ等謝礼金支払い",null,null,null,null,null,null,null,"人分",null,null,null,"円"]
[null,"(",null,null,")","○上記の「参加費収入」と「ｽﾀｯﾌ等謝礼金」の金額は、\n各回の出納帳に記載する金額と一致させてください。"]
[null,null,null,null,null,"自由記入欄（実施の効果や課題など）"]
[]
[]
[]
[]
[]
[null,"※中学校卒業後から１８歳に達する日以後の最初の３月３１日までにある子ども。高校生など。"]
[null,"（様式第1２号）",null,null,null,"事業実施月の翌月8日までにメール、FAXなどで提出してください。\nEmail：kodosei@city.hirakata.osaka.jp  FAX：072-843-2244"]
[]
[null,null,null,"令和",null,null,null,7,"年度　子どもの居場所づくり推進事業"]
[null,null,null,"月　例　報　告　書"]
[null,null,"（　",3,null,null,"月）- ①　",null,null,"食堂名",null,null,null,"(",{"$f":"'4月'!O423:S423","v":0},null,null,null,null,")"]
[null,null,null,null,null,"参加人数","幼児",null,null,null,null,null,null,"人","食事","子どもへの準備食数"]
[null,null,null,null,null,null,"小学生",null,null,null,null,null,null,"人",null,null,null,null,"食"]
[null,null,null,null,null,null,"中学生",null,null,null,null,null,null,"人",null,"＜献立＞"]
[null,null,null,null,null,null,"中学校卒業後の\n子ども（※）",null,null,null,null,null,null,"人"]
[null,null,null,null,null,null,"小計",null,null,null,{"$f":"K424+K425+K426+K427","v":0},null,null,"人"]
[null,null,null,null,null,null,"大人",null,null,null,null,null,null,"人"]
[null,null,null,null,null,"スタッフ数\n（ボランティアも含めて記入）",null,null,null,null,null,null,null,"人"]
[null,null,"日",null,null,"参加費収入",null,null,null,null,null,null,null,"人分",null,null,null,"円"]
[null,null,null,null,null,"スタッフ等謝礼金支払い",null,null,null,null,null,null,null,"人分",null,null,null,"円"]
[null,"(",null,null,")","○上記の「参加費収入」と「ｽﾀｯﾌ等謝礼金」の金額は、\n各回の出納帳に記載する金額と一致させてください。"]
[null,null,null,null,null,"自由記入欄（実施の効果や課題など）"]
[]
[]
[]
[]
[]
[null,null,null,null,null,"参加人数","幼児",null,null,null,null,null,null,"人","食事","子どもへの準備食数"]
[null,null,null,null,null,null,"小学生",null,null,null,null,null,null,"人",null,null,null,null,"食"]
[null,null,null,null,null,null,"中学生",null,null,null,null,null,null,"人",null,"＜献立＞"]
[null,null,null,null,null,null,"中学校卒業後の\n子ども（※）",null,null,null,null,null,null,"人"]
[null,null,null,null,null,null,"小計",null,null,null,{"$f":"K440+K441+K442+K443","v":0},null,null,"人"]
[null,null,null,null,null,null,"大人",null,null,null,null,null,null,"人"]
[null,null,null,null,null,"スタッフ数\n（ボランティアも含めて記入）",null,null,null,null,null,null,null,"人"]
[null,null,"日",null,null,"参加費収入",null,null,null,null,null,null,null,"人分",null,null,null,"円"]
[null,null,null,null,null,"スタッフ等謝礼金支払い",null,null,null,null,null,null,null,"人分",null,null,null,"円"]
[null,"(",null,null,")","○上記の「参加費収入」と「ｽﾀｯﾌ等謝礼金」の金額は、\n各回の出納帳に記載する金額と一致させてください。"]
[null,null,null,null,null,"自由記入欄（実施の効果や課題など）"]
[]
[]
[]
[]
[]
[null,"※中学校卒業後から１８歳に達する日以後の最初の３月３１日までにある子ども。高校生など。"]

{"sheet":"通年PDF作成用3回以上","index":16,"n_rows":1063,"n_cols":20,"rows_kept":1063,"cut":false,"hidden":true,"merged":[[0,1,0,4],[0,5,1,19],[2,3,2,6],[2,8,2,19],[3,3,3,19],[4,3,4,5],[4,6,4,8],[4,9,4,12],[4,14,4,18],[7,10,7,12],[7,15,7,19],[8,6,8,9],[8,10,8,12],[8,15,11,19],[9,6,9,9],[9,10,9,12],[5,5,10,5],[5,6,5,9],[5,10,5,12],[5,14,11,14],[5,15,5,19],[6,6,6,9],[6,10,6,12],[6,15,6,17],[6,18,6,19],[7,6,7,9],[14,1,15,1],[14,2,15,3],[14,4,15,4],[14,5,14,19],[15,5,15,19],[16,5,20,19],[12,14,12,16],[12,18,12,19],[13,5,13,9],[13,10,13,12],[13,14,13,16],[13,18,13,19],[10,2,11,3],[10,6,10,9],[10,10,10,12],[11,1,13,1],[11,5,11,9],[11,10,11,12],[12,2,13,3],[12,5,12,9],[12,10,12,12],[23,10,23,12],[23,15,23,19],[24,6,24,9],[24,10,24,12],[24,15,27,19],[25,6,25,9],[25,10,25,12],[21,5,26,5],[21,6,21,9],[21,10,21,12],[21,14,27,14],[21,15,21,19],[22,6,22,9],[22,10,22,12],[22,15,22,17],[22,18,22,19],[23,6,23,9],[30,1,31,1],[30,2,31,3],[30,4,31,4],[30,5,30,19],[31,5,31,19],[32,5,36,19],[28,14,28,16],[28,18,28,19],[29,5,29,9],[29,10,29,12],[29,14,29,16],[29,18,29,19],[26,2,27,3],[26,6,26,9],[26,10,26,12],[27,1,29,1],[27,5,27,9],[27,10,27,12],[28,2,29,3],[28,5,28,9],[28,10,28,12],[42,6,42,9],[42,10,42,12],[42,15,45,19],[43,6,43,9],[43,10,43,12],[44,2,45,3],[44,6,44,9],[44,10,44,12],[40,6,40,9],[40,10,40,12],[40,15,40,17],[40,18,40,19],[41,6,41,9],[41,10,41,12],[41,15,41,19],[37,1,37,19],[38,3,38,5],[38,6,38,8],[38,9,38,12],[38,14,38,18],[39,5,44,5],[39,6,39,9],[39,10,39,12],[39,14,45,14],[39,15,39,19],[48,1,49,1],[48,2,49,3],[48,4,49,4],[48,5,48,19],[49,5,49,19],[50,5,54,19],[46,14,46,16],[46,18,46,19],[47,5,47,9],[47,10,47,12],[47,14,47,16],[47,18,47,19],[45,1,47,1],[45,5,45,9],[45,10,45,12],[46,2,47,3],[46,5,46,9],[46,10,46,12],[57,10,57,12],[57,15,57,19],[58,6,58,9],[58,10,58,12],[58,15,61,19],[59,6,59,9],[59,10,59,12],[55,5,60,5],[55,6,55,9],[55,10,55,12],[55,14,61,14],[55,15,55,19],[56,6,56,9],[56,10,56,12],[56,15,56,17],[56,18,56,19],[57,6,57,9],[64,1,65,1],[64,2,65,3],[64,4,65,4],[64,5,64,19],[65,5,65,19],[66,5,70,19],[62,14,62,16],[62,18,62,19],[63,5,63,9],[63,10,63,12],[63,14,63,16],[63,18,63,19],[60,2,61,3],[60,6,60,9],[60,10,60,12],[61,1,63,1],[61,5,61,9],[61,10,61,12],[62,2,63,3],[62,5,62,9],[62,10,62,12],[76,6,76,9],[76,10,76,12],[76,15,79,19],[77,6,77,9],[77,10,77,12],[78,2,79,3],[78,6,78,9],[78,10,78,12],[74,6,74,9],[74,10,74,12],[74,15,74,17],[74,18,74,19],[75,6,75,9],[75,10,75,12],[75,15,75,19],[71,1,71,19],[72,3,72,5],[72,6,72,8],[72,9,72,12],[72,14,72,18],[73,5,78,5],[73,6,73,9],[73,10,73,12],[73,14,79,14],[73,15,73,19],[89,1,89,4],[89,5,90,19],[91,3,91,6],[91,8,91,19],[92,3,92,19],[93,3,93,5],[93,6,93,8],[93,9,93,12],[93,14,93,18],[82,1,83,1],[82,2,83,3],[82,4,83,4],[82,5,82,19],[83,5,83,19],[84,5,88,19],[80,14,80,16],[80,18,80,19],[81,5,81,9],[81,10,81,12],[81,14,81,16],[81,18,81,19],[79,1,81,1],[79,5,79,9],[79,10,79,12],[80,2,81,3],[80,5,80,9],[80,10,80,12],[96,10,96,12],[96,15,96,19],[97,6,97,9],[97,10,97,12],[97,15,100,19],[98,6,98,9],[98,10,98,12],[94,5,99,5],[94,6,94,9],[94,10,94,12],[94,14,100,14],[94,15,94,19],[95,6,95,9],[95,10,95,12],[95,15,95,17],[95,18,95,19],[96,6,96,9],[103,1,104,1],[103,2,104,3],[103,4,104,4],[103,5,103,19],[104,5,104,19],[105,5,109,19],[101,14,101,16],[101,18,101,19],[102,5,102,9],[102,10,102,12],[102,14,102,16],[102,18,102,19],[99,2,100,3],[99,6,99,9],[99,10,99,12],[100,1,102,1],[100,5,100,9],[100,10,100,12],[101,2,102,3],[101,5,101,9],[101,10,101,12],[112,10,112,12],[112,15,112,19],[113,6,113,9],[113,10,113,12],[113,15,116,19],[114,6,114,9],[114,10,114,12],[110,5,115,5],[110,6,110,9],[110,10,110,12],[110,14,116,14],[110,15,110,19],[111,6,111,9],[111,10,111,12],[111,15,111,17],[111,18,111,19],[112,6,112,9],[119,1,120,1],[119,2,120,3],[119,4,120,4],[119,5,119,19],[120,5,120,19],[121,5,125,19],[117,14,117,16],[117,18,117,19],[118,5,118,9],[118,10,118,12],[118,14,118,16],[118,18,118,19],[115,2,116,3],[115,6,115,9],[115,10,115,12],[116,1,118,1],[116,5,116,9],[116,10,116,12],[117,2,118,3],[117,5,117,9],[117,10,117,12],[131,6,131,9],[131,10,131,12],[131,15,134,19],[132,6,132,9],[132,10,132,12],[133,2,134,3],[133,6,133,9],[133,10,133,12],[129,6,129,9],[129,10,129,12],[129,15,129,17],[129,18,129,19],[130,6,130,9],[130,10,130,12],[130,15,130,19],[126,1,126,19],[127,3,127,5],[127,6,127,8],[127,9,127,12],[127,14,127,18],[128,5,133,5],[128,6,128,9],[128,10,128,12],[128,14,134,14],[128,15,128,19],[137,1,138,1],[137,2,138,3],[137,4,138,4],[137,5,137,19],[138,5,138,19],[139,5,143,19],[135,14,135,16],[135,18,135,19],[136,5,136,9],[136,10,136,12],[136,14,136,16],[136,18,136,19],[134,1,136,1],[134,5,134,9],[134,10,134,12],[135,2,136,3],[135,5,135,9],[135,10,135,12],[146,10,146,12],[146,15,146,19],[147,6,147,9],[147,10,147,12],[147,15,150,19],[148,6,148,9],[148,10,148,12],[144,5,149,5],[144,6,144,9],[144,10,144,12],[144,14,150,14],[144,15,144,19],[145,6,145,9],[145,10,145,12],[145,15,145,17],[145,18,145,19],[146,6,146,9],[153,1,154,1],[153,2,154,3],[153,4,154,4],[153,5,153,19],[154,5,154,19],[155,5,159,19],[151,14,151,16],[151,18,151,19],[152,5,152,9],[152,10,152,12],[152,14,152,16],[152,18,152,19],[149,2,150,3],[149,6,149,9],[149,10,149,12],[150,1,152,1],[150,5,150,9],[150,10,150,12],[151,2,152,3],[151,5,151,9],[151,10,151,12],[165,6,165,9],[165,10,165,12],[165,15,168,19],[166,6,166,9],[166,10,166,12],[167,2,168,3],[167,6,167,9],[167,10,167,12],[163,6,163,9],[163,10,163,12],[163,15,163,17],[163,18,163,19],[164,6,164,9],[164,10,164,12],[164,15,164,19],[160,1,160,19],[161,3,161,5],[161,6,161,8],[161,9,161,12],[161,14,161,18],[162,5,167,5],[162,6,162,9],[162,10,162,12],[162,14,168,14],[162,15,162,19],[178,1,178,4],[178,5,179,19],[180,3,180,6],[180,8,180,19],[181,3,181,19],[182,3,182,5],[182,6,182,8],[182,9,182,12],[182,14,182,18],[171,1,172,1],[171,2,172,3],[171,4,172,4],[171,5,171,19],[172,5,172,19],[173,5,177,19],[169,14,169,16],[169,18,169,19],[170,5,170,9],[170,10,170,12],[170,14,170,16],[170,18,170,19],[168,1,170,1],[168,5,168,9],[168,10,168,12],[169,2,170,3],[169,5,169,9],[169,10,169,12],[185,10,185,12],[185,15,185,19],[186,6,186,9],[186,10,186,12],[186,15,189,19],[187,6,187,9],[187,10,187,12],[183,5,188,5],[183,6,183,9],[183,10,183,12],[183,14,189,14],[183,15,183,19],[184,6,184,9],[184,10,184,12],[184,15,184,17],[184,18,184,19],[185,6,185,9],[192,1,193,1],[192,2,193,3],[192,4,193,4],[192,5,192,19],[193,5,193,19],[194,5,198,19],[190,14,190,16],[190,18,190,19],[191,5,191,9],[191,10,191,12],[191,14,191,16],[191,18,191,19],[188,2,189,3],[188,6,188,9],[188,10,188,12],[189,1,191,1],[189,5,189,9],[189,10,189,12],[190,2,191,3],[190,5,190,9],[190,10,190,12],[201,10,201,12],[201,15,201,19],[202,6,202,9],[202,10,202,12],[202,15,205,19],[203,6,203,9],[203,10,203,12],[199,5,204,5],[199,6,199,9],[199,10,199,12],[199,14,205,14],[199,15,199,19],[200,6,200,9],[200,10,200,12],[200,15,200,17],[200,18,200,19],[201,6,201,9],[208,1,209,1],[208,2,209,3],[208,4,209,4],[208,5,208,19],[209,5,209,19],[210,5,214,19],[206,14,206,16],[206,18,206,19],[207,5,207,9],[207,10,207,12],[207,14,207,16],[207,18,207,19],[204,2,205,3],[204,6,204,9],[204,10,204,12],[205,1,207,1],[205,5,205,9],[205,10,205,12],[206,2,207,3],[206,5,206,9],[206,10,206,12],[220,6,220,9],[220,10,220,12],[220,15,223,19],[221,6,221,9],[221,10,221,12],[222,2,223,3],[222,6,222,9],[222,10,222,12],[218,6,218,9],[218,10,218,12],[218,15,218,17],[218,18,218,19],[219,6,219,9],[219,10,219,12],[219,15,219,19],[215,1,215,19],[216,3,216,5],[216,6,216,8],[216,9,216,12],[216,14,216,18],[217,5,222,5],[217,6,217,9],[217,10,217,12],[217,14,223,14],[217,15,217,19],[226,1,227,1],[226,2,227,3],[226,4,227,4],[226,5,226,19],[227,5,227,19],[228,5,232,19],[224,14,224,16],[224,18,224,19],[225,5,225,9],[225,10,225,12],[225,14,225,16],[225,18,225,19],[223,1,225,1],[223,5,223,9],[223,10,223,12],[224,2,225,3],[224,5,224,9],[224,10,224,12],[235,10,235,12],[235,15,235,19],[236,6,236,9],[236,10,236,12],[236,15,239,19],[237,6,237,9],[237,10,237,12],[233,5,238,5],[233,6,233,9],[233,10,233,12],[233,14,239,14],[233,15,233,19],[234,6,234,9],[234,10,234,12],[234,15,234,17],[234,18,234,19],[235,6,235,9],[242,1,243,1],[242,2,243,3],[242,4,243,4],[242,5,242,19],[243,5,243,19],[244,5,248,19],[240,14,240,16],[240,18,240,19],[241,5,241,9],[241,10,241,12],[241,14,241,16],[241,18,241,19],[238,2,239,3],[238,6,238,9],[238,10,238,12],[239,1,241,1],[239,5,239,9],[239,10,239,12],[240,2,241,3],[240,5,240,9],[240,10,240,12],[254,6,254,9],[254,10,254,12],[254,15,257,19],[255,6,255,9],[255,10,255,12],[256,2,257,3],[256,6,256,9],[256,10,256,12],[252,6,252,9],[252,10,252,12],[252,15,252,17],[252,18,252,19],[253,6,253,9],[253,10,253,12],[253,15,253,19],[249,1,249,19],[250,3,250,5],[250,6,250,8],[250,9,250,12],[250,14,250,18],[251,5,256,5],[251,6,251,9],[251,10,251,12],[251,14,257,14],[251,15,251,19],[267,1,267,4],[267,5,268,19],[269,3,269,6],[269,8,269,19],[270,3,270,19],[271,3,271,5],[271,6,271,8],[271,9,271,12],[271,14,271,18],[260,1,261,1],[260,2,261,3],[260,4,261,4],[260,5,260,19],[261,5,261,19],[262,5,266,19],[258,14,258,16],[258,18,258,19],[259,5,259,9],[259,10,259,12],[259,14,259,16],[259,18,259,19],[257,1,259,1],[257,5,257,9],[257,10,257,12],[258,2,259,3],[258,5,258,9],[258,10,258,12],[274,10,274,12],[274,15,274,19],[275,6,275,9],[275,10,275,12],[275,15,278,19],[276,6,276,9],[276,10,276,12],[272,5,277,5],[272,6,272,9],[272,10,272,12],[272,14,278,14],[272,15,272,19],[273,6,273,9],[273,10,273,12],[273,15,273,17],[273,18,273,19],[274,6,274,9],[281,1,282,1],[281,2,282,3],[281,4,282,4],[281,5,281,19],[282,5,282,19],[283,5,287,19],[279,14,279,16],[279,18,279,19],[280,5,280,9],[280,10,280,12],[280,14,280,16],[280,18,280,19],[277,2,278,3],[277,6,277,9],[277,10,277,12],[278,1,280,1],[278,5,278,9],[278,10,278,12],[279,2,280,3],[279,5,279,9],[279,10,279,12],[290,10,290,12],[290,15,290,19],[291,6,291,9],[291,10,291,12],[291,15,294,19],[292,6,292,9],[292,10,292,12],[288,5,293,5],[288,6,288,9],[288,10,288,12],[288,14,294,14],[288,15,288,19],[289,6,289,9],[289,10,289,12],[289,15,289,17],[289,18,289,19],[290,6,290,9],[297,1,298,1],[297,2,298,3],[297,4,298,4],[297,5,297,19],[298,5,298,19],[299,5,303,19],[295,14,295,16],[295,18,295,19],[296,5,296,9],[296,10,296,12],[296,14,296,16],[296,18,296,19],[293,2,294,3],[293,6,293,9],[293,10,293,12],[294,1,296,1],[294,5,294,9],[294,10,294,12],[295,2,296,3],[295,5,295,9],[295,10,295,12],[309,6,309,9],[309,10,309,12],[309,15,312,19],[310,6,310,9],[310,10,310,12],[311,2,312,3],[311,6,311,9],[311,10,311,12],[307,6,307,9],[307,10,307,12],[307,15,307,17],[307,18,307,19],[308,6,308,9],[308,10,308,12],[308,15,308,19],[304,1,304,19],[305,3,305,5],[305,6,305,8],[305,9,305,12],[305,14,305,18],[306,5,311,5],[306,6,306,9],[306,10,306,12],[306,14,312,14],[306,15,306,19],[315,1,316,1],[315,2,316,3],[315,4,316,4],[315,5,315,19],[316,5,316,19],[317,5,321,19],[313,14,313,16],[313,18,313,19],[314,5,314,9],[314,10,314,12],[314,14,314,16],[314,18,314,19],[312,1,314,1],[312,5,312,9],[312,10,312,12],[313,2,314,3],[313,5,313,9],[313,10,313,12],[324,10,324,12],[324,15,324,19],[325,6,325,9],[325,10,325,12],[325,15,328,19],[326,6,326,9],[326,10,326,12],[322,5,327,5],[322,6,322,9],[322,10,322,12],[322,14,328,14],[322,15,322,19],[323,6,323,9],[323,10,323,12],[323,15,323,17],[323,18,323,19],[324,6,324,9],[331,1,332,1],[331,2,332,3],[331,4,332,4],[331,5,331,19],[332,5,332,19],[333,5,337,19],[329,14,329,16],[329,18,329,19],[330,5,330,9],[330,10,330,12],[330,14,330,16],[330,18,330,19],[327,2,328,3],[327,6,327,9],[327,10,327,12],[328,1,330,1],[328,5,328,9],[328,10,328,12],[329,2,330,3],[329,5,329,9],[329,10,329,12],[343,6,343,9],[343,10,343,12],[343,15,346,19],[344,6,344,9],[344,10,344,12],[345,2,346,3],[345,6,345,9],[345,10,345,12],[341,6,341,9],[341,10,341,12],[341,15,341,17],[341,18,341,19],[342,6,342,9],[342,10,342,12],[342,15,342,19],[338,1,338,19],[339,3,339,5],[339,6,339,8],[339,9,339,12],[339,14,339,18],[340,5,345,5],[340,6,340,9],[340,10,340,12],[340,14,346,14],[340,15,340,19],[356,1,356,4],[356,5,357,19],[358,3,358,6],[358,8,358,19],[359,3,359,19],[360,3,360,5],[360,6,360,8],[360,9,360,12],[360,14,360,18],[349,1,350,1],[349,2,350,3],[349,4,350,4],[349,5,349,19],[350,5,350,19],[351,5,355,19],[347,14,347,16],[347,18,347,19],[348,5,348,9],[348,10,348,12],[348,14,348,16],[348,18,348,19],[346,1,348,1],[346,5,346,9],[346,10,346,12],[347,2,348,3],[347,5,347,9],[347,10,347,12],[363,10,363,12],[363,15,363,19],[364,6,364,9],[364,10,364,12],[364,15,367,19],[365,6,365,9],[365,10,365,12],[361,5,366,5],[361,6,361,9],[361,10,361,12],[361,14,367,14],[361,15,361,19],[362,6,362,9],[362,10,362,12],[362,15,362,17],[362,18,362,19],[363,6,363,9],[370,1,371,1],[370,2,371,3],[370,4,371,4],[370,5,370,19],[371,5,371,19],[372,5,376,19],[368,14,368,16],[368,18,368,19],[369,5,369,9],[369,10,369,12],[369,14,369,16],[369,18,369,19],[366,2,367,3],[366,6,366,9],[366,10,366,12],[367,1,369,1],[367,5,367,9],[367,10,367,12],[368,2,369,3],[368,5,368,9],[368,10,368,12],[379,10,379,12],[379,15,379,19],[380,6,380,9],[380,10,380,12],[380,15,383,19],[381,6,381,9],[381,10,381,12],[377,5,382,5],[377,6,377,9],[377,10,377,12],[377,14,383,14],[377,15,377,19],[378,6,378,9],[378,10,378,12],[378,15,378,17],[378,18,378,19],[379,6,379,9],[386,1,387,1],[386,2,387,3],[386,4,387,4],[386,5,386,19],[387,5,387,19],[388,5,392,19],[384,14,384,16],[384,18,384,19],[385,5,385,9],[385,10,385,12],[385,14,385,16],[385,18,385,19],[382,2,383,3],[382,6,382,9],[382,10,382,12],[383,1,385,1],[383,5,383,9],[383,10,383,12],[384,2,385,3],[384,5,384,9],[384,10,384,12],[398,6,398,9],[398,10,398,12],[398,15,401,19],[399,6,399,9],[399,10,399,12],[400,2,401,3],[400,6,400,9],[400,10,400,12],[396,6,396,9],[396,10,396,12],[396,15,396,17],[396,18,396,19],[397,6,397,9],[397,10,397,12],[397,15,397,19],[393,1,393,19],[394,3,394,5],[394,6,394,8],[394,9,394,12],[394,14,394,18],[395,5,400,5],[395,6,395,9],[395,10,395,12],[395,14,401,14],[395,15,395,19],[404,1,405,1],[404,2,405,3],[404,4,405,4],[404,5,404,19],[405,5,405,19],[406,5,410,19],[402,14,402,16],[402,18,402,19],[403,5,403,9],[403,10,403,12],[403,14,403,16],[403,18,403,19],[401,1,403,1],[401,5,401,9],[401,10,401,12],[402,2,403,3],[402,5,402,9],[402,10,402,12],[413,10,413,12],[413,15,413,19],[414,6,414,9],[414,10,414,12],[414,15,417,19],[415,6,415,9],[415,10,415,12],[411,5,416,5],[411,6,411,9],[411,10,411,12],[411,14,417,14],[411,15,411,19],[412,6,412,9],[412,10,412,12],[412,15,412,17],[412,18,412,19],[413,6,413,9],[420,1,421,1],[420,2,421,3],[420,4,421,4],[420,5,420,19],[421,5,421,19],[422,5,426,19],[418,14,418,16],[418,18,418,19],[419,5,419,9],[419,10,419,12],[419,14,419,16],[419,18,419,19],[416,2,417,3],[416,6,416,9],[416,10,416,12],[417,1,419,1],[417,5,417,9],[417,10,417,12],[418,2,419,3]],"merged_total":2508,"flags":["merged_cut"]}
[null,"（様式第1２号）",null,null,null,"事業実施月の翌月8日までにメール、FAXなどで提出してください。\nEmail：kodosei@city.hirakata.osaka.jp  FAX：072-843-2244"]
[]
[null,null,null,"令和",null,null,null,7,"年度　子どもの居場所づくり推進事業"]
[null,null,null,"月　例　報　告　書"]
[null,null,"（　",4,null,null,"月）- ①　",null,null,"食堂名",null,null,null,"(","食堂名",null,null,null,null,")"]
[null,null,null,null,null,"参加人数","幼児",null,null,null,null,null,null,"人","食事","子どもへの準備食数"]
[null,null,null,null,null,null,"小学生",null,null,null,null,null,null,"人",null,null,null,null,"食"]
[null,null,null,null,null,null,"中学生",null,null,null,null,null,null,"人",null,"＜献立＞"]
[null,null,null,null,null,null,"中学校卒業後の\n子ども（※）",null,null,null,null,null,null,"人"]
[null,null,null,null,null,null,"小計",null,null,null,{"$f":"K6+K7+K8+K9","v":0},null,null,"人"]
[null,null,null,null,null,null,"大人",null,null,null,null,null,null,"人"]
[null,null,null,null,null,"スタッフ数\n（ボランティアも含めて記入）",null,null,null,null,null,null,null,"人"]
[null,null,"日",null,null,"参加費収入",null,null,null,null,null,null,null,"人分",null,null,null,"円"]
[null,null,null,null,null,"スタッフ等謝礼金支払い",null,null,null,null,null,null,null,"人分",null,null,null,"円"]
[null,"(",null,null,")","○上記の「参加費収入」と「ｽﾀｯﾌ等謝礼金」の金額は、\n各回の出納帳に記載する金額と一致させてください。"]
[null,null,null,null,null,"自由記入欄（実施の効果や課題など）"]
[]
[]
[]
[]
[]
[null,null,null,null,null,"参加人数","幼児",null,null,null,null,null,null,"人","食事","子どもへの準備食数"]
[null,null,null,null,null,null,"小学生",null,null,null,null,null,null,"人",null,null,null,null,"食"]
[null,null,null,null,null,null,"中学生",null,null,null,null,null,null,"人",null,"＜献立＞"]
[null,null,null,null,null,null,"中学校卒業後の\n子ども（※）",null,null,null,null,null,null,"人"]
[null,null,null,null,null,null,"小計",null,null,null,{"$f":"K22+K23+K24+K25","v":0},null,null,"人"]
[null,null,null,null,null,null,"大人",null,null,null,null,null,null,"人"]
[null,null,null,null,null,"スタッフ数\n（ボランティアも含めて記入）",null,null,null,null,null,null,null,"人"]
[null,null,"日",null,null,"参加費収入",null,null,null,null,null,null,null,"人分",null,null,null,"円"]
[null,null,null,null,null,"スタッフ等謝礼金支払い",null,null,null,null,null,null,null,"人分",null,null,null,"円"]
[null,"(",null,null,")","○上記の「参加費収入」と「ｽﾀｯﾌ等謝礼金」の金額は、\n各回の出納帳に記載する金額と一致させてください。"]
[null,null,null,null,null,"自由記入欄（実施の効果や課題など）"]
[]
[]
[]
[]
[]
[null,"※中学校卒業後から１８歳に達する日以後の最初の３月３１日までにある子ども。高校生など。"]
[null,null,"（　",{"$f":"D5","v":4},null,null,"月）- ②　",null,null,"食堂名",null,null,null,"(",{"$f":"O5","v":"食堂名"},null,null,null,null,")"]
[null,null,null,null,null,"参加人数","幼児",null,null,null,null,null,null,"人","食事","子どもへの準備食数"]
[null,null,null,null,null,null,"小学生",null,null,null,null,null,null,"人",null,null,null,null,"食"]
[null,null,null,null,null,null,"中学生",null,null,null,null,null,null,"人",null,"＜献立＞"]
[null,null,null,null,null,null,"中学校卒業後の\n子ども（※）",null,null,null,null,null,null,"人"]
[null,null,null,null,null,null,"小計",null,null,null,{"$f":"K40+K41+K42+K43","v":0},null,null,"人"]
[null,null,null,null,null,null,"大人",null,null,null,null,null,null,"人"]
[null,null,null,null,null,"スタッフ数\n（ボランティアも含めて記入）",null,null,null,null,null,null,null,"人"]
[null,null,"日",null,null,"参加費収入",null,null,null,null,null,null,null,"人分",null,null,null,"円"]
[null,null,null,null,null,"スタッフ等謝礼金支払い",null,null,null,null,null,null,null,"人分",null,null,null,"円"]
[null,"(",null,null,")","○上記の「参加費収入」と「ｽﾀｯﾌ等謝礼金」の金額は、\n各回の出納帳に記載する金額と一致させてください。"]
[null,null,null,null,null,"自由記入欄（実施の効果や課題など）"]
[]
[]
[]
[]
[]
[null,null,null,null,null,"参加人数","幼児",null,null,null,null,null,null,"人","食事","子どもへの準備食数"]
[null,null,null,null,null,null,"小学生",null,null,null,null,null,null,"人",null,49,null,null,"食"]
[null,null,null,null,null,null,"中学生",null,null,null,null,null,null,"人",null,"＜献立＞"]
[null,null,null,null,null,null,"中学校卒業後の\n子ども（※）",null,null,null,null,null,null,"人"]
[null,null,null,null,null,null,"小計",null,null,null,{"$f":"K56+K57+K58+K59","v":0},null,null,"人"]
[null,null,null,null,null,null,"大人",null,null,null,null,null,null,"人"]
[null,null,null,null,null,"スタッフ数\n（ボランティアも含めて記入）",null,null,null,null,null,null,null,"人"]
[null,null,"日",null,null,"参加費収入",null,null,null,null,null,null,null,"人分",null,null,null,"円"]
[null,null,null,null,null,"スタッフ等謝礼金支払い",null,null,null,null,null,null,null,"人分",null,null,null,"円"]
[null,"(",null,null,")","○上記の「参加費収入」と「ｽﾀｯﾌ等謝礼金」の金額は、\n各回の出納帳に記載する金額と一致させてください。"]
[null,null,null,null,null,"自由記入欄（実施の効果や課題など）"]
[]
[]
[]
[]
[]
[null,"※中学校卒業後から１８歳に達する日以後の最初の３月３１日までにある子ども。高校生など。"]
[null,null,"（　",{"$f":"D39","v":4},null,null,"月）- ③　",null,null,"食堂名",null,null,null,"(",{"$f":"O5","v":"食堂名"},null,null,null,null,")"]
[null,null,null,null,null,"参加人数","幼児",null,null,null,null,null,null,"人","食事","子どもへの準備食数"]
[null,null,null,null,null,null,"小学生",null,null,null,null,null,null,"人",null,null,null,null,"食"]
[null,null,null,null,null,null,"中学生",null,null,null,null,null,null,"人",null,"＜献立＞"]
[null,null,null,null,null,null,"中学校卒業後の\n子ども（※）",null,null,null,null,null,null,"人"]
[null,null,null,null,null,null,"小計",null,null,null,{"$f":"K74+K75+K76+K77","v":0},null,null,"人"]
[null,null,null,null,null,null,"大人",null,null,null,null,null,null,"人"]
[null,null,null,null,null,"スタッフ数\n（ボランティアも含めて記入）",null,null,null,null,null,null,null,"人"]
[null,null,"日",null,null,"参加費収入",null,null,null,null,null,null,null,"人分",null,null,null,"円"]
[null,null,null,null,null,"スタッフ等謝礼金支払い",null,null,null,null,null,null,null,"人分",null,null,null,"円"]
[null,"(",null,null,")","○上記の「参加費収入」と「ｽﾀｯﾌ等謝礼金」の金額は、\n各回の出納帳に記載する金額と一致させてください。"]
[null,null,null,null,null,"自由記入欄（実施の効果や課題など）"]
[]
[]
[]
[]
[]
[null,"（様式第1２号）",null,null,null,"事業実施月の翌月8日までにメール、FAXなどで提出してください。\nEmail：kodosei@city.hirakata.osaka.jp  FAX：072-843-2244"]
[]
[null,null,null,"令和",null,null,null,7,"年度　子どもの居場所づくり推進事業"]
[null,null,null,"月　例　報　告　書"]
[null,null,"（　",5,null,null,"月）- ①　",null,null,"食堂名",null,null,null,"(",{"$f":"'4月'!O94:S94","v":0},null,null,null,null,")"]
[null,null,null,null,null,"参加人数","幼児",null,null,null,null,null,null,"人","食事","子どもへの準備食数"]
[null,null,null,null,null,null,"小学生",null,null,null,null,null,null,"人",null,null,null,null,"食"]
[null,null,null,null,null,null,"中学生",null,null,null,null,null,null,"人",null,"＜献立＞"]
[null,null,null,null,null,null,"中学校卒業後の\n子ども（※）",null,null,null,null,null,null,"人"]
[null,null,null,null,null,null,"小計",null,null,null,{"$f":"K95+K96+K97+K98","v":0},null,null,"人"]
[null,null,null,null,null,null,"大人",null,null,null,null,null,null,"人"]
[null,null,null,null,null,"スタッフ数\n（ボランティアも含めて記入）",null,null,null,null,null,null,null,"人"]
[null,null,"日",null,null,"参加費収入",null,null,null,null,null,null,null,"人分",null,null,null,"円"]
[null,null,null,null,null,"スタッフ等謝礼金支払い",null,null,null,null,null,null,null,"人分",null,null,null,"円"]
[null,"(",null,null,")","○上記の「参加費収入」と「ｽﾀｯﾌ等謝礼金」の金額は、\n各回の出納帳に記載する金額と一致させてください。"]
[null,null,null,null,null,"自由記入欄（実施の効果や課題など）"]
[]
[]
[]
[]
[]
[null,null,null,null,null,"参加人数","幼児",null,null,null,null,null,null,"人","食事","子どもへの準備食数"]
[null,null,null,null,null,null,"小学生",null,null,null,null,null,null,"人",null,null,null,null,"食"]
[null,null,null,null,null,null,"中学生",null,null,null,null,null,null,"人",null,"＜献立＞"]
[null,null,null,null,null,null,"中学校卒業後の\n子ども（※）",null,null,null,null,null,null,"人"]
[null,null,null,null,null,null,"小計",null,null,null,{"$f":"K111+K112+K113+K114","v":0},null,null,"人"]
[null,null,null,null,null,null,"大人",null,null,null,null,null,null,"人"]
[null,null,null,null,null,"スタッフ数\n（ボランティアも含めて記入）",null,null,null,null,null,null,null,"人"]
[null,null,"日",null,null,"参加費収入",null,null,null,null,null,null,null,"人分",null,null,null,"円"]
[null,null,null,null,null,"スタッフ等謝礼金支払い",null,null,null,null,null,null,null,"人分",null,null,null,"円"]
[null,"(",null,null,")","○上記の「参加費収入」と「ｽﾀｯﾌ等謝礼金」の金額は、\n各回の出納帳に記載する金額と一致させてください。"]
[null,null,null,null,null,"自由記入欄（実施の効果や課題など）"]
[]
[]
[]
[]
[]
[null,"※中学校卒業後から１８歳に達する日以後の最初の３月３１日までにある子ども。高校生など。"]
[null,null,"（　",{"$f":"D94","v":5},null,null,"月）- ②　",null,null,"食堂名",null,null,null,"(",{"$f":"O94","v":0},null,null,null,null,")"]
[null,null,null,null,null,"参加人数","幼児",null,null,null,null,null,null,"人","食事","子どもへの準備食数"]
[null,null,null,null,null,null,"小学生",null,null,null,null,null,null,"人",null,null,null,null,"食"]
[null,null,null,null,null,null,"中学生",null,null,null,null,null,null,"人",null,"＜献立＞"]
[null,null,null,null,null,null,"中学校卒業後の\n子ども（※）",null,null,null,null,null,null,"人"]
[null,null,null,null,null,null,"小計",null,null,null,{"$f":"K129+K130+K131+K132","v":0},null,null,"人"]
[null,null,null,null,null,null,"大人",null,null,null,null,null,null,"人"]
[null,null,null,null,null,"スタッフ数\n（ボランティアも含めて記入）",null,null,null,null,null,null,null,"人"]
[null,null,"日",null,null,"参加費収入",null,null,null,null,null,null,null,"人分",null,null,null,"円"]
[null,null,null,null,null,"スタッフ等謝礼金支払い",null,null,null,null,null,null,null,"人分",null,null,null,"円"]
[null,"(",null,null,")","○上記の「参加費収入」と「ｽﾀｯﾌ等謝礼金」の金額は、\n各回の出納帳に記載する金額と一致させてください。"]
[null,null,null,null,null,"自由記入欄（実施の効果や課題など）"]
[]
[]
[]
[]
[]
[null,null,null,null,null,"参加人数","幼児",null,null,null,null,null,null,"人","食事","子どもへの準備食数"]
[null,null,null,null,null,null,"小学生",null,null,null,null,null,null,"人",null,49,null,null,"食"]
[null,null,null,null,null,null,"中学生",null,null,null,null,null,null,"人",null,"＜献立＞"]
[null,null,null,null,null,null,"中学校卒業後の\n子ども（※）",null,null,null,null,null,null,"人"]
[null,null,null,null,null,null,"小計",null,null,null,{"$f":"K145+K146+K147+K148","v":0},null,null,"人"]
[null,null,null,null,null,null,"大人",null,null,null,null,null,null,"人"]
[null,null,null,null,null,"スタッフ数\n（ボランティアも含めて記入）",null,null,null,null,null,null,null,"人"]
[null,null,"日",null,null,"参加費収入",null,null,null,null,null,null,null,"人分",null,null,null,"円"]
[null,null,null,null,null,"スタッフ等謝礼金支払い",null,null,null,null,null,null,null,"人分",null,null,null,"円"]
[null,"(",null,null,")","○上記の「参加費収入」と「ｽﾀｯﾌ等謝礼金」の金額は、\n各回の出納帳に記載する金額と一致させてください。"]
[null,null,null,null,null,"自由記入欄（実施の効果や課題など）"]
[]
[]
[]
[]
[]
[null,"※中学校卒業後から１８歳に達する日以後の最初の３月３１日までにある子ども。高校生など。"]
[null,null,"（　",{"$f":"D128","v":5},null,null,"月）- ③　",null,null,"食堂名",null,null,null,"(",{"$f":"O94","v":0},null,null,null,null,")"]
[null,null,null,null,null,"参加人数","幼児",null,null,null,null,null,null,"人","食事","子どもへの準備食数"]
[null,null,null,null,null,null,"小学生",null,null,null,null,null,null,"人",null,null,null,null,"食"]
[null,null,null,null,null,null,"中学生",null,null,null,null,null,null,"人",null,"＜献立＞"]
[null,null,null,null,null,null,"中学校卒業後の\n子ども（※）",null,null,null,null,null,null,"人"]
[null,null,null,null,null,null,"小計",null,null,null,{"$f":"K163+K164+K165+K166","v":0},null,null,"人"]
[null,null,null,null,null,null,"大人",null,null,null,null,null,null,"人"]
[null,null,null,null,null,"スタッフ数\n（ボランティアも含めて記入）",null,null,null,null,null,null,null,"人"]
[null,null,"日",null,null,"参加費収入",null,null,null,null,null,null,null,"人分",null,null,null,"円"]
[null,null,null,null,null,"スタッフ等謝礼金支払い",null,null,null,null,null,null,null,"人分",null,null,null,"円"]
[null,"(",null,null,")","○上記の「参加費収入」と「ｽﾀｯﾌ等謝礼金」の金額は、\n各回の出納帳に記載する金額と一致させてください。"]
[null,null,null,null,null,"自由記入欄（実施の効果や課題など）"]
[]
[]
[]
[]
[]
[null,"（様式第1２号）",null,null,null,"事業実施月の翌月8日までにメール、FAXなどで提出してください。\nEmail：kodosei@city.hirakata.osaka.jp  FAX：072-843-2244"]
[]
[null,null,null,"令和",null,null,null,7,"年度　子どもの居場所づくり推進事業"]
[null,null,null,"月　例　報　告　書"]
[null,null,"（　",6,null,null,"月）- ①　",null,null,"食堂名",null,null,null,"(",{"$f":"'4月'!O183:S183","v":0},null,null,null,null,")"]
[null,null,null,null,null,"参加人数","幼児",null,null,null,null,null,null,"人","食事","子どもへの準備食数"]
[null,null,null,null,null,null,"小学生",null,null,null,null,null,null,"人",null,null,null,null,"食"]
[null,null,null,null,null,null,"中学生",null,null,null,null,null,null,"人",null,"＜献立＞"]
[null,null,null,null,null,null,"中学校卒業後の\n子ども（※）",null,null,null,null,null,null,"人"]
[null,null,null,null,null,null,"小計",null,null,null,{"$f":"K184+K185+K186+K187","v":0},null,null,"人"]
[null,null,null,null,null,null,"大人",null,null,null,null,null,null,"人"]
[null,null,null,null,null,"スタッフ数\n（ボランティアも含めて記入）",null,null,null,null,null,null,null,"人"]
[null,null,"日",null,null,"参加費収入",null,null,null,null,null,null,null,"人分",null,null,null,"円"]
[null,null,null,null,null,"スタッフ等謝礼金支払い",null,null,null,null,null,null,null,"人分",null,null,null,"円"]
[null,"(",null,null,")","○上記の「参加費収入」と「ｽﾀｯﾌ等謝礼金」の金額は、\n各回の出納帳に記載する金額と一致させてください。"]
[null,null,null,null,null,"自由記入欄（実施の効果や課題など）"]
[]
[]
[]
[]
[]
[null,null,null,null,null,"参加人数","幼児",null,null,null,null,null,null,"人","食事","子どもへの準備食数"]
[null,null,null,null,null,null,"小学生",null,null,null,null,null,null,"人",null,null,null,null,"食"]
[null,null,null,null,null,null,"中学生",null,null,null,null,null,null,"人",null,"＜献立＞"]
[null,null,null,null,null,null,"中学校卒業後の\n子ども（※）",null,null,null,null,null,null,"人"]
[null,null,null,null,null,null,"小計",null,null,null,{"$f":"K200+K201+K202+K203","v":0},null,null,"人"]
[null,null,null,null,null,null,"大人",null,null,null,null,null,null,"人"]
[null,null,null,null,null,"スタッフ数\n（ボランティアも含めて記入）",null,null,null,null,null,null,null,"人"]
[null,null,"日",null,null,"参加費収入",null,null,null,null,null,null,null,"人分",null,null,null,"円"]
[null,null,null,null,null,"スタッフ等謝礼金支払い",null,null,null,null,null,null,null,"人分",null,null,null,"円"]
[null,"(",null,null,")","○上記の「参加費収入」と「ｽﾀｯﾌ等謝礼金」の金額は、\n各回の出納帳に記載する金額と一致させてください。"]
[null,null,null,null,null,"自由記入欄（実施の効果や課題など）"]
[]
[]
[]
[]
[]
[null,"※中学校卒業後から１８歳に達する日以後の最初の３月３１日までにある子ども。高校生など。"]
[null,null,"（　",{"$f":"D183","v":6},null,null,"月）- ②　",null,null,"食堂名",null,null,null,"(",{"$f":"O183","v":0},null,null,null,null,")"]
[null,null,null,null,null,"参加人数","幼児",null,null,null,null,null,null,"人","食事","子どもへの準備食数"]
[null,null,null,null,null,null,"小学生",null,null,null,null,null,null,"人",null,null,null,null,"食"]
[null,null,null,null,null,null,"中学生",null,null,null,null,null,null,"人",null,"＜献立＞"]
[null,null,null,null,null,null,"中学校卒業後の\n子ども（※）",null,null,null,null,null,null,"人"]
[null,null,null,null,null,null,"小計",null,null,null,{"$f":"K218+K219+K220+K221","v":0},null,null,"人"]
[null,null,null,null,null,null,"大人",null,null,null,null,null,null,"人"]
[null,null,null,null,null,"スタッフ数\n（ボランティアも含めて記入）",null,null,null,null,null,null,null,"人"]
[null,null,"日",null,null,"参加費収入",null,null,null,null,null,null,null,"人分",null,null,null,"円"]
[null,null,null,null,null,"スタッフ等謝礼金支払い",null,null,null,null,null,null,null,"人分",null,null,null,"円"]
[null,"(",null,null,")","○上記の「参加費収入」と「ｽﾀｯﾌ等謝礼金」の金額は、\n各回の出納帳に記載する金額と一致させてください。"]
[null,null,null,null,null,"自由記入欄（実施の効果や課題など）"]
[]
[]
[]
[]
[]
[null,null,null,null,null,"参加人数","幼児",null,null,null,null,null,null,"人","食事","子どもへの準備食数"]
[null,null,null,null,null,null,"小学生",null,null,null,null,null,null,"人",null,49,null,null,"食"]
[null,null,null,null,null,null,"中学生",null,null,null,null,null,null,"人",null,"＜献立＞"]
[null,null,null,null,null,null,"中学校卒業後の\n子ども（※）",null,null,null,null,null,null,"人"]
[null,null,null,null,null,null,"小計",null,null,null,{"$f":"K234+K235+K236+K237","v":0},null,null,"人"]
[null,null,null,null,null,null,"大人",null,null,null,null,null,null,"人"]
[null,null,null,null,null,"スタッフ数\n（ボランティアも含めて記入）",null,null,null,null,null,null,null,"人"]
[null,null,"日",null,null,"参加費収入",null,null,null,null,null,null,null,"人分",null,null,null,"円"]
[null,null,null,null,null,"スタッフ等謝礼金支払い",null,null,null,null,null,null,null,"人分",null,null,null,"円"]
[null,"(",null,null,")","○上記の「参加費収入」と「ｽﾀｯﾌ等謝礼金」の金額は、\n各回の出納帳に記載する金額と一致させてください。"]
[null,null,null,null,null,"自由記入欄（実施の効果や課題など）"]
[]
[]
[]
[]
[]
[null,"※中学校卒業後から１８歳に達する日以後の最初の３月３１日までにある子ども。高校生など。"]
[null,null,"（　",{"$f":"D217","v":6},null,null,"月）- ③　",null,null,"食堂名",null,null,null,"(",{"$f":"O183","v":0},null,null,null,null,")"]
[null,null,null,null,null,"参加人数","幼児",null,null,null,null,null,null,"人","食事","子どもへの準備食数"]
[null,null,null,null,null,null,"小学生",null,null,null,null,null,null,"人",null,null,null,null,"食"]
[null,null,null,null,null,null,"中学生",null,null,null,null,null,null,"人",null,"＜献立＞"]
[null,null,null,null,null,null,"中学校卒業後の\n子ども（※）",null,null,null,null,null,null,"人"]
[null,null,null,null,null,null,"小計",null,null,null,{"$f":"K252+K253+K254+K255","v":0},null,null,"人"]
[null,null,null,null,null,null,"大人",null,null,null,null,null,null,"人"]
[null,null,null,null,null,"スタッフ数\n（ボランティアも含めて記入）",null,null,null,null,null,null,null,"人"]
[null,null,"日",null,null,"参加費収入",null,null,null,null,null,null,null,"人分",null,null,null,"円"]
[null,null,null,null,null,"スタッフ等謝礼金支払い",null,null,null,null,null,null,null,"人分",null,null,null,"円"]
[null,"(",null,null,")","○上記の「参加費収入」と「ｽﾀｯﾌ等謝礼金」の金額は、\n各回の出納帳に記載する金額と一致させてください。"]
[null,null,null,null,null,"自由記入欄（実施の効果や課題など）"]
[]
[]
[]
[]
[]
[null,"（様式第1２号）",null,null,null,"事業実施月の翌月8日までにメール、FAXなどで提出してください。\nEmail：kodosei@city.hirakata.osaka.jp  FAX：072-843-2244"]
[]
[null,null,null,"令和",null,null,null,7,"年度　子どもの居場所づくり推進事業"]
[null,null,null,"月　例　報　告　書"]
[null,null,"（　",7,null,null,"月）- ①　",null,null,"食堂名",null,null,null,"(",{"$f":"'4月'!O272:S272","v":0},null,null,null,null,")"]
[null,null,null,null,null,"参加人数","幼児",null,null,null,null,null,null,"人","食事","子どもへの準備食数"]
[null,null,null,null,null,null,"小学生",null,null,null,null,null,null,"人",null,null,null,null,"食"]
[null,null,null,null,null,null,"中学生",null,null,null,null,null,null,"人",null,"＜献立＞"]
[null,null,null,null,null,null,"中学校卒業後の\n子ども（※）",null,null,null,null,null,null,"人"]
[null,null,null,null,null,null,"小計",null,null,null,{"$f":"K273+K274+K275+K276","v":0},null,null,"人"]
[null,null,null,null,null,null,"大人",null,null,null,null,null,null,"人"]
[null,null,null,null,null,"スタッフ数\n（ボランティアも含めて記入）",null,null,null,null,null,null,null,"人"]
[null,null,"日",null,null,"参加費収入",null,null,null,null,null,null,null,"人分",null,null,null,"円"]
[null,null,null,null,null,"スタッフ等謝礼金支払い",null,null,null,null,null,null,null,"人分",null,null,null,"円"]
[null,"(",null,null,")","○上記の「参加費収入」と「ｽﾀｯﾌ等謝礼金」の金額は、\n各回の出納帳に記載する金額と一致させてください。"]
[null,null,null,null,null,"自由記入欄（実施の効果や課題など）"]
[]
[]
[]
[]
[]
[null,null,null,null,null,"参加人数","幼児",null,null,null,null,null,null,"人","食事","子どもへの準備食数"]
[null,null,null,null,null,null,"小学生",null,null,null,null,null,null,"人",null,null,null,null,"食"]
[null,null,null,null,null,null,"中学生",null,null,null,null,null,null,"人",null,"＜献立＞"]
[null,null,null,null,null,null,"中学校卒業後の\n子ども（※）",null,null,null,null,null,null,"人"]
[null,null,null,null,null,null,"小計",null,null,null,{"$f":"K289+K290+K291+K292","v":0},null,null,"人"]
[null,null,null,null,null,null,"大人",null,null,null,null,null,null,"人"]
[null,null,null,null,null,"スタッフ数\n（ボランティアも含めて記入）",null,null,null,null,null,null,null,"人"]
[null,null,"日",null,null,"参加費収入",null,null,null,null,null,null,null,"人分",null,null,null,"円"]
[null,null,null,null,null,"スタッフ等謝礼金支払い",null,null,null,null,null,null,null,"人分",null,null,null,"円"]
[null,"(",null,null,")","○上記の「参加費収入」と「ｽﾀｯﾌ等謝礼金」の金額は、\n各回の出納帳に記載する金額と一致させてください。"]
[null,null,null,null,null,"自由記入欄（実施の効果や課題など）"]
[]
[]
[]
[]
[]
[null,"※中学校卒業後から１８歳に達する日以後の最初の３月３１日までにある子ども。高校生など。"]
[null,null,"（　",{"$f":"D272","v":7},null,null,"月）- ②　",null,null,"食堂名",null,null,null,"(",{"$f":"O272","v":0},null,null,null,null,")"]
[null,null,null,null,null,"参加人数","幼児",null,null,null,null,null,null,"人","食事","子どもへの準備食数"]
[null,null,null,null,null,null,"小学生",null,null,null,null,null,null,"人",null,null,null,null,"食"]
[null,null,null,null,null,null,"中学生",null,null,null,null,null,null,"人",null,"＜献立＞"]
[null,null,null,null,null,null,"中学校卒業後の\n子ども（※）",null,null,null,null,null,null,"人"]
[null,null,null,null,null,null,"小計",null,null,null,{"$f":"K307+K308+K309+K310","v":0},null,null,"人"]
[null,null,null,null,null,null,"大人",null,null,null,null,null,null,"人"]
[null,null,null,null,null,"スタッフ数\n（ボランティアも含めて記入）",null,null,null,null,null,null,null,"人"]
[null,null,"日",null,null,"参加費収入",null,null,null,null,null,null,null,"人分",null,null,null,"円"]
[null,null,null,null,null,"スタッフ等謝礼金支払い",null,null,null,null,null,null,null,"人分",null,null,null,"円"]
[null,"(",null,null,")","○上記の「参加費収入」と「ｽﾀｯﾌ等謝礼金」の金額は、\n各回の出納帳に記載する金額と一致させてください。"]
[null,null,null,null,null,"自由記入欄（実施の効果や課題など）"]
[]
[]
[]
[]
[]
[null,null,null,null,null,"参加人数","幼児",null,null,null,null,null,null,"人","食事","子どもへの準備食数"]
[null,null,null,null,null,null,"小学生",null,null,null,null,null,null,"人",null,49,null,null,"食"]
[null,null,null,null,null,null,"中学生",null,null,null,null,null,null,"人",null,"＜献立＞"]
[null,null,null,null,null,null,"中学校卒業後の\n子ども（※）",null,null,null,null,null,null,"人"]
[null,null,null,null,null,null,"小計",null,null,null,{"$f":"K323+K324+K325+K326","v":0},null,null,"人"]
[null,null,null,null,null,null,"大人",null,null,null,null,null,null,"人"]
[null,null,null,null,null,"スタッフ数\n（ボランティアも含めて記入）",null,null,null,null,null,null,null,"人"]
[null,null,"日",null,null,"参加費収入",null,null,null,null,null,null,null,"人分",null,null,null,"円"]
[null,null,null,null,null,"スタッフ等謝礼金支払い",null,null,null,null,null,null,null,"人分",null,null,null,"円"]
[null,"(",null,null,")","○上記の「参加費収入」と「ｽﾀｯﾌ等謝礼金」の金額は、\n各回の出納帳に記載する金額と一致させてください。"]
[null,null,null,null,null,"自由記入欄（実施の効果や課題など）"]
[]
[]
[]
[]
[]
[null,"※中学校卒業後から１８歳に達する日以後の最初の３月３１日までにある子ども。高校生など。"]
[null,null,"（　",{"$f":"D306","v":7},null,null,"月）- ③　",null,null,"食堂名",null,null,null,"(",{"$f":"O272","v":0},null,null,null,null,")"]
[null,null,null,null,null,"参加人数","幼児",null,null,null,null,null,null,"人","食事","子どもへの準備食数"]
[null,null,null,null,null,null,"小学生",null,null,null,null,null,null,"人",null,null,null,null,"食"]
[null,null,null,null,null,null,"中学生",null,null,null,null,null,null,"人",null,"＜献立＞"]
[null,null,null,null,null,null,"中学校卒業後の\n子ども（※）",null,null,null,null,null,null,"人"]
[null,null,null,null,null,null,"小計",null,null,null,{"$f":"K341+K342+K343+K344","v":0},null,null,"人"]
[null,null,null,null,null,null,"大人",null,null,null,null,null,null,"人"]
[null,null,null,null,null,"スタッフ数\n（ボランティアも含めて記入）",null,null,null,null,null,null,null,"人"]
[null,null,"日",null,null,"参加費収入",null,null,null,null,null,null,null,"人分",null,null,null,"円"]
[null,null,null,null,null,"スタッフ等謝礼金支払い",null,null,null,null,null,null,null,"人分",null,null,null,"円"]
[null,"(",null,null,")","○上記の「参加費収入」と「ｽﾀｯﾌ等謝礼金」の金額は、\n各回の出納帳に記載する金額と一致させてください。"]
[null,null,null,null,null,"自由記入欄（実施の効果や課題など）"]
[]
[]
[]
[]
[]
[null,"（様式第1２号）",null,null,null,"事業実施月の翌月8日までにメール、FAXなどで提出してください。\nEmail：kodosei@city.hirakata.osaka.jp  FAX：072-843-2244"]
[]
[null,null,null,"令和",null,null,null,7,"年度　子どもの居場所づくり推進事業"]
[null,null,null,"月　例　報　告　書"]
[null,null,"（　",8,null,null,"月）- ①　",null,null,"食堂名",null,null,null,"(",{"$f":"'4月'!O361:S361","v":0},null,null,null,null,")"]
[null,null,null,null,null,"参加人数","幼児",null,null,null,null,null,null,"人","食事","子どもへの準備食数"]
[null,null,null,null,null,null,"小学生",null,null,null,null,null,null,"人",null,null,null,null,"食"]
[null,null,null,null,null,null,"中学生",null,null,null,null,null,null,"人",null,"＜献立＞"]
[null,null,null,null,null,null,"中学校卒業後の\n子ども（※）",null,null,null,null,null,null,"人"]
[null,null,null,null,null,null,"小計",null,null,null,{"$f":"K362+K363+K364+K365","v":0},null,null,"人"]
[null,null,null,null,null,null,"大人",null,null,null,null,null,null,"人"]
[null,null,null,null,null,"スタッフ数\n（ボランティアも含めて記入）",null,null,null,null,null,null,null,"人"]
[null,null,"日",null,null,"参加費収入",null,null,null,null,null,null,null,"人分",null,null,null,"円"]
[null,null,null,null,null,"スタッフ等謝礼金支払い",null,null,null,null,null,null,null,"人分",null,null,null,"円"]
[null,"(",null,null,")","○上記の「参加費収入」と「ｽﾀｯﾌ等謝礼金」の金額は、\n各回の出納帳に記載する金額と一致させてください。"]
[null,null,null,null,null,"自由記入欄（実施の効果や課題など）"]
[]
[]
[]
[]
[]
[null,null,null,null,null,"参加人数","幼児",null,null,null,null,null,null,"人","食事","子どもへの準備食数"]
[null,null,null,null,null,null,"小学生",null,null,null,null,null,null,"人",null,null,null,null,"食"]
[null,null,null,null,null,null,"中学生",null,null,null,null,null,null,"人",null,"＜献立＞"]
[null,null,null,null,null,null,"中学校卒業後の\n子ども（※）",null,null,null,null,null,null,"人"]
[null,null,null,null,null,null,"小計",null,null,null,{"$f":"K378+K379+K380+K381","v":0},null,null,"人"]
[null,null,null,null,null,null,"大人",null,null,null,null,null,null,"人"]
[null,null,null,null,null,"スタッフ数\n（ボランティアも含めて記入）",null,null,null,null,null,null,null,"人"]
[null,null,"日",null,null,"参加費収入",null,null,null,null,null,null,null,"人分",null,null,null,"円"]
[null,null,null,null,null,"スタッフ等謝礼金支払い",null,null,null,null,null,null,null,"人分",null,null,null,"円"]
[null,"(",null,null,")","○上記の「参加費収入」と「ｽﾀｯﾌ等謝礼金」の金額は、\n各回の出納帳に記載する金額と一致させてください。"]
[null,null,null,null,null,"自由記入欄（実施の効果や課題など）"]
[]
[]
[]
[]
[]
[null,"※中学校卒業後から１８歳に達する日以後の最初の３月３１日までにある子ども。高校生など。"]
[null,null,"（　",{"$f":"D361","v":8},null,null,"月）- ②　",null,null,"食堂名",null,null,null,"(",{"$f":"O361","v":0},null,null,null,null,")"]
[null,null,null,null,null,"参加人数","幼児",null,null,null,null,null,null,"人","食事","子どもへの準備食数"]
[null,null,null,null,null,null,"小学生",null,null,null,null,null,null,"人",null,null,null,null,"食"]
[null,null,null,null,null,null,"中学生",null,null,null,null,null,null,"人",null,"＜献立＞"]
[null,null,null,null,null,null,"中学校卒業後の\n子ども（※）",null,null,null,null,null,null,"人"]
[null,null,null,null,null,null,"小計",null,null,null,{"$f":"K396+K397+K398+K399","v":0},null,null,"人"]
[null,null,null,null,null,null,"大人",null,null,null,null,null,null,"人"]
[null,null,null,null,null,"スタッフ数\n（ボランティアも含めて記入）",null,null,null,null,null,null,null,"人"]
[null,null,"日",null,null,"参加費収入",null,null,null,null,null,null,null,"人分",null,null,null,"円"]
[null,null,null,null,null,"スタッフ等謝礼金支払い",null,null,null,null,null,null,null,"人分",null,null,null,"円"]
[null,"(",null,null,")","○上記の「参加費収入」と「ｽﾀｯﾌ等謝礼金」の金額は、\n各回の出納帳に記載する金額と一致させてください。"]
[null,null,null,null,null,"自由記入欄（実施の効果や課題など）"]
[]
[]
[]
[]
[]
[null,null,null,null,null,"参加人数","幼児",null,null,null,null,null,null,"人","食事","子どもへの準備食数"]
[null,null,null,null,null,null,"小学生",null,null,null,null,null,null,"人",null,49,null,null,"食"]
[null,null,null,null,null,null,"中学生",null,null,null,null,null,null,"人",null,"＜献立＞"]
[null,null,null,null,null,null,"中学校卒業後の\n子ども（※）",null,null,null,null,null,null,"人"]
[null,null,null,null,null,null,"小計",null,null,null,{"$f":"K412+K413+K414+K415","v":0},null,null,"人"]
[null,null,null,null,null,null,"大人",null,null,null,null,null,null,"人"]
[null,null,null,null,null,"スタッフ数\n（ボランティアも含めて記入）",null,null,null,null,null,null,null,"人"]
[null,null,"日",null,null,"参加費収入",null,null,null,null,null,null,null,"人分",null,null,null,"円"]
[null,null,null,null,null,"スタッフ等謝礼金支払い",null,null,null,null,null,null,null,"人分",null,null,null,"円"]
[null,"(",null,null,")","○上記の「参加費収入」と「ｽﾀｯﾌ等謝礼金」の金額は、\n各回の出納帳に記載する金額と一致させてください。"]
[null,null,null,null,null,"自由記入欄（実施の効果や課題など）"]
[]
[]
[]
[]
[]
[null,"※中学校卒業後から１８歳に達する日以後の最初の３月３１日までにある子ども。高校生など。"]
[null,null,"（　",{"$f":"D395","v":8},null,null,"月）- ③　",null,null,"食堂名",null,null,null,"(",{"$f":"O361","v":0},null,null,null,null,")"]
[null,null,null,null,null,"参加人数","幼児",null,null,null,null,null,null,"人","食事","子どもへの準備食数"]
[null,null,null,null,null,null,"小学生",null,null,null,null,null,null,"人",null,null,null,null,"食"]
[null,null,null,null,null,null,"中学生",null,null,null,null,null,null,"人",null,"＜献立＞"]
[null,null,null,null,null,null,"中学校卒業後の\n子ども（※）",null,null,null,null,null,null,"人"]
[null,null,null,null,null,null,"小計",null,null,null,{"$f":"K430+K431+K432+K433","v":0},null,null,"人"]
[null,null,null,null,null,null,"大人",null,null,null,null,null,null,"人"]
[null,null,null,null,null,"スタッフ数\n（ボランティアも含めて記入）",null,null,null,null,null,null,null,"人"]
[null,null,"日",null,null,"参加費収入",null,null,null,null,null,null,null,"人分",null,null,null,"円"]
[null,null,null,null,null,"スタッフ等謝礼金支払い",null,null,null,null,null,null,null,"人分",null,null,null,"円"]
[null,"(",null,null,")","○上記の「参加費収入」と「ｽﾀｯﾌ等謝礼金」の金額は、\n各回の出納帳に記載する金額と一致させてください。"]
[null,null,null,null,null,"自由記入欄（実施の効果や課題など）"]
[]
[]
[]
[]
[]
[null,"（様式第1２号）",null,null,null,"事業実施月の翌月8日までにメール、FAXなどで提出してください。\nEmail：kodosei@city.hirakata.osaka.jp  FAX：072-843-2244"]
[]
[null,null,null,"令和",null,null,null,7,"年度　子どもの居場所づくり推進事業"]
[null,null,null,"月　例　報　告　書"]
[null,null,"（　",9,null,null,"月）- ①　",null,null,"食堂名",null,null,null,"(",{"$f":"'4月'!O450:S450","v":0},null,null,null,null,")"]
[null,null,null,null,null,"参加人数","幼児",null,null,null,null,null,null,"人","食事","子どもへの準備食数"]
[null,null,null,null,null,null,"小学生",null,null,null,null,null,null,"人",null,null,null,null,"食"]
[null,null,null,null,null,null,"中学生",null,null,null,null,null,null,"人",null,"＜献立＞"]
[null,null,null,null,null,null,"中学校卒業後の\n子ども（※）",null,null,null,null,null,null,"人"]
[null,null,null,null,null,null,"小計",null,null,null,{"$f":"K451+K452+K453+K454","v":0},null,null,"人"]
[null,null,null,null,null,null,"大人",null,null,null,null,null,null,"人"]
[null,null,null,null,null,"スタッフ数\n（ボランティアも含めて記入）",null,null,null,null,null,null,null,"人"]
[null,null,"日",null,null,"参加費収入",null,null,null,null,null,null,null,"人分",null,null,null,"円"]
[null,null,null,null,null,"スタッフ等謝礼金支払い",null,null,null,null,null,null,null,"人分",null,null,null,"円"]
[null,"(",null,null,")","○上記の「参加費収入」と「ｽﾀｯﾌ等謝礼金」の金額は、\n各回の出納帳に記載する金額と一致させてください。"]
[null,null,null,null,null,"自由記入欄（実施の効果や課題など）"]
[]
[]
[]
[]
[]
[null,null,null,null,null,"参加人数","幼児",null,null,null,null,null,null,"人","食事","子どもへの準備食数"]
[null,null,null,null,null,null,"小学生",null,null,null,null,null,null,"人",null,null,null,null,"食"]
[null,null,null,null,null,null,"中学生",null,null,null,null,null,null,"人",null,"＜献立＞"]
[null,null,null,null,null,null,"中学校卒業後の\n子ども（※）",null,null,null,null,null,null,"人"]
[null,null,null,null,null,null,"小計",null,null,null,{"$f":"K467+K468+K469+K470","v":0},null,null,"人"]
[null,null,null,null,null,null,"大人",null,null,null,null,null,null,"人"]
[null,null,null,null,null,"スタッフ数\n（ボランティアも含めて記入）",null,null,null,null,null,null,null,"人"]
[null,null,"日",null,null,"参加費収入",null,null,null,null,null,null,null,"人分",null,null,null,"円"]
[null,null,null,null,null,"スタッフ等謝礼金支払い",null,null,null,null,null,null,null,"人分",null,null,null,"円"]
[null,"(",null,null,")","○上記の「参加費収入」と「ｽﾀｯﾌ等謝礼金」の金額は、\n各回の出納帳に記載する金額と一致させてください。"]
[null,null,null,null,null,"自由記入欄（実施の効果や課題など）"]
[]
[]
[]
[]
[]
[null,"※中学校卒業後から１８歳に達する日以後の最初の３月３１日までにある子ども。高校生など。"]
[null,null,"（　",{"$f":"D450","v":9},null,null,"月）- ②　",null,null,"食堂名",null,null,null,"(",{"$f":"O450","v":0},null,null,null,null,")"]
[null,null,null,null,null,"参加人数","幼児",null,null,null,null,null,null,"人","食事","子どもへの準備食数"]
[null,null,null,null,null,null,"小学生",null,null,null,null,null,null,"人",null,null,null,null,"食"]
[null,null,null,null,null,null,"中学生",null,null,null,null,null,null,"人",null,"＜献立＞"]
[null,null,null,null,null,null,"中学校卒業後の\n子ども（※）",null,null,null,null,null,null,"人"]
[null,null,null,null,null,null,"小計",null,null,null,{"$f":"K485+K486+K487+K488","v":0},null,null,"人"]
[null,null,null,null,null,null,"大人",null,null,null,null,null,null,"人"]
[null,null,null,null,null,"スタッフ数\n（ボランティアも含めて記入）",null,null,null,null,null,null,null,"人"]
[null,null,"日",null,null,"参加費収入",null,null,null,null,null,null,null,"人分",null,null,null,"円"]
[null,null,null,null,null,"スタッフ等謝礼金支払い",null,null,null,null,null,null,null,"人分",null,null,null,"円"]
[null,"(",null,null,")","○上記の「参加費収入」と「ｽﾀｯﾌ等謝礼金」の金額は、\n各回の出納帳に記載する金額と一致させてください。"]
[null,null,null,null,null,"自由記入欄（実施の効果や課題など）"]
[]
[]
[]
[]
[]
[null,null,null,null,null,"参加人数","幼児",null,null,null,null,null,null,"人","食事","子どもへの準備食数"]
[null,null,null,null,null,null,"小学生",null,null,null,null,null,null,"人",null,49,null,null,"食"]
[null,null,null,null,null,null,"中学生",null,null,null,null,null,null,"人",null,"＜献立＞"]
[null,null,null,null,null,null,"中学校卒業後の\n子ども（※）",null,null,null,null,null,null,"人"]
[null,null,null,null,null,null,"小計",null,null,null,{"$f":"K501+K502+K503+K504","v":0},null,null,"人"]
[null,null,null,null,null,null,"大人",null,null,null,null,null,null,"人"]
[null,null,null,null,null,"スタッフ数\n（ボランティアも含めて記入）",null,null,null,null,null,null,null,"人"]
[null,null,"日",null,null,"参加費収入",null,null,null,null,null,null,null,"人分",null,null,null,"円"]
[null,null,null,null,null,"スタッフ等謝礼金支払い",null,null,null,null,null,null,null,"人分",null,null,null,"円"]
[null,"(",null,null,")","○上記の「参加費収入」と「ｽﾀｯﾌ等謝礼金」の金額は、\n各回の出納帳に記載する金額と一致させてください。"]
[null,null,null,null,null,"自由記入欄（実施の効果や課題など）"]
[]
[]
[]
[]
[]
[null,"※中学校卒業後から１８歳に達する日以後の最初の３月３１日までにある子ども。高校生など。"]
[null,null,"（　",{"$f":"D484","v":9},null,null,"月）- ③　",null,null,"食堂名",null,null,null,"(",{"$f":"O450","v":0},null,null,null,null,")"]
[null,null,null,null,null,"参加人数","幼児",null,null,null,null,null,null,"人","食事","子どもへの準備食数"]
[null,null,null,null,null,null,"小学生",null,null,null,null,null,null,"人",null,null,null,null,"食"]
[null,null,null,null,null,null,"中学生",null,null,null,null,null,null,"人",null,"＜献立＞"]
[null,null,null,null,null,null,"中学校卒業後の\n子ども（※）",null,null,null,null,null,null,"人"]
[null,null,null,null,null,null,"小計",null,null,null,{"$f":"K519+K520+K521+K522","v":0},null,null,"人"]
[null,null,null,null,null,null,"大人",null,null,null,null,null,null,"人"]
[null,null,null,null,null,"スタッフ数\n（ボランティアも含めて記入）",null,null,null,null,null,null,null,"人"]
[null,null,"日",null,null,"参加費収入",null,null,null,null,null,null,null,"人分",null,null,null,"円"]
[null,null,null,null,null,"スタッフ等謝礼金支払い",null,null,null,null,null,null,null,"人分",null,null,null,"円"]
[null,"(",null,null,")","○上記の「参加費収入」と「ｽﾀｯﾌ等謝礼金」の金額は、\n各回の出納帳に記載する金額と一致させてください。"]
[null,null,null,null,null,"自由記入欄（実施の効果や課題など）"]
[]
[]
[]
[]
[]
[null,"（様式第1２号）",null,null,null,"事業実施月の翌月8日までにメール、FAXなどで提出してください。\nEmail：kodosei@city.hirakata.osaka.jp  FAX：072-843-2244"]
[]
[null,null,null,"令和",null,null,null,7,"年度　子どもの居場所づくり推進事業"]
[null,null,null,"月　例　報　告　書"]
[null,null,"（　",10,null,null,"月）- ①　",null,null,"食堂名",null,null,null,"(",{"$f":"'4月'!O539:S539","v":0},null,null,null,null,")"]
[null,null,null,null,null,"参加人数","幼児",null,null,null,null,null,null,"人","食事","子どもへの準備食数"]
[null,null,null,null,null,null,"小学生",null,null,null,null,null,null,"人",null,null,null,null,"食"]
[null,null,null,null,null,null,"中学生",null,null,null,null,null,null,"人",null,"＜献立＞"]
[null,null,null,null,null,null,"中学校卒業後の\n子ども（※）",null,null,null,null,null,null,"人"]
[null,null,null,null,null,null,"小計",null,null,null,{"$f":"K540+K541+K542+K543","v":0},null,null,"人"]
[null,null,null,null,null,null,"大人",null,null,null,null,null,null,"人"]
[null,null,null,null,null,"スタッフ数\n（ボランティアも含めて記入）",null,null,null,null,null,null,null,"人"]
[null,null,"日",null,null,"参加費収入",null,null,null,null,null,null,null,"人分",null,null,null,"円"]
[null,null,null,null,null,"スタッフ等謝礼金支払い",null,null,null,null,null,null,null,"人分",null,null,null,"円"]
[null,"(",null,null,")","○上記の「参加費収入」と「ｽﾀｯﾌ等謝礼金」の金額は、\n各回の出納帳に記載する金額と一致させてください。"]
[null,null,null,null,null,"自由記入欄（実施の効果や課題など）"]
[]
[]
[]
[]
[]
[null,null,null,null,null,"参加人数","幼児",null,null,null,null,null,null,"人","食事","子どもへの準備食数"]
[null,null,null,null,null,null,"小学生",null,null,null,null,null,null,"人",null,null,null,null,"食"]
[null,null,null,null,null,null,"中学生",null,null,null,null,null,null,"人",null,"＜献立＞"]
[null,null,null,null,null,null,"中学校卒業後の\n子ども（※）",null,null,null,null,null,null,"人"]
[null,null,null,null,null,null,"小計",null,null,null,{"$f":"K556+K557+K558+K559","v":0},null,null,"人"]
[null,null,null,null,null,null,"大人",null,null,null,null,null,null,"人"]
[null,null,null,null,null,"スタッフ数\n（ボランティアも含めて記入）",null,null,null,null,null,null,null,"人"]
[null,null,"日",null,null,"参加費収入",null,null,null,null,null,null,null,"人分",null,null,null,"円"]
[null,null,null,null,null,"スタッフ等謝礼金支払い",null,null,null,null,null,null,null,"人分",null,null,null,"円"]
[null,"(",null,null,")","○上記の「参加費収入」と「ｽﾀｯﾌ等謝礼金」の金額は、\n各回の出納帳に記載する金額と一致させてください。"]
[null,null,null,null,null,"自由記入欄（実施の効果や課題など）"]
[]
[]
[]
[]
[]
[null,"※中学校卒業後から１８歳に達する日以後の最初の３月３１日までにある子ども。高校生など。"]
[null,null,"（　",{"$f":"D539","v":10},null,null,"月）- ②　",null,null,"食堂名",null,null,null,"(",{"$f":"O539","v":0},null,null,null,null,")"]
[null,null,null,null,null,"参加人数","幼児",null,null,null,null,null,null,"人","食事","子どもへの準備食数"]
[null,null,null,null,null,null,"小学生",null,null,null,null,null,null,"人",null,null,null,null,"食"]
[null,null,null,null,null,null,"中学生",null,null,null,null,null,null,"人",null,"＜献立＞"]
[null,null,null,null,null,null,"中学校卒業後の\n子ども（※）",null,null,null,null,null,null,"人"]
[null,null,null,null,null,null,"小計",null,null,null,{"$f":"K574+K575+K576+K577","v":0},null,null,"人"]
[null,null,null,null,null,null,"大人",null,null,null,null,null,null,"人"]
[null,null,null,null,null,"スタッフ数\n（ボランティアも含めて記入）",null,null,null,null,null,null,null,"人"]
[null,null,"日",null,null,"参加費収入",null,null,null,null,null,null,null,"人分",null,null,null,"円"]
[null,null,null,null,null,"スタッフ等謝礼金支払い",null,null,null,null,null,null,null,"人分",null,null,null,"円"]
[null,"(",null,null,")","○上記の「参加費収入」と「ｽﾀｯﾌ等謝礼金」の金額は、\n各回の出納帳に記載する金額と一致させてください。"]
[null,null,null,null,null,"自由記入欄（実施の効果や課題など）"]
[]
[]
[]
[]
[]
[null,null,null,null,null,"参加人数","幼児",null,null,null,null,null,null,"人","食事","子どもへの準備食数"]
[null,null,null,null,null,null,"小学生",null,null,null,null,null,null,"人",null,49,null,null,"食"]
[null,null,null,null,null,null,"中学生",null,null,null,null,null,null,"人",null,"＜献立＞"]
[null,null,null,null,null,null,"中学校卒業後の\n子ども（※）",null,null,null,null,null,null,"人"]
[null,null,null,null,null,null,"小計",null,null,null,{"$f":"K590+K591+K592+K593","v":0},null,null,"人"]
[null,null,null,null,null,null,"大人",null,null,null,null,null,null,"人"]
[null,null,null,null,null,"スタッフ数\n（ボランティアも含めて記入）",null,null,null,null,null,null,null,"人"]
[null,null,"日",null,null,"参加費収入",null,null,null,null,null,null,null,"人分",null,null,null,"円"]
[null,null,null,null,null,"スタッフ等謝礼金支払い",null,null,null,null,null,null,null,"人分",null,null,null,"円"]
[null,"(",null,null,")","○上記の「参加費収入」と「ｽﾀｯﾌ等謝礼金」の金額は、\n各回の出納帳に記載する金額と一致させてください。"]
[null,null,null,null,null,"自由記入欄（実施の効果や課題など）"]
[]
[]
[]
[]
[]
[null,"※中学校卒業後から１８歳に達する日以後の最初の３月３１日までにある子ども。高校生など。"]
[null,null,"（　",{"$f":"D573","v":10},null,null,"月）- ③　",null,null,"食堂名",null,null,null,"(",{"$f":"O539","v":0},null,null,null,null,")"]
[null,null,null,null,null,"参加人数","幼児",null,null,null,null,null,null,"人","食事","子どもへの準備食数"]
[null,null,null,null,null,null,"小学生",null,null,null,null,null,null,"人",null,null,null,null,"食"]
[null,null,null,null,null,null,"中学生",null,null,null,null,null,null,"人",null,"＜献立＞"]
[null,null,null,null,null,null,"中学校卒業後の\n子ども（※）",null,null,null,null,null,null,"人"]
[null,null,null,null,null,null,"小計",null,null,null,{"$f":"K608+K609+K610+K611","v":0},null,null,"人"]
[null,null,null,null,null,null,"大人",null,null,null,null,null,null,"人"]
[null,null,null,null,null,"スタッフ数\n（ボランティアも含めて記入）",null,null,null,null,null,null,null,"人"]
[null,null,"日",null,null,"参加費収入",null,null,null,null,null,null,null,"人分",null,null,null,"円"]
[null,null,null,null,null,"スタッフ等謝礼金支払い",null,null,null,null,null,null,null,"人分",null,null,null,"円"]
[null,"(",null,null,")","○上記の「参加費収入」と「ｽﾀｯﾌ等謝礼金」の金額は、\n各回の出納帳に記載する金額と一致させてください。"]
[null,null,null,null,null,"自由記入欄（実施の効果や課題など）"]
[]
[]
[]
[]
[]
[null,"（様式第1２号）",null,null,null,"事業実施月の翌月8日までにメール、FAXなどで提出してください。\nEmail：kodosei@city.hirakata.osaka.jp  FAX：072-843-2244"]
[]
[null,null,null,"令和",null,null,null,7,"年度　子どもの居場所づくり推進事業"]
[null,null,null,"月　例　報　告　書"]
[null,null,"（　",11,null,null,"月）- ①　",null,null,"食堂名",null,null,null,"(",{"$f":"'4月'!O628:S628","v":0},null,null,null,null,")"]
[null,null,null,null,null,"参加人数","幼児",null,null,null,null,null,null,"人","食事","子どもへの準備食数"]
[null,null,null,null,null,null,"小学生",null,null,null,null,null,null,"人",null,null,null,null,"食"]
[null,null,null,null,null,null,"中学生",null,null,null,null,null,null,"人",null,"＜献立＞"]
[null,null,null,null,null,null,"中学校卒業後の\n子ども（※）",null,null,null,null,null,null,"人"]
[null,null,null,null,null,null,"小計",null,null,null,{"$f":"K629+K630+K631+K632","v":0},null,null,"人"]
[null,null,null,null,null,null,"大人",null,null,null,null,null,null,"人"]
[null,null,null,null,null,"スタッフ数\n（ボランティアも含めて記入）",null,null,null,null,null,null,null,"人"]
[null,null,"日",null,null,"参加費収入",null,null,null,null,null,null,null,"人分",null,null,null,"円"]
[null,null,null,null,null,"スタッフ等謝礼金支払い",null,null,null,null,null,null,null,"人分",null,null,null,"円"]
[null,"(",null,null,")","○上記の「参加費収入」と「ｽﾀｯﾌ等謝礼金」の金額は、\n各回の出納帳に記載する金額と一致させてください。"]
[null,null,null,null,null,"自由記入欄（実施の効果や課題など）"]
[]
[]
[]
[]
[]
[null,null,null,null,null,"参加人数","幼児",null,null,null,null,null,null,"人","食事","子どもへの準備食数"]
[null,null,null,null,null,null,"小学生",null,null,null,null,null,null,"人",null,null,null,null,"食"]
[null,null,null,null,null,null,"中学生",null,null,null,null,null,null,"人",null,"＜献立＞"]
[null,null,null,null,null,null,"中学校卒業後の\n子ども（※）",null,null,null,null,null,null,"人"]
[null,null,null,null,null,null,"小計",null,null,null,{"$f":"K645+K646+K647+K648","v":0},null,null,"人"]
[null,null,null,null,null,null,"大人",null,null,null,null,null,null,"人"]
[null,null,null,null,null,"スタッフ数\n（ボランティアも含めて記入）",null,null,null,null,null,null,null,"人"]
[null,null,"日",null,null,"参加費収入",null,null,null,null,null,null,null,"人分",null,null,null,"円"]
[null,null,null,null,null,"スタッフ等謝礼金支払い",null,null,null,null,null,null,null,"人分",null,null,null,"円"]
[null,"(",null,null,")","○上記の「参加費収入」と「ｽﾀｯﾌ等謝礼金」の金額は、\n各回の出納帳に記載する金額と一致させてください。"]
[null,null,null,null,null,"自由記入欄（実施の効果や課題など）"]
[]
[]
[]
[]
[]
[null,"※中学校卒業後から１８歳に達する日以後の最初の３月３１日までにある子ども。高校生など。"]
[null,null,"（　",{"$f":"D628","v":11},null,null,"月）- ②　",null,null,"食堂名",null,null,null,"(",{"$f":"O628","v":0},null,null,null,null,")"]
[null,null,null,null,null,"参加人数","幼児",null,null,null,null,null,null,"人","食事","子どもへの準備食数"]
[null,null,null,null,null,null,"小学生",null,null,null,null,null,null,"人",null,null,null,null,"食"]
[null,null,null,null,null,null,"中学生",null,null,null,null,null,null,"人",null,"＜献立＞"]
[null,null,null,null,null,null,"中学校卒業後の\n子ども（※）",null,null,null,null,null,null,"人"]
[null,null,null,null,null,null,"小計",null,null,null,{"$f":"K663+K664+K665+K666","v":0},null,null,"人"]
[null,null,null,null,null,null,"大人",null,null,null,null,null,null,"人"]
[null,null,null,null,null,"スタッフ数\n（ボランティアも含めて記入）",null,null,null,null,null,null,null,"人"]
[null,null,"日",null,null,"参加費収入",null,null,null,null,null,null,null,"人分",null,null,null,"円"]
[null,null,null,null,null,"スタッフ等謝礼金支払い",null,null,null,null,null,null,null,"人分",null,null,null,"円"]
[null,"(",null,null,")","○上記の「参加費収入」と「ｽﾀｯﾌ等謝礼金」の金額は、\n各回の出納帳に記載する金額と一致させてください。"]
[null,null,null,null,null,"自由記入欄（実施の効果や課題など）"]
[]
[]
[]
[]
[]
[null,null,null,null,null,"参加人数","幼児",null,null,null,null,null,null,"人","食事","子どもへの準備食数"]
[null,null,null,null,null,null,"小学生",null,null,null,null,null,null,"人",null,49,null,null,"食"]
[null,null,null,null,null,null,"中学生",null,null,null,null,null,null,"人",null,"＜献立＞"]
[null,null,null,null,null,null,"中学校卒業後の\n子ども（※）",null,null,null,null,null,null,"人"]
[null,null,null,null,null,null,"小計",null,null,null,{"$f":"K679+K680+K681+K682","v":0},null,null,"人"]
[null,null,null,null,null,null,"大人",null,null,null,null,null,null,"人"]
[null,null,null,null,null,"スタッフ数\n（ボランティアも含めて記入）",null,null,null,null,null,null,null,"人"]
[null,null,"日",null,null,"参加費収入",null,null,null,null,null,null,null,"人分",null,null,null,"円"]
[null,null,null,null,null,"スタッフ等謝礼金支払い",null,null,null,null,null,null,null,"人分",null,null,null,"円"]
[null,"(",null,null,")","○上記の「参加費収入」と「ｽﾀｯﾌ等謝礼金」の金額は、\n各回の出納帳に記載する金額と一致させてください。"]
[null,null,null,null,null,"自由記入欄（実施の効果や課題など）"]
[]
[]
[]
[]
[]
[null,"※中学校卒業後から１８歳に達する日以後の最初の３月３１日までにある子ども。高校生など。"]
[null,null,"（　",{"$f":"D662","v":11},null,null,"月）- ③　",null,null,"食堂名",null,null,null,"(",{"$f":"O628","v":0},null,null,null,null,")"]
[null,null,null,null,null,"参加人数","幼児",null,null,null,null,null,null,"人","食事","子どもへの準備食数"]
[null,null,null,null,null,null,"小学生",null,null,null,null,null,null,"人",null,null,null,null,"食"]
[null,null,null,null,null,null,"中学生",null,null,null,null,null,null,"人",null,"＜献立＞"]
[null,null,null,null,null,null,"中学校卒業後の\n子ども（※）",null,null,null,null,null,null,"人"]
[null,null,null,null,null,null,"小計",null,null,null,{"$f":"K697+K698+K699+K700","v":0},null,null,"人"]
[null,null,null,null,null,null,"大人",null,null,null,null,null,null,"人"]
[null,null,null,null,null,"スタッフ数\n（ボランティアも含めて記入）",null,null,null,null,null,null,null,"人"]
[null,null,"日",null,null,"参加費収入",null,null,null,null,null,null,null,"人分",null,null,null,"円"]
[null,null,null,null,null,"スタッフ等謝礼金支払い",null,null,null,null,null,null,null,"人分",null,null,null,"円"]
[null,"(",null,null,")","○上記の「参加費収入」と「ｽﾀｯﾌ等謝礼金」の金額は、\n各回の出納帳に記載する金額と一致させてください。"]
[null,null,null,null,null,"自由記入欄（実施の効果や課題など）"]
[]
[]
[]
[]
[]
[null,"（様式第1２号）",null,null,null,"事業実施月の翌月8日までにメール、FAXなどで提出してください。\nEmail：kodosei@city.hirakata.osaka.jp  FAX：072-843-2244"]
[]
[null,null,null,"令和",null,null,null,7,"年度　子どもの居場所づくり推進事業"]
[null,null,null,"月　例　報　告　書"]
[null,null,"（　",12,null,null,"月）- ①　",null,null,"食堂名",null,null,null,"(",{"$f":"'4月'!O717:S717","v":0},null,null,null,null,")"]
[null,null,null,null,null,"参加人数","幼児",null,null,null,null,null,null,"人","食事","子どもへの準備食数"]
[null,null,null,null,null,null,"小学生",null,null,null,null,null,null,"人",null,null,null,null,"食"]
[null,null,null,null,null,null,"中学生",null,null,null,null,null,null,"人",null,"＜献立＞"]
[null,null,null,null,null,null,"中学校卒業後の\n子ども（※）",null,null,null,null,null,null,"人"]
[null,null,null,null,null,null,"小計",null,null,null,{"$f":"K718+K719+K720+K721","v":0},null,null,"人"]
[null,null,null,null,null,null,"大人",null,null,null,null,null,null,"人"]
[null,null,null,null,null,"スタッフ数\n（ボランティアも含めて記入）",null,null,null,null,null,null,null,"人"]
[null,null,"日",null,null,"参加費収入",null,null,null,null,null,null,null,"人分",null,null,null,"円"]
[null,null,null,null,null,"スタッフ等謝礼金支払い",null,null,null,null,null,null,null,"人分",null,null,null,"円"]
[null,"(",null,null,")","○上記の「参加費収入」と「ｽﾀｯﾌ等謝礼金」の金額は、\n各回の出納帳に記載する金額と一致させてください。"]
[null,null,null,null,null,"自由記入欄（実施の効果や課題など）"]
[]
[]
[]
[]
[]
[null,null,null,null,null,"参加人数","幼児",null,null,null,null,null,null,"人","食事","子どもへの準備食数"]
[null,null,null,null,null,null,"小学生",null,null,null,null,null,null,"人",null,null,null,null,"食"]
[null,null,null,null,null,null,"中学生",null,null,null,null,null,null,"人",null,"＜献立＞"]
[null,null,null,null,null,null,"中学校卒業後の\n子ども（※）",null,null,null,null,null,null,"人"]
[null,null,null,null,null,null,"小計",null,null,null,{"$f":"K734+K735+K736+K737","v":0},null,null,"人"]
[null,null,null,null,null,null,"大人",null,null,null,null,null,null,"人"]
[null,null,null,null,null,"スタッフ数\n（ボランティアも含めて記入）",null,null,null,null,null,null,null,"人"]
[null,null,"日",null,null,"参加費収入",null,null,null,null,null,null,null,"人分",null,null,null,"円"]
[null,null,null,null,null,"スタッフ等謝礼金支払い",null,null,null,null,null,null,null,"人分",null,null,null,"円"]
[null,"(",null,null,")","○上記の「参加費収入」と「ｽﾀｯﾌ等謝礼金」の金額は、\n各回の出納帳に記載する金額と一致させてください。"]
[null,null,null,null,null,"自由記入欄（実施の効果や課題など）"]
[]
[]
[]
[]
[]
[null,"※中学校卒業後から１８歳に達する日以後の最初の３月３１日までにある子ども。高校生など。"]
[null,null,"（　",{"$f":"D717","v":12},null,null,"月）- ②　",null,null,"食堂名",null,null,null,"(",{"$f":"O717","v":0},null,null,null,null,")"]
[null,null,null,null,null,"参加人数","幼児",null,null,null,null,null,null,"人","食事","子どもへの準備食数"]
[null,null,null,null,null,null,"小学生",null,null,null,null,null,null,"人",null,null,null,null,"食"]
[null,null,null,null,null,null,"中学生",null,null,null,null,null,null,"人",null,"＜献立＞"]
[null,null,null,null,null,null,"中学校卒業後の\n子ども（※）",null,null,null,null,null,null,"人"]
[null,null,null,null,null,null,"小計",null,null,null,{"$f":"K752+K753+K754+K755","v":0},null,null,"人"]
[null,null,null,null,null,null,"大人",null,null,null,null,null,null,"人"]
[null,null,null,null,null,"スタッフ数\n（ボランティアも含めて記入）",null,null,null,null,null,null,null,"人"]
[null,null,"日",null,null,"参加費収入",null,null,null,null,null,null,null,"人分",null,null,null,"円"]
[null,null,null,null,null,"スタッフ等謝礼金支払い",null,null,null,null,null,null,null,"人分",null,null,null,"円"]
[null,"(",null,null,")","○上記の「参加費収入」と「ｽﾀｯﾌ等謝礼金」の金額は、\n各回の出納帳に記載する金額と一致させてください。"]
[null,null,null,null,null,"自由記入欄（実施の効果や課題など）"]
[]
[]
[]
[]
[]
[null,null,null,null,null,"参加人数","幼児",null,null,null,null,null,null,"人","食事","子どもへの準備食数"]
[null,null,null,null,null,null,"小学生",null,null,null,null,null,null,"人",null,49,null,null,"食"]
[null,null,null,null,null,null,"中学生",null,null,null,null,null,null,"人",null,"＜献立＞"]
[null,null,null,null,null,null,"中学校卒業後の\n子ども（※）",null,null,null,null,null,null,"人"]
[null,null,null,null,null,null,"小計",null,null,null,{"$f":"K768+K769+K770+K771","v":0},null,null,"人"]
[null,null,null,null,null,null,"大人",null,null,null,null,null,null,"人"]
[null,null,null,null,null,"スタッフ数\n（ボランティアも含めて記入）",null,null,null,null,null,null,null,"人"]
[null,null,"日",null,null,"参加費収入",null,null,null,null,null,null,null,"人分",null,null,null,"円"]
[null,null,null,null,null,"スタッフ等謝礼金支払い",null,null,null,null,null,null,null,"人分",null,null,null,"円"]
[null,"(",null,null,")","○上記の「参加費収入」と「ｽﾀｯﾌ等謝礼金」の金額は、\n各回の出納帳に記載する金額と一致させてください。"]
[null,null,null,null,null,"自由記入欄（実施の効果や課題など）"]
[]
[]
[]
[]
[]
[null,"※中学校卒業後から１８歳に達する日以後の最初の３月３１日までにある子ども。高校生など。"]
[null,null,"（　",{"$f":"D751","v":12},null,null,"月）- ③　",null,null,"食堂名",null,null,null,"(",{"$f":"O717","v":0},null,null,null,null,")"]
[null,null,null,null,null,"参加人数","幼児",null,null,null,null,null,null,"人","食事","子どもへの準備食数"]
[null,null,null,null,null,null,"小学生",null,null,null,null,null,null,"人",null,null,null,null,"食"]
[null,null,null,null,null,null,"中学生",null,null,null,null,null,null,"人",null,"＜献立＞"]
[null,null,null,null,null,null,"中学校卒業後の\n子ども（※）",null,null,null,null,null,null,"人"]
[null,null,null,null,null,null,"小計",null,null,null,{"$f":"K786+K787+K788+K789","v":0},null,null,"人"]
[null,null,null,null,null,null,"大人",null,null,null,null,null,null,"人"]
[null,null,null,null,null,"スタッフ数\n（ボランティアも含めて記入）",null,null,null,null,null,null,null,"人"]
[null,null,"日",null,null,"参加費収入",null,null,null,null,null,null,null,"人分",null,null,null,"円"]
[null,null,null,null,null,"スタッフ等謝礼金支払い",null,null,null,null,null,null,null,"人分",null,null,null,"円"]
[null,"(",null,null,")","○上記の「参加費収入」と「ｽﾀｯﾌ等謝礼金」の金額は、\n各回の出納帳に記載する金額と一致させてください。"]
[null,null,null,null,null,"自由記入欄（実施の効果や課題など）"]
[]
[]
[]
[]
[]
[null,"（様式第1２号）",null,null,null,"事業実施月の翌月8日までにメール、FAXなどで提出してください。\nEmail：kodosei@city.hirakata.osaka.jp  FAX：072-843-2244"]
[]
[null,null,null,"令和",null,null,null,7,"年度　子どもの居場所づくり推進事業"]
[null,null,null,"月　例　報　告　書"]
[null,null,"（　",1,null,null,"月）- ①　",null,null,"食堂名",null,null,null,"(",{"$f":"'4月'!O806:S806","v":0},null,null,null,null,")"]
[null,null,null,null,null,"参加人数","幼児",null,null,null,null,null,null,"人","食事","子どもへの準備食数"]
[null,null,null,null,null,null,"小学生",null,null,null,null,null,null,"人",null,null,null,null,"食"]
[null,null,null,null,null,null,"中学生",null,null,null,null,null,null,"人",null,"＜献立＞"]
[null,null,null,null,null,null,"中学校卒業後の\n子ども（※）",null,null,null,null,null,null,"人"]
[null,null,null,null,null,null,"小計",null,null,null,{"$f":"K807+K808+K809+K810","v":0},null,null,"人"]
[null,null,null,null,null,null,"大人",null,null,null,null,null,null,"人"]
[null,null,null,null,null,"スタッフ数\n（ボランティアも含めて記入）",null,null,null,null,null,null,null,"人"]
[null,null,"日",null,null,"参加費収入",null,null,null,null,null,null,null,"人分",null,null,null,"円"]
[null,null,null,null,null,"スタッフ等謝礼金支払い",null,null,null,null,null,null,null,"人分",null,null,null,"円"]
[null,"(",null,null,")","○上記の「参加費収入」と「ｽﾀｯﾌ等謝礼金」の金額は、\n各回の出納帳に記載する金額と一致させてください。"]
[null,null,null,null,null,"自由記入欄（実施の効果や課題など）"]
[]
[]
[]
[]
[]
[null,null,null,null,null,"参加人数","幼児",null,null,null,null,null,null,"人","食事","子どもへの準備食数"]
[null,null,null,null,null,null,"小学生",null,null,null,null,null,null,"人",null,null,null,null,"食"]
[null,null,null,null,null,null,"中学生",null,null,null,null,null,null,"人",null,"＜献立＞"]
[null,null,null,null,null,null,"中学校卒業後の\n子ども（※）",null,null,null,null,null,null,"人"]
[null,null,null,null,null,null,"小計",null,null,null,{"$f":"K823+K824+K825+K826","v":0},null,null,"人"]
[null,null,null,null,null,null,"大人",null,null,null,null,null,null,"人"]
[null,null,null,null,null,"スタッフ数\n（ボランティアも含めて記入）",null,null,null,null,null,null,null,"人"]
[null,null,"日",null,null,"参加費収入",null,null,null,null,null,null,null,"人分",null,null,null,"円"]
[null,null,null,null,null,"スタッフ等謝礼金支払い",null,null,null,null,null,null,null,"人分",null,null,null,"円"]
[null,"(",null,null,")","○上記の「参加費収入」と「ｽﾀｯﾌ等謝礼金」の金額は、\n各回の出納帳に記載する金額と一致させてください。"]
[null,null,null,null,null,"自由記入欄（実施の効果や課題など）"]
[]
[]
[]
[]
[]
[null,"※中学校卒業後から１８歳に達する日以後の最初の３月３１日までにある子ども。高校生など。"]
[null,null,"（　",{"$f":"D806","v":1},null,null,"月）- ②　",null,null,"食堂名",null,null,null,"(",{"$f":"O806","v":0},null,null,null,null,")"]
[null,null,null,null,null,"参加人数","幼児",null,null,null,null,null,null,"人","食事","子どもへの準備食数"]
[null,null,null,null,null,null,"小学生",null,null,null,null,null,null,"人",null,null,null,null,"食"]
[null,null,null,null,null,null,"中学生",null,null,null,null,null,null,"人",null,"＜献立＞"]
[null,null,null,null,null,null,"中学校卒業後の\n子ども（※）",null,null,null,null,null,null,"人"]
[null,null,null,null,null,null,"小計",null,null,null,{"$f":"K841+K842+K843+K844","v":0},null,null,"人"]
[null,null,null,null,null,null,"大人",null,null,null,null,null,null,"人"]
[null,null,null,null,null,"スタッフ数\n（ボランティアも含めて記入）",null,null,null,null,null,null,null,"人"]
[null,null,"日",null,null,"参加費収入",null,null,null,null,null,null,null,"人分",null,null,null,"円"]
[null,null,null,null,null,"スタッフ等謝礼金支払い",null,null,null,null,null,null,null,"人分",null,null,null,"円"]
[null,"(",null,null,")","○上記の「参加費収入」と「ｽﾀｯﾌ等謝礼金」の金額は、\n各回の出納帳に記載する金額と一致させてください。"]
[null,null,null,null,null,"自由記入欄（実施の効果や課題など）"]
[]
[]
[]
[]
[]
[null,null,null,null,null,"参加人数","幼児",null,null,null,null,null,null,"人","食事","子どもへの準備食数"]
[null,null,null,null,null,null,"小学生",null,null,null,null,null,null,"人",null,49,null,null,"食"]
[null,null,null,null,null,null,"中学生",null,null,null,null,null,null,"人",null,"＜献立＞"]
[null,null,null,null,null,null,"中学校卒業後の\n子ども（※）",null,null,null,null,null,null,"人"]
[null,null,null,null,null,null,"小計",null,null,null,{"$f":"K857+K858+K859+K860","v":0},null,null,"人"]
[null,null,null,null,null,null,"大人",null,null,null,null,null,null,"人"]
[null,null,null,null,null,"スタッフ数\n（ボランティアも含めて記入）",null,null,null,null,null,null,null,"人"]
[null,null,"日",null,null,"参加費収入",null,null,null,null,null,null,null,"人分",null,null,null,"円"]
[null,null,null,null,null,"スタッフ等謝礼金支払い",null,null,null,null,null,null,null,"人分",null,null,null,"円"]
[null,"(",null,null,")","○上記の「参加費収入」と「ｽﾀｯﾌ等謝礼金」の金額は、\n各回の出納帳に記載する金額と一致させてください。"]
[null,null,null,null,null,"自由記入欄（実施の効果や課題など）"]
[]
[]
[]
[]
[]
[null,"※中学校卒業後から１８歳に達する日以後の最初の３月３１日までにある子ども。高校生など。"]
[null,null,"（　",{"$f":"D840","v":1},null,null,"月）- ③　",null,null,"食堂名",null,null,null,"(",{"$f":"O806","v":0},null,null,null,null,")"]
[null,null,null,null,null,"参加人数","幼児",null,null,null,null,null,null,"人","食事","子どもへの準備食数"]
[null,null,null,null,null,null,"小学生",null,null,null,null,null,null,"人",null,null,null,null,"食"]
[null,null,null,null,null,null,"中学生",null,null,null,null,null,null,"人",null,"＜献立＞"]
[null,null,null,null,null,null,"中学校卒業後の\n子ども（※）",null,null,null,null,null,null,"人"]
[null,null,null,null,null,null,"小計",null,null,null,{"$f":"K875+K876+K877+K878","v":0},null,null,"人"]
[null,null,null,null,null,null,"大人",null,null,null,null,null,null,"人"]
[null,null,null,null,null,"スタッフ数\n（ボランティアも含めて記入）",null,null,null,null,null,null,null,"人"]
[null,null,"日",null,null,"参加費収入",null,null,null,null,null,null,null,"人分",null,null,null,"円"]
[null,null,null,null,null,"スタッフ等謝礼金支払い",null,null,null,null,null,null,null,"人分",null,null,null,"円"]
[null,"(",null,null,")","○上記の「参加費収入」と「ｽﾀｯﾌ等謝礼金」の金額は、\n各回の出納帳に記載する金額と一致させてください。"]
[null,null,null,null,null,"自由記入欄（実施の効果や課題など）"]
[]
[]
[]
[]
[]
[null,"（様式第1２号）",null,null,null,"事業実施月の翌月8日までにメール、FAXなどで提出してください。\nEmail：kodosei@city.hirakata.osaka.jp  FAX：072-843-2244"]
[]
[null,null,null,"令和",null,null,null,7,"年度　子どもの居場所づくり推進事業"]
[null,null,null,"月　例　報　告　書"]
[null,null,"（　",2,null,null,"月）- ①　",null,null,"食堂名",null,null,null,"(",{"$f":"'4月'!O895:S895","v":0},null,null,null,null,")"]
[null,null,null,null,null,"参加人数","幼児",null,null,null,null,null,null,"人","食事","子どもへの準備食数"]
[null,null,null,null,null,null,"小学生",null,null,null,null,null,null,"人",null,null,null,null,"食"]
[null,null,null,null,null,null,"中学生",null,null,null,null,null,null,"人",null,"＜献立＞"]
[null,null,null,null,null,null,"中学校卒業後の\n子ども（※）",null,null,null,null,null,null,"人"]
[null,null,null,null,null,null,"小計",null,null,null,{"$f":"K896+K897+K898+K899","v":0},null,null,"人"]
[null,null,null,null,null,null,"大人",null,null,null,null,null,null,"人"]
[null,null,null,null,null,"スタッフ数\n（ボランティアも含めて記入）",null,null,null,null,null,null,null,"人"]
[null,null,"日",null,null,"参加費収入",null,null,null,null,null,null,null,"人分",null,null,null,"円"]
[null,null,null,null,null,"スタッフ等謝礼金支払い",null,null,null,null,null,null,null,"人分",null,null,null,"円"]
[null,"(",null,null,")","○上記の「参加費収入」と「ｽﾀｯﾌ等謝礼金」の金額は、\n各回の出納帳に記載する金額と一致させてください。"]
[null,null,null,null,null,"自由記入欄（実施の効果や課題など）"]
[]
[]
[]
[]
[]
[null,null,null,null,null,"参加人数","幼児",null,null,null,null,null,null,"人","食事","子どもへの準備食数"]
[null,null,null,null,null,null,"小学生",null,null,null,null,null,null,"人",null,null,null,null,"食"]
[null,null,null,null,null,null,"中学生",null,null,null,null,null,null,"人",null,"＜献立＞"]
[null,null,null,null,null,null,"中学校卒業後の\n子ども（※）",null,null,null,null,null,null,"人"]
[null,null,null,null,null,null,"小計",null,null,null,{"$f":"K912+K913+K914+K915","v":0},null,null,"人"]
[null,null,null,null,null,null,"大人",null,null,null,null,null,null,"人"]
[null,null,null,null,null,"スタッフ数\n（ボランティアも含めて記入）",null,null,null,null,null,null,null,"人"]
[null,null,"日",null,null,"参加費収入",null,null,null,null,null,null,null,"人分",null,null,null,"円"]
[null,null,null,null,null,"スタッフ等謝礼金支払い",null,null,null,null,null,null,null,"人分",null,null,null,"円"]
[null,"(",null,null,")","○上記の「参加費収入」と「ｽﾀｯﾌ等謝礼金」の金額は、\n各回の出納帳に記載する金額と一致させてください。"]
[null,null,null,null,null,"自由記入欄（実施の効果や課題など）"]
[]
[]
[]
[]
[]
[null,"※中学校卒業後から１８歳に達する日以後の最初の３月３１日までにある子ども。高校生など。"]
[null,null,"（　",{"$f":"D895","v":2},null,null,"月）- ②　",null,null,"食堂名",null,null,null,"(",{"$f":"O895","v":0},null,null,null,null,")"]
[null,null,null,null,null,"参加人数","幼児",null,null,null,null,null,null,"人","食事","子どもへの準備食数"]
[null,null,null,null,null,null,"小学生",null,null,null,null,null,null,"人",null,null,null,null,"食"]
[null,null,null,null,null,null,"中学生",null,null,null,null,null,null,"人",null,"＜献立＞"]
[null,null,null,null,null,null,"中学校卒業後の\n子ども（※）",null,null,null,null,null,null,"人"]
[null,null,null,null,null,null,"小計",null,null,null,{"$f":"K930+K931+K932+K933","v":0},null,null,"人"]
[null,null,null,null,null,null,"大人",null,null,null,null,null,null,"人"]
[null,null,null,null,null,"スタッフ数\n（ボランティアも含めて記入）",null,null,null,null,null,null,null,"人"]
[null,null,"日",null,null,"参加費収入",null,null,null,null,null,null,null,"人分",null,null,null,"円"]
[null,null,null,null,null,"スタッフ等謝礼金支払い",null,null,null,null,null,null,null,"人分",null,null,null,"円"]
[null,"(",null,null,")","○上記の「参加費収入」と「ｽﾀｯﾌ等謝礼金」の金額は、\n各回の出納帳に記載する金額と一致させてください。"]
[null,null,null,null,null,"自由記入欄（実施の効果や課題など）"]
[]
[]
[]
[]
[]
[null,null,null,null,null,"参加人数","幼児",null,null,null,null,null,null,"人","食事","子どもへの準備食数"]
[null,null,null,null,null,null,"小学生",null,null,null,null,null,null,"人",null,49,null,null,"食"]
[null,null,null,null,null,null,"中学生",null,null,null,null,null,null,"人",null,"＜献立＞"]
[null,null,null,null,null,null,"中学校卒業後の\n子ども（※）",null,null,null,null,null,null,"人"]
[null,null,null,null,null,null,"小計",null,null,null,{"$f":"K946+K947+K948+K949","v":0},null,null,"人"]
[null,null,null,null,null,null,"大人",null,null,null,null,null,null,"人"]
[null,null,null,null,null,"スタッフ数\n（ボランティアも含めて記入）",null,null,null,null,null,null,null,"人"]
[null,null,"日",null,null,"参加費収入",null,null,null,null,null,null,null,"人分",null,null,null,"円"]
[null,null,null,null,null,"スタッフ等謝礼金支払い",null,null,null,null,null,null,null,"人分",null,null,null,"円"]
[null,"(",null,null,")","○上記の「参加費収入」と「ｽﾀｯﾌ等謝礼金」の金額は、\n各回の出納帳に記載する金額と一致させてください。"]
[null,null,null,null,null,"自由記入欄（実施の効果や課題など）"]
[]
[]
[]
[]
[]
[null,"※中学校卒業後から１８歳に達する日以後の最初の３月３１日までにある子ども。高校生など。"]
[null,null,"（　",{"$f":"D929","v":2},null,null,"月）- ③　",null,null,"食堂名",null,null,null,"(",{"$f":"O895","v":0},null,null,null,null,")"]
[null,null,null,null,null,"参加人数","幼児",null,null,null,null,null,null,"人","食事","子どもへの準備食数"]
[null,null,null,null,null,null,"小学生",null,null,null,null,null,null,"人",null,null,null,null,"食"]
[null,null,null,null,null,null,"中学生",null,null,null,null,null,null,"人",null,"＜献立＞"]
[null,null,null,null,null,null,"中学校卒業後の\n子ども（※）",null,null,null,null,null,null,"人"]
[null,null,null,null,null,null,"小計",null,null,null,{"$f":"K964+K965+K966+K967","v":0},null,null,"人"]
[null,null,null,null,null,null,"大人",null,null,null,null,null,null,"人"]
[null,null,null,null,null,"スタッフ数\n（ボランティアも含めて記入）",null,null,null,null,null,null,null,"人"]
[null,null,"日",null,null,"参加費収入",null,null,null,null,null,null,null,"人分",null,null,null,"円"]
[null,null,null,null,null,"スタッフ等謝礼金支払い",null,null,null,null,null,null,null,"人分",null,null,null,"円"]
[null,"(",null,null,")","○上記の「参加費収入」と「ｽﾀｯﾌ等謝礼金」の金額は、\n各回の出納帳に記載する金額と一致させてください。"]
[null,null,null,null,null,"自由記入欄（実施の効果や課題など）"]
[]
[]
[]
[]
[]
[null,"（様式第1２号）",null,null,null,"事業実施月の翌月8日までにメール、FAXなどで提出してください。\nEmail：kodosei@city.hirakata.osaka.jp  FAX：072-843-2244"]
[]
[null,null,null,"令和",null,null,null,7,"年度　子どもの居場所づくり推進事業"]
[null,null,null,"月　例　報　告　書"]
[null,null,"（　",3,null,null,"月）- ①　",null,null,"食堂名",null,null,null,"(",{"$f":"'4月'!O984:S984","v":0},null,null,null,null,")"]
[null,null,null,null,null,"参加人数","幼児",null,null,null,null,null,null,"人","食事","子どもへの準備食数"]
[null,null,null,null,null,null,"小学生",null,null,null,null,null,null,"人",null,null,null,null,"食"]
[null,null,null,null,null,null,"中学生",null,null,null,null,null,null,"人",null,"＜献立＞"]
[null,null,null,null,null,null,"中学校卒業後の\n子ども（※）",null,null,null,null,null,null,"人"]
[null,null,null,null,null,null,"小計",null,null,null,{"$f":"K985+K986+K987+K988","v":0},null,null,"人"]
[null,null,null,null,null,null,"大人",null,null,null,null,null,null,"人"]
[null,null,null,null,null,"スタッフ数\n（ボランティアも含めて記入）",null,null,null,null,null,null,null,"人"]
[null,null,"日",null,null,"参加費収入",null,null,null,null,null,null,null,"人分",null,null,null,"円"]
[null,null,null,null,null,"スタッフ等謝礼金支払い",null,null,null,null,null,null,null,"人分",null,null,null,"円"]
[null,"(",null,null,")","○上記の「参加費収入」と「ｽﾀｯﾌ等謝礼金」の金額は、\n各回の出納帳に記載する金額と一致させてください。"]
[null,null,null,null,null,"自由記入欄（実施の効果や課題など）"]
[]
[]
[]
[]
[]
[null,null,null,null,null,"参加人数","幼児",null,null,null,null,null,null,"人","食事","子どもへの準備食数"]
[null,null,null,null,null,null,"小学生",null,null,null,null,null,null,"人",null,null,null,null,"食"]
[null,null,null,null,null,null,"中学生",null,null,null,null,null,null,"人",null,"＜献立＞"]
[null,null,null,null,null,null,"中学校卒業後の\n子ども（※）",null,null,null,null,null,null,"人"]
[null,null,null,null,null,null,"小計",null,null,null,{"$f":"K1001+K1002+K1003+K1004","v":0},null,null,"人"]
[null,null,null,null,null,null,"大人",null,null,null,null,null,null,"人"]
[null,null,null,null,null,"スタッフ数\n（ボランティアも含めて記入）",null,null,null,null,null,null,null,"人"]
[null,null,"日",null,null,"参加費収入",null,null,null,null,null,null,null,"人分",null,null,null,"円"]
[null,null,null,null,null,"スタッフ等謝礼金支払い",null,null,null,null,null,null,null,"人分",null,null,null,"円"]
[null,"(",null,null,")","○上記の「参加費収入」と「ｽﾀｯﾌ等謝礼金」の金額は、\n各回の出納帳に記載する金額と一致させてください。"]
[null,null,null,null,null,"自由記入欄（実施の効果や課題など）"]
[]
[]
[]
[]
[]
[null,"※中学校卒業後から１８歳に達する日以後の最初の３月３１日までにある子ども。高校生など。"]
[null,null,"（　",{"$f":"D984","v":3},null,null,"月）- ②　",null,null,"食堂名",null,null,null,"(",{"$f":"O984","v":0},null,null,null,null,")"]
[null,null,null,null,null,"参加人数","幼児",null,null,null,null,null,null,"人","食事","子どもへの準備食数"]
[null,null,null,null,null,null,"小学生",null,null,null,null,null,null,"人",null,null,null,null,"食"]
[null,null,null,null,null,null,"中学生",null,null,null,null,null,null,"人",null,"＜献立＞"]
[null,null,null,null,null,null,"中学校卒業後の\n子ども（※）",null,null,null,null,null,null,"人"]
[null,null,null,null,null,null,"小計",null,null,null,{"$f":"K1019+K1020+K1021+K1022","v":0},null,null,"人"]
[null,null,null,null,null,null,"大人",null,null,null,null,null,null,"人"]
[null,null,null,null,null,"スタッフ数\n（ボランティアも含めて記入）",null,null,null,null,null,null,null,"人"]
[null,null,"日",null,null,"参加費収入",null,null,null,null,null,null,null,"人分",null,null,null,"円"]
[null,null,null,null,null,"スタッフ等謝礼金支払い",null,null,null,null,null,null,null,"人分",null,null,null,"円"]
[null,"(",null,null,")","○上記の「参加費収入」と「ｽﾀｯﾌ等謝礼金」の金額は、\n各回の出納帳に記載する金額と一致させてください。"]
[null,null,null,null,null,"自由記入欄（実施の効果や課題など）"]
[]
[]
[]
[]
[]
[null,null,null,null,null,"参加人数","幼児",null,null,null,null,null,null,"人","食事","子どもへの準備食数"]
[null,null,null,null,null,null,"小学生",null,null,null,null,null,null,"人",null,49,null,null,"食"]
[null,null,null,null,null,null,"中学生",null,null,null,null,null,null,"人",null,"＜献立＞"]
[null,null,null,null,null,null,"中学校卒業後の\n子ども（※）",null,null,null,null,null,null,"人"]
[null,null,null,null,null,null,"小計",null,null,null,{"$f":"K1035+K1036+K1037+K1038","v":0},null,null,"人"]
[null,null,null,null,null,null,"大人",null,null,null,null,null,null,"人"]
[null,null,null,null,null,"スタッフ数\n（ボランティアも含めて記入）",null,null,null,null,null,null,null,"人"]
[null,null,"日",null,null,"参加費収入",null,null,null,null,null,null,null,"人分",null,null,null,"円"]
[null,null,null,null,null,"スタッフ等謝礼金支払い",null,null,null,null,null,null,null,"人分",null,null,null,"円"]
[null,"(",null,null,")","○上記の「参加費収入」と「ｽﾀｯﾌ等謝礼金」の金額は、\n各回の出納帳に記載する金額と一致させてください。"]
[null,null,null,null,null,"自由記入欄（実施の効果や課題など）"]
[]
[]
[]
[]
[]
[null,"※中学校卒業後から１８歳に達する日以後の最初の３月３１日までにある子ども。高校生など。"]
[null,null,"（　",{"$f":"D1018","v":3},null,null,"月）- ③　",null,null,"食堂名",null,null,null,"(",{"$f":"O984","v":0},null,null,null,null,")"]
[null,null,null,null,null,"参加人数","幼児",null,null,null,null,null,null,"人","食事","子どもへの準備食数"]
[null,null,null,null,null,null,"小学生",null,null,null,null,null,null,"人",null,null,null,null,"食"]
[null,null,null,null,null,null,"中学生",null,null,null,null,null,null,"人",null,"＜献立＞"]
[null,null,null,null,null,null,"中学校卒業後の\n子ども（※）",null,null,null,null,null,null,"人"]
[null,null,null,null,null,null,"小計",null,null,null,{"$f":"K1053+K1054+K1055+K1056","v":0},null,null,"人"]
[null,null,null,null,null,null,"大人",null,null,null,null,null,null,"人"]
[null,null,null,null,null,"スタッフ数\n（ボランティアも含めて記入）",null,null,null,null,null,null,null,"人"]
[null,null,"日",null,null,"参加費収入",null,null,null,null,null,null,null,"人分",null,null,null,"円"]
[null,null,null,null,null,"スタッフ等謝礼金支払い",null,null,null,null,null,null,null,"人分",null,null,null,"円"]
[null,"(",null,null,")","○上記の「参加費収入」と「ｽﾀｯﾌ等謝礼金」の金額は、\n各回の出納帳に記載する金額と一致させてください。"]
[null,null,null,null,null,"自由記入欄（実施の効果や課題など）"]